Workbook

Sheet Ex-Pump Prices 7th Oct 2026
B2: NATIONAL PETROLEUM AUTHORITY
B6: EX-PUMP PRICES OF OMCs/LPGMCs AS OF 7th October 2026
B8: NO. | C8: COMPANY | D8: REGULAR PETROL - RON 91 (GHS/Lt) | E8: PREMIUM PETROL - RON 95 (GHS/Lt) | F8: DIESEL (GHS/Lt) | G8: LPG (GHS/Kg) | H8: KEROSENE (GHS/Lt) | I8: MGO Local (GHS/Lt)
B9: 1 | C9: Agapet | D9: 17.92 | E9: - | F9: 18.95 | G9: - | H9: - | I9: -
B10: 2 | C10: Aegis huile | D10: 16.99 | E10: - | F10: 18.46 | G10: - | H10: - | I10: -
B11: 3 | C11: AI Energy | D11: 17.17 | E11: - | F11: 18.5 | G11: - | H11: - | I11: -
B12: 4 | C12: Allied Oil | D12: 16.99 | E12: - | F12: 18.45 | G12: - | H12: - | I12: -
B13: 5 | C13: Alive Gas | D13: - | E13: - | F13: - | G13: 17.5078 | H13: - | I13: -
B14: 6 | C14: Aminaser Oil | D14: 14.5 | E14: - | F14: 16.69 | G14: - | H14: - | I14: -
B15: 7 | C15: Anasset | D15: - | E15: - | F15: - | G15: 17.96 | H15: - | I15: -
B16: 8 | C16: Andev | D16: - | E16: - | F16: - | G16: 17.6078 | H16: - | I16: -
B17: 9 | C17: Annandale | D17: - | E17: - | F17: - | G17: 17.26 | H17: - | I17: -
B18: 11 | C18: Amdaway | D18: 16.64 | E18: - | F18: 18.3 | G18: - | H18: - | I18: -
B19: 12 | C19: Beap Energy | D19: 17.42 | E19: - | F19: 19.4 | G19: - | H19: - | I19: -
B20: 13 | C20: Benab Oil | D20: 16.5 | E20: - | F20: 18.36 | G20: 14.74 | H20: - | I20: -
B21: 14 | C21: Baffour Gas | D21: - | E21: - | F21: - | G21: 18.3589 | H21: - | I21: -
B22: 15 | C22: Bloom Petroleum | D22: 17.69 | E22: - | F22: 18.99 | G22: - | H22: - | I22: -
B23: 16 | C23: Breedlove Co. Ltd. | D23: 16.79 | E23: - | F23: 18.3 | G23: - | H23: - | I23: -
B24: 17 | C24: Brent Petroleum | D24: 17.17 | E24: - | F24: 18.96 | G24: - | H24: - | I24: -
B25: 18 | C25: Crown Petroleum | D25: 16.27 | E25: - | F25: 17.25 | G25: 17.6399 | H25: - | I25: -
B26: 19 | C26: Central Brent | D26: - | E26: - | F26: - | G26: 17.1578 | H26: - | I26: -
B27: 20 | C27: Cent Eastern | D27: - | E27: - | F27: - | G27: 16.6578 | H27: - | I27: -
B28: 21 | C28: Oil Space | D28: - | E28: - | F28: 16.78 | G28: 14.84 | H28: - | I28: -
B29: 22 | C29: Coegan | D29: - | E29: - | F29: - | G29: 18.1574 | H29: - | I29: -
B30: 23 | C30: Compass Oleum | D30: 17.7 | E30: - | F30: 18.65 | G30: - | H30: - | I30: -
B31: 24 | C31: Davis Petroleum | D31: 17.19 | E31: - | F31: 18.59 | G31: 18.0078 | H31: - | I31: -
B32: 25 | C32: Dejon Jones | D32: 17.97 | E32: - | F32: 19.35 | G32: - | H32: - | I32: -
B33: 26 | C33: Dessert Oil | D33: 18 | E33: - | F33: 20 | G33: - | H33: - | I33: -
B34: 27 | C34: Dukes Petroleum | D34: 16.5 | E34: - | F34: 18.4 | G34: 15.8578 | H34: - | I34: -
B35: 28 | C35: Eden Petroleum | D35: 16.77 | E35: - | F35: 17.77 | G35: - | H35: - | I35: -
B36: 29 | C36: Energetic Petro gh | D36: 17.47 | E36: - | F36: 18.75 | G36: - | H36: - | I36: -
B37: 30 | C37: Ex Oil | D37: 17.7 | E37: - | F37: 18.65 | G37: - | H37: - | I37: -
B38: 31 | C38: EV Oil | D38: 16.64 | E38: - | F38: 18.66 | G38: - | H38: - | I38: -
B39: 32 | C39: E-Windstar | D39: 16.99 | F39: 18.26 | G39: - | H39: - | I39: -
B40: 33 | C40: Eza Petroleum | D40: 17.45 | E40: - | F40: 18.83 | G40: - | H40: - | I40: -
B41: 34 | C41: First Gas | D41: - | E41: - | F41: - | G41: 16.3789 | H41: - | I41: -
B42: 35 | C42: Finest Oil | D42: 16.77 | E42: - | F42: 17.77 | G42: - | H42: - | I42: -
B43: 36 | C43: Frimps Oil | D43: 16.63 | E43: - | F43: 18.45 | G43: 14.78 | H43: - | I43: -
B44: 37 | C44: Frontier Oil | D44: 16.49 | E44: - | F44: 18.29 | G44: - | H44: - | I44: -
B45: 38 | C45: Gab Energy | D45: 16.76 | E45: - | F45: 17.76 | G45: - | H45: - | I45: -
B46: 39 | C46: GasoPetroleum | E46: - | G46: - | H46: - | I46: -
B47: 40 | C47: Gogas | D47: - | E47: - | F47: - | G47: 18.3589 | H47: - | I47: -
B48: 41 | C48: GOIL | D48: 16.64 | E48: 18.99 | F48: 18.46 | G48: 16.720408 | H48: 19.78 | I48: -
B49: 42 | C49: Goodness Energy | D49: 16.59 | E49: - | F49: 18.39 | G49: - | H49: - | I49: -
B50: 43 | C50: Gowell Energy | D50: 16.95 | E50: - | F50: 18.38 | G50: - | H50: - | I50: -
B51: 44 | C51: Green GG7 | D51: - | E51: - | F51: - | G51: 17.8108 | H51: - | I51: -
B52: 45 | C52: Henos Energy | D52: - | E52: - | F52: - | G52: 14.6578 | H52: - | I52: -
B53: 46 | C53: Hills Oil | D53: - | E53: - | F53: - | G53: 17.46 | H53: - | I53: -
B54: 47 | C54: Huss Petroleum | D54: 16.75 | E54: - | F54: 17.79 | G54: - | H54: - | I54: -
B55: 48 | C55: Icon Energy | D55: 16.59 | E55: - | F55: 18.66 | G55: - | H55: - | I55: -
B56: 49 | C56: Infin | D56: 17.49 | E56: - | F56: 18.49 | G56: 17.8078 | H56: - | I56: -
B57: 50 | C57: Joekona | D57: - | E57: - | F57: - | G57: 17.2578 | H57: - | I57: -
B58: 51 | C58: JD Links | D58: 16.75 | E58: - | F58: 17.75 | G58: 15.1622 | H58: - | I58: -
B59: 52 | C59: Jusbro | D59: 18.289 | E59: - | F59: 19.769 | G59: 17.2767 | H59: - | I59: -
B60: 53 | C60: JP Trustee | D60: 16.62 | E60: 18.97 | F60: 18.44 | G60: - | H60: - | I60: -
B61: 54 | C61: Kab Energy | D61: 17.35 | E61: - | F61: 18.55 | G61: - | H61: - | I61: -
B62: 55 | C62: Kaysens | D62: - | E62: - | F62: - | G62: 17.7774 | H62: - | I62: -
B63: 56 | C63: Koan Petroleum | D63: 16.5 | E63: - | F63: 18.4 | G63: 17.05 | H63: - | I63: -
B64: 57 | C64: KI Energy | D64: - | E64: - | F64: - | G64: 19.2578 | H64: - | I64: -
B65: 58 | C65: Kings Energy | D65: 16.77 | E65: - | F65: 18.45 | G65: - | H65: - | I65: -
B66: 59 | C66: La Clem | D66: 16.45 | E66: - | F66: 17.97 | G66: - | H66: - | I66: - | N66: ``
B67: 60 | C67: Lamininbee | D67: - | E67: - | F67: - | G67: 17.5578 | H67: - | I67: -
B68: 61 | C68: Lambark Gas | D68: - | E68: - | F68: - | G68: - | H68: - | I68: -
B69: 62 | C69: Lucky oil | D69: 16.6 | E69: - | F69: 18.4 | G69: 16.552 | H69: - | I69: -
B70: 63 | C70: Liberty Petroleum | D70: 17.6 | E70: - | F70: 18.6 | G70: - | H70: - | I70: -
B71: 64 | C71: Life Energy | D71: 16.77 | E71: - | F71: 17.77 | G71: - | H71: - | I71: -
B72: 65 | C72: Maxx Energy | D72: 15.15 | E72: - | F72: 17.37 | G72: - | H72: - | I72: -
B73: 66 | C73: Manbah Gas | D73: - | E73: - | F73: - | G73: 17.46 | H73: - | I73: -
B74: 67 | C74: Mercy Oil | D74: 17.69 | E74: - | F74: 18.64 | G74: - | H74: - | I74: -
B75: 68 | C75: Midas Oil | D75: - | E75: - | F75: - | G75: 17.8078 | H75: - | I75: -
B76: 69 | C76: Mighty Gas | D76: - | E76: - | F76: - | G76: 16.48 | H76: - | I76: -
B77: 70 | C77: Misa Energy | D77: 18.19 | E77: - | F77: 19.47 | G77: 16.2278 | H77: 17.16 | I77: 20.77
B78: 71 | C78: More Fuel | D78: 16.49 | E78: - | F78: 18.2 | G78: - | H78: - | I78: -
B79: 72 | C79: MM Energy | D79: 15.57 | E79: - | F79: 16.95 | G79: - | H79: - | I79: -
B80: 73 | C80: Naagamni | D80: 16.75 | E80: - | F80: 18.46 | G80: - | H80: - | I80: -
B81: 74 | C81: Nasona | D81: 17.3 | E81: - | F81: 18.65 | G81: - | H81: - | I81: -
B82: 75 | C82: Nexbons | D82: - | E82: - | F82: - | G82: 17.1478 | H82: - | I82: -
B83: 76 | C83: Next Petroleum | D83: 17.5 | E83: - | F83: 19.5 | G83: - | H83: - | I83: -
B84: 77 | C84: Ocean Oil | D84: - | E84: - | F84: - | G84: 16.7378 | H84: - | I84: -
B85: 78 | C85: Power Fuels | D85: 15.77 | E85: - | F85: 17.2037 | G85: - | H85: - | I85: -
B86: 79 | C86: Pacific Oil | D86: 16.87 | E86: - | F86: 18.26 | G86: 15.8812 | H86: -
B87: 80 | C87: PK Oil & Gas | D87: 17.18 | E87: - | F87: 18.96 | G87: - | H87: - | I87: -
B88: 81 | C88: P.K.A. Bonney | D88: - | E88: - | F88: - | G88: 16.72 | H88: - | I88: -
B89: 82 | C89: Petroland | D89: 16.76 | E89: - | F89: 18.39 | G89: - | H89: - | I89: -
B90: 83 | C90: Petrosol | D90: 16.77 | E90: - | F90: 17.97 | G90: 16.6 | H90: - | I90: -
B91: 84 | C91: Petrogy Limited | D91: 17.35 | E91: - | F91: 18.45 | G91: - | H91: - | I91: -
B92: 85 | C92: Petronax | D92: 17.75 | E92: - | F92: 18.85 | G92: - | H92: - | I92: -
B93: 86 | C93: Petro Sankofa | D93: 16.74 | E93: - | F93: 18.7 | G93: - | H93: - | I93: -
B94: 87 | C94: Quantum Petroleum | D94: 17.79 | E94: - | F94: 18.68 | G94: - | H94: - | I94: -
B95: 88 | C95: Puma Energy | D95: 17.4 | E95: - | F95: 18.65 | G95: 19 | H95: - | I95: -
B96: 89 | C96: Radiance | D96: 15.49 | E96: - | F96: 18.49 | G96: 17.65 | H96: - | I96: -
B97: 90 | C97: Raz Oil | D97: 16.77 | E97: - | F97: 17.95 | G97: - | H97: - | I97: -
B98: 91 | C98: Ready Oil | D98: 17.99 | E98: - | F98: 18.77 | G98: - | H98: - | I98: -
B99: 92 | C99: Rootsenaf | D99: - | E99: - | F99: - | G99: 17.4978 | H99: - | I99: -
B100: 93 | C100: Reliance Oil Limited | D100: 16.5 | E100: - | F100: 18.4 | G100: - | H100: - | I100: -
B101: 94 | C101: Restol Energy | D101: 16.75 | E101: - | F101: 17.75 | G101: - | H101: - | I101: -
B102: 95 | C102: Royal Energy | D102: - | E102: - | F102: - | G102: 17.46 | H102: - | I102: -
B103: 96 | C103: Runnel Oil | D103: 16.77 | E103: - | F103: 19.5 | G103: 16.72 | H103: - | I103: -
B104: 97 | C104: Sap Oil | D104: 15.87 | E104: - | F104: 17.57 | G104: - | H104: - | I104: -
B105: 98 | C105: Sawadigo Oil Co. | D105: 17.57 | E105: - | F105: 19.05 | G105: - | H105: - | I105: -
...

Sheet Ex-Pump Prices 6th Oct 2026
B2: NATIONAL PETROLEUM AUTHORITY
B6: EX-PUMP PRICES OF OMCs/LPGMCs AS OF 6th October 2026
B8: NO. | C8: COMPANY | D8: REGULAR PETROL - RON 91 (GHS/Lt) | E8: PREMIUM PETROL - RON 95 (GHS/Lt) | F8: DIESEL (GHS/Lt) | G8: LPG (GHS/Kg) | H8: KEROSENE (GHS/Lt) | I8: MGO Local (GHS/Lt)
B9: 1 | C9: Agapet | D9: 17.92 | E9: - | F9: 18.95 | G9: - | H9: - | I9: -
B10: 2 | C10: Aegis huile | D10: 16.99 | E10: - | F10: 18.46 | G10: - | H10: - | I10: -
B11: 3 | C11: AI Energy | D11: 17.17 | E11: - | F11: 18.5 | G11: - | H11: - | I11: -
B12: 4 | C12: Allied Oil | D12: 16.99 | E12: - | F12: 18.45 | G12: - | H12: - | I12: -
B13: 5 | C13: Alive Gas | D13: - | E13: - | F13: - | G13: 17.5078 | H13: - | I13: -
B14: 6 | C14: Aminaser Oil | D14: 14.5 | E14: - | F14: 16.69 | G14: - | H14: - | I14: -
B15: 7 | C15: Anasset | D15: - | E15: - | F15: - | G15: 17.96 | H15: - | I15: -
B16: 8 | C16: Andev | D16: - | E16: - | F16: - | G16: 17.6078 | H16: - | I16: -
B17: 9 | C17: Annandale | D17: - | E17: - | F17: - | G17: 17.26 | H17: - | I17: -
B18: 11 | C18: Amdaway | D18: 16.64 | E18: - | F18: 18.3 | G18: - | H18: - | I18: -
B19: 12 | C19: Beap Energy | D19: 17.42 | E19: - | F19: 19.4 | G19: - | H19: - | I19: -
B20: 13 | C20: Benab Oil | D20: 16.5 | E20: - | F20: 18.36 | G20: 14.74 | H20: - | I20: -
B21: 14 | C21: Baffour Gas | D21: - | E21: - | F21: - | G21: 18.3589 | H21: - | I21: -
B22: 15 | C22: Bloom Petroleum | D22: 17.69 | E22: - | F22: 18.99 | G22: - | H22: - | I22: -
B23: 16 | C23: Breedlove Co. Ltd. | D23: 16.79 | E23: - | F23: 18.3 | G23: - | H23: - | I23: -
B24: 17 | C24: Brent Petroleum | D24: 17.17 | E24: - | F24: 18.96 | G24: - | H24: - | I24: -
B25: 18 | C25: Crown Petroleum | D25: 16.27 | E25: - | F25: 17.25 | G25: 17.6399 | H25: - | I25: -
B26: 19 | C26: Central Brent | D26: - | E26: - | F26: - | G26: 17.1578 | H26: - | I26: -
B27: 20 | C27: Cent Eastern | D27: - | E27: - | F27: - | G27: 16.6578 | H27: - | I27: -
B28: 21 | C28: Oil Space | D28: - | E28: - | F28: 16.78 | G28: 14.84 | H28: - | I28: -
B29: 22 | C29: Coegan | D29: - | E29: - | F29: - | G29: 18.1574 | H29: - | I29: -
B30: 23 | C30: Compass Oleum | D30: 17.7 | E30: - | F30: 18.65 | G30: - | H30: - | I30: -
B31: 24 | C31: Davis Petroleum | D31: 17.19 | E31: - | F31: 18.59 | G31: 18.0078 | H31: - | I31: -
B32: 25 | C32: Dejon Jones | D32: 17.97 | E32: - | F32: 19.35 | G32: - | H32: - | I32: -
B33: 26 | C33: Dessert Oil | D33: 17.5 | E33: - | F33: 18.5 | G33: - | H33: - | I33: -
B34: 27 | C34: Dukes Petroleum | D34: 16.5 | E34: - | F34: 18.4 | G34: 15.8578 | H34: - | I34: -
B35: 28 | C35: Eden Petroleum | D35: 16.77 | E35: - | F35: 17.77 | G35: - | H35: - | I35: -
B36: 29 | C36: Energetic Petro gh | D36: 17.47 | E36: - | F36: 18.75 | G36: - | H36: - | I36: -
B37: 30 | C37: Ex Oil | D37: 17.7 | E37: - | F37: 18.65 | G37: - | H37: - | I37: -
B38: 31 | C38: EV Oil | D38: 16.64 | E38: - | F38: 18.66 | G38: - | H38: - | I38: -
B39: 32 | C39: E-Windstar | D39: 16.99 | F39: 18.26 | G39: - | H39: - | I39: -
B40: 33 | C40: Eza Petroleum | D40: 17.45 | E40: - | F40: 18.83 | G40: - | H40: - | I40: -
B41: 34 | C41: First Gas | D41: - | E41: - | F41: - | G41: 16.3789 | H41: - | I41: -
B42: 35 | C42: Finest Oil | D42: 16.77 | E42: - | F42: 17.77 | G42: - | H42: - | I42: -
B43: 36 | C43: Frimps Oil | D43: 16.63 | E43: - | F43: 18.45 | G43: 14.78 | H43: - | I43: -
B44: 37 | C44: Frontier Oil | D44: 16.49 | E44: - | F44: 18.29 | G44: - | H44: - | I44: -
B45: 38 | C45: Gab Energy | D45: 16.76 | E45: - | F45: 17.76 | G45: - | H45: - | I45: -
B46: 39 | C46: GasoPetroleum | E46: - | G46: - | H46: - | I46: -
B47: 40 | C47: Gogas | D47: - | E47: - | F47: - | G47: 18.3589 | H47: - | I47: -
B48: 41 | C48: GOIL | D48: 16.64 | E48: 18.99 | F48: 18.46 | G48: 16.720408 | H48: 19.78 | I48: -
B49: 42 | C49: Goodness Energy | D49: 16.59 | E49: - | F49: 18.39 | G49: - | H49: - | I49: -
B50: 43 | C50: Gowell Energy | D50: 16.95 | E50: - | F50: 17.95 | G50: - | H50: - | I50: -
B51: 44 | C51: Green GG7 | D51: - | E51: - | F51: - | G51: 17.8108 | H51: - | I51: -
B52: 45 | C52: Henos Energy | D52: - | E52: - | F52: - | G52: 14.6578 | H52: - | I52: -
B53: 46 | C53: Hills Oil | D53: - | E53: - | F53: - | G53: 17.46 | H53: - | I53: -
B54: 47 | C54: Huss Petroleum | D54: 16.75 | E54: - | F54: 17.79 | G54: - | H54: - | I54: -
B55: 48 | C55: Icon Energy | D55: 16.59 | E55: - | F55: 18.66 | G55: - | H55: - | I55: -
B56: 49 | C56: Infin | D56: 17.49 | E56: - | F56: 18.49 | G56: 17.8078 | H56: - | I56: -
B57: 50 | C57: Joekona | D57: - | E57: - | F57: - | G57: 17.2578 | H57: - | I57: -
B58: 51 | C58: JD Links | D58: 16.75 | E58: - | F58: 17.75 | G58: 15.1622 | H58: - | I58: -
B59: 52 | C59: Jusbro | D59: 18.289 | E59: - | F59: 19.769 | G59: 17.2767 | H59: - | I59: -
B60: 53 | C60: JP Trustee | D60: 16.62 | E60: 18.97 | F60: 18.44 | G60: - | H60: - | I60: -
B61: 54 | C61: Kab Energy | D61: 17.35 | E61: - | F61: 18.55 | G61: - | H61: - | I61: -
B62: 55 | C62: Kaysens | D62: - | E62: - | F62: - | G62: 17.7774 | H62: - | I62: -
B63: 56 | C63: Koan Petroleum | D63: 16.5 | E63: - | F63: 18.4 | G63: 17.05 | H63: - | I63: -
B64: 57 | C64: KI Energy | D64: - | E64: - | F64: - | G64: 19.2578 | H64: - | I64: -
B65: 58 | C65: Kings Energy | D65: 16.77 | E65: - | F65: 18.45 | G65: - | H65: - | I65: -
B66: 59 | C66: La Clem | D66: 16.59 | E66: - | F66: 17.97 | G66: - | H66: - | I66: - | N66: ``
B67: 60 | C67: Lamininbee | D67: - | E67: - | F67: - | G67: 17.5578 | H67: - | I67: -
B68: 61 | C68: Lambark Gas | D68: - | E68: - | F68: - | G68: - | H68: - | I68: -
B69: 62 | C69: Lucky oil | D69: 16.6 | E69: - | F69: 18.4 | G69: 16.552 | H69: - | I69: -
B70: 63 | C70: Liberty Petroleum | D70: 17.6 | E70: - | F70: 18.6 | G70: - | H70: - | I70: -
B71: 64 | C71: Life Energy | D71: 16.77 | E71: - | F71: 17.77 | G71: - | H71: - | I71: -
B72: 65 | C72: Maxx Energy | D72: 15.15 | E72: - | F72: 17.37 | G72: - | H72: - | I72: -
B73: 66 | C73: Manbah Gas | D73: - | E73: - | F73: - | G73: 17.46 | H73: - | I73: -
B74: 67 | C74: Mercy Oil | D74: 17.69 | E74: - | F74: 18.64 | G74: - | H74: - | I74: -
B75: 68 | C75: Midas Oil | D75: - | E75: - | F75: - | G75: 17.8078 | H75: - | I75: -
B76: 69 | C76: Mighty Gas | D76: - | E76: - | F76: - | G76: 16.48 | H76: - | I76: -
B77: 70 | C77: Misa Energy | D77: 18.19 | E77: - | F77: 19.47 | G77: 16.2278 | H77: 17.16 | I77: 20.77
B78: 71 | C78: More Fuel | D78: 16.49 | E78: - | F78: 18.2 | G78: - | H78: - | I78: -
B79: 72 | C79: MM Energy | D79: 15.57 | E79: - | F79: 16.95 | G79: - | H79: - | I79: -
B80: 73 | C80: Naagamni | D80: 16.75 | E80: - | F80: 18.46 | G80: - | H80: - | I80: -
B81: 74 | C81: Nasona | D81: 17.3 | E81: - | F81: 18.65 | G81: - | H81: - | I81: -
B82: 75 | C82: Nexbons | D82: - | E82: - | F82: - | G82: 17.1478 | H82: - | I82: -
B83: 76 | C83: Next Petroleum | D83: 17.5 | E83: - | F83: 19.5 | G83: - | H83: - | I83: -
B84: 77 | C84: Ocean Oil | D84: - | E84: - | F84: - | G84: 16.7378 | H84: - | I84: -
B85: 78 | C85: Power Fuels | D85: 15.77 | E85: - | F85: 17.2037 | G85: - | H85: - | I85: -
B86: 79 | C86: Pacific Oil | D86: 16.87 | E86: - | F86: 18.26 | G86: 15.8812 | H86: -
B87: 80 | C87: PK Oil & Gas | D87: 17.18 | E87: - | F87: 18.96 | G87: - | H87: - | I87: -
B88: 81 | C88: P.K.A. Bonney | D88: - | E88: - | F88: - | G88: 16.72 | H88: - | I88: -
B89: 82 | C89: Petroland | D89: 16.76 | E89: - | F89: 18.39 | G89: - | H89: - | I89: -
B90: 83 | C90: Petrosol | D90: 16.77 | E90: - | F90: 17.97 | G90: 16.6 | H90: - | I90: -
B91: 84 | C91: Petrogy Limited | D91: 17.35 | E91: - | F91: 19.15 | G91: - | H91: - | I91: -
B92: 85 | C92: Petronax | D92: 17.75 | E92: - | F92: 18.85 | G92: - | H92: - | I92: -
B93: 86 | C93: Petro Sankofa | D93: 16.74 | E93: - | F93: 18.7 | G93: - | H93: - | I93: -
B94: 87 | C94: Quantum Petroleum | D94: 17.79 | E94: - | F94: 18.68 | G94: - | H94: - | I94: -
B95: 88 | C95: Puma Energy | D95: 17.4 | E95: - | F95: 18.65 | G95: 19 | H95: - | I95: -
B96: 89 | C96: Radiance | D96: 15.49 | E96: - | F96: 18.49 | G96: 17.65 | H96: - | I96: -
B97: 90 | C97: Raz Oil | D97: 16.77 | E97: - | F97: 17.95 | G97: - | H97: - | I97: -
B98: 91 | C98: Ready Oil | D98: 17.99 | E98: - | F98: 18.77 | G98: - | H98: - | I98: -
B99: 92 | C99: Rootsenaf | D99: - | E99: - | F99: - | G99: 17.4978 | H99: - | I99: -
B100: 93 | C100: Reliance Oil Limited | D100: 16.5 | E100: - | F100: 18.4 | G100: - | H100: - | I100: -
B101: 94 | C101: Restol Energy | D101: 16.75 | E101: - | F101: 17.75 | G101: - | H101: - | I101: -
B102: 95 | C102: Royal Energy | D102: - | E102: - | F102: - | G102: 17.46 | H102: - | I102: -
B103: 96 | C103: Runnel Oil | D103: 16.77 | E103: - | F103: 19.5 | G103: 16.72 | H103: - | I103: -
B104: 97 | C104: Sap Oil | D104: 15.87 | E104: - | F104: 17.57 | G104: - | H104: - | I104: -
B105: 98 | C105: Sawadigo Oil Co. | D105: 17.57 | E105: - | F105: 19.05 | G105: - | H105: - | I105: -
...

Sheet Ex-Pump Prices 5th Oct 2026
B2: NATIONAL PETROLEUM AUTHORITY
B6: EX-PUMP PRICES OF OMCs/LPGMCs AS OF 5th October 2026
B8: NO. | C8: COMPANY | D8: REGULAR PETROL - RON 91 (GHS/Lt) | E8: PREMIUM PETROL - RON 95 (GHS/Lt) | F8: DIESEL (GHS/Lt) | G8: LPG (GHS/Kg) | H8: KEROSENE (GHS/Lt) | I8: MGO Local (GHS/Lt)
B9: 1 | C9: Agapet | D9: 17.92 | E9: - | F9: 18.95 | G9: - | H9: - | I9: -
B10: 2 | C10: Aegis huile | D10: 16.99 | E10: - | F10: 18.46 | G10: - | H10: - | I10: -
B11: 3 | C11: AI Energy | D11: 17.17 | E11: - | F11: 18.5 | G11: - | H11: - | I11: -
B12: 4 | C12: Allied Oil | D12: 16.99 | E12: - | F12: 18.45 | G12: - | H12: - | I12: -
B13: 5 | C13: Alive Gas | D13: - | E13: - | F13: - | G13: 17.5078 | H13: - | I13: -
B14: 6 | C14: Aminaser Oil | D14: 14.5 | E14: - | F14: 16.69 | G14: - | H14: - | I14: -
B15: 7 | C15: Anasset | D15: - | E15: - | F15: - | G15: 17.96 | H15: - | I15: -
B16: 8 | C16: Andev | D16: - | E16: - | F16: - | G16: 17.6078 | H16: - | I16: -
B17: 9 | C17: Annandale | D17: - | E17: - | F17: - | G17: 17.26 | H17: - | I17: -
B18: 11 | C18: Amdaway | D18: 16.64 | E18: - | F18: 18.3 | G18: - | H18: - | I18: -
B19: 12 | C19: Beap Energy | D19: 17.42 | E19: - | F19: 19.4 | G19: - | H19: - | I19: -
B20: 13 | C20: Benab Oil | D20: 16.5 | E20: - | F20: 18.36 | G20: 14.74 | H20: - | I20: -
B21: 14 | C21: Baffour Gas | D21: - | E21: - | F21: - | G21: 18.3589 | H21: - | I21: -
B22: 15 | C22: Bloom Petroleum | D22: 17.69 | E22: - | F22: 18.99 | G22: - | H22: - | I22: -
B23: 16 | C23: Breedlove Co. Ltd. | D23: 16.79 | E23: - | F23: 18.3 | G23: - | H23: - | I23: -
B24: 17 | C24: Brent Petroleum | D24: 17.17 | E24: - | F24: 18.96 | G24: - | H24: - | I24: -
B25: 18 | C25: Crown Petroleum | D25: 16.27 | E25: - | F25: 17.25 | G25: 17.6399 | H25: - | I25: -
B26: 19 | C26: Central Brent | D26: - | E26: - | F26: - | G26: 17.1578 | H26: - | I26: -
B27: 20 | C27: Cent Eastern | D27: - | E27: - | F27: - | G27: 16.6578 | H27: - | I27: -
B28: 21 | C28: Oil Space | D28: - | E28: - | F28: 16.78 | G28: 14.84 | H28: - | I28: -
B29: 22 | C29: Coegan | D29: - | E29: - | F29: - | G29: 18.1574 | H29: - | I29: -
B30: 23 | C30: Compass Oleum | D30: 17.7 | E30: - | F30: 18.65 | G30: - | H30: - | I30: -
B31: 24 | C31: Davis Petroleum | D31: 17.19 | E31: - | F31: 18.59 | G31: 18.0078 | H31: - | I31: -
B32: 25 | C32: Dejon Jones | D32: 17.97 | E32: - | F32: 19.35 | G32: - | H32: - | I32: -
B33: 26 | C33: Dessert Oil | D33: 17.5 | E33: - | F33: 18.5 | G33: - | H33: - | I33: -
B34: 27 | C34: Dukes Petroleum | D34: 16.5 | E34: - | F34: 18.4 | G34: 15.8578 | H34: - | I34: -
B35: 28 | C35: Eden Petroleum | D35: 16.77 | E35: - | F35: 17.77 | G35: - | H35: - | I35: -
B36: 29 | C36: Energetic Petro gh | D36: 17.47 | E36: - | F36: 18.75 | G36: - | H36: - | I36: -
B37: 30 | C37: Ex Oil | D37: 17.7 | E37: - | F37: 18.65 | G37: - | H37: - | I37: -
B38: 31 | C38: EV Oil | D38: 16.64 | E38: - | F38: 18.66 | G38: - | H38: - | I38: -
B39: 32 | C39: E-Windstar | D39: 16.99 | F39: 18.26 | G39: - | H39: - | I39: -
B40: 33 | C40: Eza Petroleum | D40: 17.45 | E40: - | F40: 18.83 | G40: - | H40: - | I40: -
B41: 34 | C41: First Gas | D41: - | E41: - | F41: - | G41: 16.3789 | H41: - | I41: -
B42: 35 | C42: Finest Oil | D42: 16.77 | E42: - | F42: 17.77 | G42: - | H42: - | I42: -
B43: 36 | C43: Frimps Oil | D43: 16.63 | E43: - | F43: 18.45 | G43: 14.78 | H43: - | I43: -
B44: 37 | C44: Frontier Oil | D44: 16.49 | E44: - | F44: 18.29 | G44: - | H44: - | I44: -
B45: 38 | C45: Gab Energy | D45: 16.76 | E45: - | F45: 17.76 | G45: - | H45: - | I45: -
B46: 39 | C46: GasoPetroleum | E46: - | G46: - | H46: - | I46: -
B47: 40 | C47: Gogas | D47: - | E47: - | F47: - | G47: 18.3589 | H47: - | I47: -
B48: 41 | C48: GOIL | D48: 16.64 | E48: 18.99 | F48: 18.46 | G48: 16.720408 | H48: 19.78 | I48: -
B49: 42 | C49: Goodness Energy | D49: 16.59 | E49: - | F49: 18.39 | G49: - | H49: - | I49: -
B50: 43 | C50: Gowell Energy | D50: 16.95 | E50: - | F50: 17.95 | G50: - | H50: - | I50: -
B51: 44 | C51: Green GG7 | D51: - | E51: - | F51: - | G51: 17.8108 | H51: - | I51: -
B52: 45 | C52: Henos Energy | D52: - | E52: - | F52: - | G52: 14.6578 | H52: - | I52: -
B53: 46 | C53: Hills Oil | D53: - | E53: - | F53: - | G53: 17.46 | H53: - | I53: -
B54: 47 | C54: Huss Petroleum | D54: 16.75 | E54: - | F54: 17.79 | G54: - | H54: - | I54: -
B55: 48 | C55: Icon Energy | D55: 16 | E55: - | F55: 17.97 | G55: - | H55: - | I55: -
B56: 49 | C56: Infin | D56: 17.49 | E56: - | F56: 18.49 | G56: 17.8078 | H56: - | I56: -
B57: 50 | C57: Joekona | D57: - | E57: - | F57: - | G57: 17.2578 | H57: - | I57: -
B58: 51 | C58: JD Links | D58: 16.75 | E58: - | F58: 17.75 | G58: 15.1622 | H58: - | I58: -
B59: 52 | C59: Jusbro | D59: 18.289 | E59: - | F59: 19.769 | G59: 17.2767 | H59: - | I59: -
B60: 53 | C60: JP Trustee | D60: 16.62 | E60: 18.97 | F60: 18.44 | G60: - | H60: - | I60: -
B61: 54 | C61: Kab Energy | D61: 17.35 | E61: - | F61: 18.55 | G61: - | H61: - | I61: -
B62: 55 | C62: Kaysens | D62: - | E62: - | F62: - | G62: 17.7774 | H62: - | I62: -
B63: 56 | C63: Koan Petroleum | D63: 16.5 | E63: - | F63: 18.4 | G63: 17.05 | H63: - | I63: -
B64: 57 | C64: KI Energy | D64: - | E64: - | F64: - | G64: 18.4578 | H64: - | I64: -
B65: 58 | C65: Kings Energy | D65: 16.77 | E65: - | F65: 18.45 | G65: - | H65: - | I65: -
B66: 59 | C66: La Clem | D66: 16.59 | E66: - | F66: 17.97 | G66: - | H66: - | I66: - | N66: ``
B67: 60 | C67: Lamininbee | D67: - | E67: - | F67: - | G67: 17.5578 | H67: - | I67: -
B68: 61 | C68: Lambark Gas | D68: - | E68: - | F68: - | G68: - | H68: - | I68: -
B69: 62 | C69: Lucky oil | D69: 16.6 | E69: - | F69: 18.4 | G69: 16.552 | H69: - | I69: -
B70: 63 | C70: Liberty Petroleum | D70: 17.6 | E70: - | F70: 18.6 | G70: - | H70: - | I70: -
B71: 64 | C71: Life Energy | D71: 16.77 | E71: - | F71: 17.77 | G71: - | H71: - | I71: -
B72: 65 | C72: Maxx Energy | D72: 15.15 | E72: - | F72: 17.37 | G72: - | H72: - | I72: -
B73: 66 | C73: Manbah Gas | D73: - | E73: - | F73: - | G73: 17.46 | H73: - | I73: -
B74: 67 | C74: Mercy Oil | D74: 17.69 | E74: - | F74: 18.64 | G74: - | H74: - | I74: -
B75: 68 | C75: Midas Oil | D75: - | E75: - | F75: - | G75: 17.8078 | H75: - | I75: -
B76: 69 | C76: Mighty Gas | D76: - | E76: - | F76: - | G76: 16.48 | H76: - | I76: -
B77: 70 | C77: Misa Energy | D77: 18.19 | E77: - | F77: 19.47 | G77: 16.2278 | H77: 17.16 | I77: 20.77
B78: 71 | C78: More Fuel | D78: 16.49 | E78: - | F78: 18.2 | G78: - | H78: - | I78: -
B79: 72 | C79: MM Energy | D79: 15.57 | E79: - | F79: 16.95 | G79: - | H79: - | I79: -
B80: 73 | C80: Naagamni | D80: 16.75 | E80: - | F80: 18.46 | G80: - | H80: - | I80: -
B81: 74 | C81: Nasona | D81: 17.3 | E81: - | F81: 18.65 | G81: - | H81: - | I81: -
B82: 75 | C82: Nexbons | D82: - | E82: - | F82: - | G82: 17.1478 | H82: - | I82: -
B83: 76 | C83: Next Petroleum | D83: 17.5 | E83: - | F83: 19.5 | G83: - | H83: - | I83: -
B84: 77 | C84: Ocean Oil | D84: - | E84: - | F84: - | G84: 16.7378 | H84: - | I84: -
B85: 78 | C85: Power Fuels | D85: 15.77 | E85: - | F85: 17.2037 | G85: - | H85: - | I85: -
B86: 79 | C86: Pacific Oil | D86: 16.87 | E86: - | F86: 18.26 | G86: 15.8812 | H86: -
B87: 80 | C87: PK Oil & Gas | D87: 17.18 | E87: - | F87: 18.96 | G87: - | H87: - | I87: -
B88: 81 | C88: P.K.A. Bonney | D88: - | E88: - | F88: - | G88: 16.72 | H88: - | I88: -
B89: 82 | C89: Petroland | D89: 16.76 | E89: - | F89: 18.39 | G89: - | H89: - | I89: -
B90: 83 | C90: Petrosol | D90: 16.77 | E90: - | F90: 17.97 | G90: 16.6 | H90: - | I90: -
B91: 84 | C91: Petrogy Limited | D91: 17.35 | E91: - | F91: 19.15 | G91: - | H91: - | I91: -
B92: 85 | C92: Petronax | D92: 17.75 | E92: - | F92: 18.85 | G92: - | H92: - | I92: -
B93: 86 | C93: Petro Sankofa | D93: 16.74 | E93: - | F93: 18.7 | G93: - | H93: - | I93: -
B94: 87 | C94: Quantum Petroleum | D94: 17.19 | E94: - | F94: 19.29 | G94: - | H94: - | I94: -
B95: 88 | C95: Puma Energy | D95: 17.4 | E95: - | F95: 18.65 | G95: 19 | H95: - | I95: -
B96: 89 | C96: Radiance | D96: 15.49 | E96: - | F96: 18.49 | G96: 17.65 | H96: - | I96: -
B97: 90 | C97: Raz Oil | D97: 16.77 | E97: - | F97: 17.95 | G97: - | H97: - | I97: -
B98: 91 | C98: Ready Oil | D98: 17.99 | E98: - | F98: 18.77 | G98: - | H98: - | I98: -
B99: 92 | C99: Rootsenaf | D99: - | E99: - | F99: - | G99: 17.4978 | H99: - | I99: -
B100: 93 | C100: Reliance Oil Limited | D100: 16.5 | E100: - | F100: 18.4 | G100: - | H100: - | I100: -
B101: 94 | C101: Restol Energy | D101: 16.75 | E101: - | F101: 17.75 | G101: - | H101: - | I101: -
B102: 95 | C102: Royal Energy | D102: - | E102: - | F102: - | G102: 17.46 | H102: - | I102: -
B103: 96 | C103: Runnel Oil | D103: 16.77 | E103: - | F103: 19.5 | G103: 16.72 | H103: - | I103: -
B104: 97 | C104: Sap Oil | D104: 15.87 | E104: - | F104: 17.57 | G104: - | H104: - | I104: -
B105: 98 | C105: Sawadigo Oil Co. | D105: 16.87 | E105: - | F105: 17.8 | G105: - | H105: - | I105: -
...

Sheet Ex-Pump Prices 2nd Oct 2026
B2: NATIONAL PETROLEUM AUTHORITY
B6: EX-PUMP PRICES OF OMCs/LPGMCs AS OF 2nd October 2026
B8: NO. | C8: COMPANY | D8: REGULAR PETROL - RON 91 (GHS/Lt) | E8: PREMIUM PETROL - RON 95 (GHS/Lt) | F8: DIESEL (GHS/Lt) | G8: LPG (GHS/Kg) | H8: KEROSENE (GHS/Lt) | I8: MGO Local (GHS/Lt)
B9: 1 | C9: Agapet | D9: 17.77 | E9: - | F9: 18.6 | G9: - | H9: - | I9: -
B10: 2 | C10: Aegis huile | D10: 16.99 | E10: - | F10: 18.46 | G10: - | H10: - | I10: -
B11: 3 | C11: AI Energy | D11: 17.17 | E11: - | F11: 18.5 | G11: - | H11: - | I11: -
B12: 4 | C12: Allied Oil | D12: 16.99 | E12: - | F12: 18.45 | G12: - | H12: - | I12: -
B13: 5 | C13: Alive Gas | D13: - | E13: - | F13: - | G13: 17.5078 | H13: - | I13: -
B14: 6 | C14: Aminaser Oil | D14: 14.5 | E14: - | F14: 16.69 | G14: - | H14: - | I14: -
B15: 7 | C15: Anasset | D15: - | E15: - | F15: - | G15: 17.96 | H15: - | I15: -
B16: 8 | C16: Andev | D16: - | E16: - | F16: - | G16: 16.5578 | H16: - | I16: -
B17: 9 | C17: Annandale | D17: - | E17: - | F17: - | G17: 17.26 | H17: - | I17: -
B18: 11 | C18: Amdaway | D18: 16.64 | E18: - | F18: 18.3 | G18: - | H18: - | I18: -
B19: 12 | C19: Beap Energy | D19: 17.42 | E19: - | F19: 19.4 | G19: - | H19: - | I19: -
B20: 13 | C20: Benab Oil | D20: 16.5 | E20: - | F20: 18.36 | G20: 14.74 | H20: - | I20: -
B21: 14 | C21: Baffour Gas | D21: - | E21: - | F21: - | G21: 18.3589 | H21: - | I21: -
B22: 15 | C22: Bloom Petroleum | D22: 17.69 | E22: - | F22: 18.99 | G22: - | H22: - | I22: -
B23: 16 | C23: Breedlove Co. Ltd. | D23: 16.79 | E23: - | F23: 18.3 | G23: - | H23: - | I23: -
B24: 17 | C24: Brent Petroleum | D24: 17.17 | E24: - | F24: 18.96 | G24: - | H24: - | I24: -
B25: 18 | C25: Crown Petroleum | D25: 16.27 | E25: - | F25: 17.25 | G25: 17.6399 | H25: - | I25: -
B26: 19 | C26: Central Brent | D26: - | E26: - | F26: - | G26: 17.1578 | H26: - | I26: -
B27: 20 | C27: Cent Eastern | D27: - | E27: - | F27: - | G27: 16.6578 | H27: - | I27: -
B28: 21 | C28: Oil Space | D28: - | E28: - | F28: 16.78 | G28: 14.84 | H28: - | I28: -
B29: 22 | C29: Coegan | D29: - | E29: - | F29: - | G29: 18.1574 | H29: - | I29: -
B30: 23 | C30: Compass Oleum | D30: 17.7 | E30: - | F30: 18.25 | G30: - | H30: - | I30: -
B31: 24 | C31: Davis Petroleum | D31: 15.59 | E31: - | F31: 17.26 | G31: 18.0078 | H31: - | I31: -
B32: 25 | C32: Dejon Jones | D32: 17.77 | E32: - | F32: 19.55 | G32: - | H32: - | I32: -
B33: 26 | C33: Dessert Oil | D33: 17.5 | E33: - | F33: 18.5 | G33: - | H33: - | I33: -
B34: 27 | C34: Dukes Petroleum | D34: 16.5 | E34: - | F34: 18.4 | G34: 15.8578 | H34: - | I34: -
B35: 28 | C35: Eden Petroleum | D35: 16.77 | E35: - | F35: 17.77 | G35: - | H35: - | I35: -
B36: 29 | C36: Energetic Petro gh | D36: 17.32 | E36: - | F36: 17.82 | G36: - | H36: - | I36: -
B37: 30 | C37: Ex Oil | D37: 17.7 | E37: - | F37: 18.25 | G37: - | H37: - | I37: -
B38: 31 | C38: EV Oil | D38: 16.64 | E38: - | F38: 18.66 | G38: - | H38: - | I38: -
B39: 32 | C39: E-Windstar | D39: 16.99 | F39: 18.26 | G39: - | H39: - | I39: -
B40: 33 | C40: Eza Petroleum | D40: 16.77 | E40: - | F40: 17.97 | G40: - | H40: - | I40: -
B41: 34 | C41: First Gas | D41: - | E41: - | F41: - | G41: 16.3789 | H41: - | I41: -
B42: 35 | C42: Finest Oil | D42: 16.77 | E42: - | F42: 17.77 | G42: - | H42: - | I42: -
B43: 36 | C43: Frimps Oil | D43: 16.63 | E43: - | F43: 18.45 | G43: 14.78 | H43: - | I43: -
B44: 37 | C44: Frontier Oil | D44: 16.49 | E44: - | F44: 18.25 | G44: - | H44: - | I44: -
B45: 38 | C45: Gab Energy | D45: 16.76 | E45: - | F45: 17.76 | G45: - | H45: - | I45: -
B46: 39 | C46: GasoPetroleum | E46: - | G46: - | H46: - | I46: -
B47: 40 | C47: Gogas | D47: - | E47: - | F47: - | G47: 18.3589 | H47: - | I47: -
B48: 41 | C48: GOIL | D48: 16.64 | E48: 18.99 | F48: 18.46 | G48: 16.720408 | H48: 19.78 | I48: -
B49: 42 | C49: Goodness Energy | D49: 16.59 | E49: - | F49: 18.39 | G49: - | H49: - | I49: -
B50: 43 | C50: Gowell Energy | D50: 16.95 | E50: - | F50: 17.95 | G50: - | H50: - | I50: -
B51: 44 | C51: Green GG7 | D51: - | E51: - | F51: - | G51: 17.8108 | H51: - | I51: -
B52: 45 | C52: Henos Energy | D52: - | E52: - | F52: - | G52: 14.6578 | H52: - | I52: -
B53: 46 | C53: Hills Oil | D53: - | E53: - | F53: - | G53: 17.46 | H53: - | I53: -
B54: 47 | C54: Huss Petroleum | D54: 16.75 | E54: - | F54: 17.79 | G54: - | H54: - | I54: -
B55: 48 | C55: Icon Energy | D55: 16 | E55: - | F55: 17.97 | G55: - | H55: - | I55: -
B56: 49 | C56: Infin | D56: 17.49 | E56: - | F56: 18.49 | G56: 17.8078 | H56: - | I56: -
B57: 50 | C57: Joekona | D57: - | E57: - | F57: - | G57: 17.2578 | H57: - | I57: -
B58: 51 | C58: JD Links | D58: 16.75 | E58: - | F58: 17.75 | G58: 15.1622 | H58: - | I58: -
B59: 52 | C59: Jusbro | D59: 17.89 | E59: - | F59: 19.619 | G59: 16.0867 | H59: - | I59: -
B60: 53 | C60: JP Trustee | D60: 16.45 | E60: 18.97 | F60: 18.44 | G60: - | H60: - | I60: -
B61: 54 | C61: Kab Energy | D61: 17.35 | E61: - | F61: 18.55 | G61: - | H61: - | I61: -
B62: 55 | C62: Kaysens | D62: - | E62: - | F62: - | G62: 17.7774 | H62: - | I62: -
B63: 56 | C63: Koan Petroleum | D63: 16.5 | E63: - | F63: 18.4 | G63: 17.05 | H63: - | I63: -
B64: 57 | C64: KI Energy | D64: - | E64: - | F64: - | G64: 18.4578 | H64: - | I64: -
B65: 58 | C65: Kings Energy | D65: 16.77 | E65: - | F65: 18.45 | G65: - | H65: - | I65: -
B66: 59 | C66: La Clem | D66: 16.59 | E66: - | F66: 17.97 | G66: - | H66: - | I66: - | N66: ``
B67: 60 | C67: Lamininbee | D67: - | E67: - | F67: - | G67: 17.5578 | H67: - | I67: -
B68: 61 | C68: Lambark Gas | D68: - | E68: - | F68: - | G68: - | H68: - | I68: -
B69: 62 | C69: Lucky oil | D69: 16 | E69: - | F69: 17.1 | G69: 16.552 | H69: - | I69: -
B70: 63 | C70: Liberty Petroleum | D70: 17.6 | E70: - | F70: 18.6 | G70: - | H70: - | I70: -
B71: 64 | C71: Life Energy | D71: 16.77 | E71: - | F71: 17.77 | G71: - | H71: - | I71: -
B72: 65 | C72: Maxx Energy | D72: 15.15 | E72: - | F72: 17.37 | G72: - | H72: - | I72: -
B73: 66 | C73: Manbah Gas | D73: - | E73: - | F73: - | G73: 17.46 | H73: - | I73: -
B74: 67 | C74: Mercy Oil | D74: 17.99 | E74: - | F74: 19.49 | G74: - | H74: - | I74: -
B75: 68 | C75: Midas Oil | D75: - | E75: - | F75: - | G75: 17.8078 | H75: - | I75: -
B76: 69 | C76: Mighty Gas | D76: - | E76: - | F76: - | G76: 16.48 | H76: - | I76: -
B77: 70 | C77: Misa Energy | D77: 18.19 | E77: - | F77: 19.47 | G77: 16.2278 | H77: 17.16 | I77: 20.77
B78: 71 | C78: More Fuel | D78: 16.45 | E78: - | F78: 17.97 | G78: - | H78: - | I78: -
B79: 72 | C79: MM Energy | D79: 15.57 | E79: - | F79: 16.95 | G79: - | H79: - | I79: -
B80: 73 | C80: Naagamni | D80: 16.75 | E80: - | F80: 18.46 | G80: - | H80: - | I80: -
B81: 74 | C81: Nasona | D81: 16.64 | E81: - | F81: 18.25 | G81: - | H81: - | I81: -
B82: 75 | C82: Nexbons | D82: - | E82: - | F82: - | G82: 17.1478 | H82: - | I82: -
B83: 76 | C83: Next Petroleum | D83: 17.5 | E83: - | F83: 19.5 | G83: - | H83: - | I83: -
B84: 77 | C84: Ocean Oil | D84: - | E84: - | F84: - | G84: 16.7378 | H84: - | I84: -
B85: 78 | C85: Power Fuels | D85: 15.77 | E85: - | F85: 17.2037 | G85: - | H85: - | I85: -
B86: 79 | C86: Pacific Oil | D86: 16.87 | E86: - | F86: 18.26 | G86: 15.8812 | H86: -
B87: 80 | C87: PK Oil & Gas | D87: 17.18 | E87: - | F87: 18.96 | G87: - | H87: - | I87: -
B88: 81 | C88: P.K.A. Bonney | D88: - | E88: - | F88: - | G88: 16.72 | H88: - | I88: -
B89: 82 | C89: Petroland | D89: 16.17 | E89: - | F89: 17.19 | G89: - | H89: - | I89: -
B90: 83 | C90: Petrosol | D90: 16.77 | E90: - | F90: 17.97 | G90: 16.6 | H90: - | I90: -
B91: 84 | C91: Petrogy Limited | D91: 17.35 | E91: - | F91: 19.15 | G91: - | H91: - | I91: -
B92: 85 | C92: Petronax | D92: 17.75 | E92: - | F92: 18.85 | G92: - | H92: - | I92: -
B93: 86 | C93: Petro Sankofa | D93: 16.74 | E93: - | F93: 18.7 | G93: - | H93: - | I93: -
B94: 87 | C94: Quantum Petroleum | D94: 17.19 | E94: - | F94: 19.29 | G94: - | H94: - | I94: -
B95: 88 | C95: Puma Energy | D95: 17.4 | E95: - | F95: 18.65 | G95: 19 | H95: - | I95: -
B96: 89 | C96: Radiance | D96: 15.49 | E96: - | F96: 18.49 | G96: 17.65 | H96: - | I96: -
B97: 90 | C97: Raz Oil | D97: 16.77 | E97: - | F97: 17.95 | G97: - | H97: - | I97: -
B98: 91 | C98: Ready Oil | D98: 17.99 | E98: - | F98: 18.77 | G98: - | H98: - | I98: -
B99: 92 | C99: Rootsenaf | D99: - | E99: - | F99: - | G99: 17.4978 | H99: - | I99: -
B100: 93 | C100: Reliance Oil Limited | D100: 16.5 | E100: - | F100: 18.4 | G100: - | H100: - | I100: -
B101: 94 | C101: Restol Energy | D101: 16.75 | E101: - | F101: 17.75 | G101: - | H101: - | I101: -
B102: 95 | C102: Royal Energy | D102: - | E102: - | F102: - | G102: 17.46 | H102: - | I102: -
B103: 96 | C103: Runnel Oil | D103: 16.77 | E103: - | F103: 19.5 | G103: 16.72 | H103: - | I103: -
B104: 97 | C104: Sap Oil | D104: 15.87 | E104: - | F104: 17.57 | G104: - | H104: - | I104: -
B105: 98 | C105: Sawadigo Oil Co. | D105: 16.87 | E105: - | F105: 17.8 | G105: - | H105: - | I105: -
...

Sheet Ex-Pump Prices 1st Oct 2026
B2: NATIONAL PETROLEUM AUTHORITY
B6: EX-PUMP PRICES OF OMCs/LPGMCs AS OF 1st October 2026
B8: NO. | C8: COMPANY | D8: REGULAR PETROL - RON 91 (GHS/Lt) | E8: PREMIUM PETROL - RON 95 (GHS/Lt) | F8: DIESEL (GHS/Lt) | G8: LPG (GHS/Kg) | H8: KEROSENE (GHS/Lt) | I8: MGO Local (GHS/Lt)
B9: 1 | C9: Agapet | D9: 17.77 | E9: - | F9: 18.6 | G9: - | H9: - | I9: -
B10: 2 | C10: Aegis huile | D10: 16.99 | E10: - | F10: 18.46 | G10: - | H10: - | I10: -
B11: 3 | C11: AI Energy | D11: 17.17 | E11: - | F11: 18.5 | G11: - | H11: - | I11: -
B12: 4 | C12: Allied Oil | D12: 17.2 | E12: - | F12: 18.65 | G12: - | H12: - | I12: -
B13: 5 | C13: Alive Gas | D13: - | E13: - | F13: - | G13: 16.5578 | H13: - | I13: -
B14: 6 | C14: Aminaser Oil | D14: 14.5 | E14: - | F14: 16.69 | G14: - | H14: - | I14: -
B15: 7 | C15: Anasset | D15: - | E15: - | F15: - | G15: 17.96 | H15: - | I15: -
B16: 8 | C16: Andev | D16: - | E16: - | F16: - | G16: 16.5578 | H16: - | I16: -
B17: 9 | C17: Annandale | D17: - | E17: - | F17: - | G17: 17.26 | H17: - | I17: -
B18: 11 | C18: Amdaway | D18: 16.64 | E18: - | F18: 18.3 | G18: - | H18: - | I18: -
B19: 12 | C19: Beap Energy | D19: 17.42 | E19: - | F19: 19.4 | G19: - | H19: - | I19: -
B20: 13 | C20: Benab Oil | D20: 16.5 | E20: - | F20: 18.36 | G20: 14.74 | H20: - | I20: -
B21: 14 | C21: Baffour Gas | D21: - | E21: - | F21: - | G21: 17.1589 | H21: - | I21: -
B22: 15 | C22: Bloom Petroleum | D22: 17.49 | E22: - | F22: 18.89 | G22: - | H22: - | I22: -
B23: 16 | C23: Breedlove Co. Ltd. | D23: 16.79 | E23: - | F23: 18.3 | G23: - | H23: - | I23: -
B24: 17 | C24: Brent Petroleum | D24: 16.97 | E24: - | F24: 17.97 | G24: - | H24: - | I24: -
B25: 18 | C25: Crown Petroleum | D25: 16.27 | E25: - | F25: 17.25 | G25: 17.6399 | H25: - | I25: -
B26: 19 | C26: Central Brent | D26: - | E26: - | F26: - | G26: 15.9578 | H26: - | I26: -
B27: 20 | C27: Cent Eastern | D27: - | E27: - | F27: - | G27: 16.6578 | H27: - | I27: -
B28: 21 | C28: Oil Space | D28: - | E28: - | F28: 16.78 | G28: 14.84 | H28: - | I28: -
B29: 22 | C29: Coegan | D29: - | E29: - | F29: - | G29: 18.1574 | H29: - | I29: -
B30: 23 | C30: Compass Oleum | D30: 17.7 | E30: - | F30: 18.25 | G30: - | H30: - | I30: -
B31: 24 | C31: Davis Petroleum | D31: 15.59 | E31: - | F31: 17.26 | G31: 18.0078 | H31: - | I31: -
B32: 25 | C32: Dejon Jones | D32: 17.77 | E32: - | F32: 19.55 | G32: - | H32: - | I32: -
B33: 26 | C33: Dessert Oil | D33: 17.5 | E33: - | F33: 18.5 | G33: - | H33: - | I33: -
B34: 27 | C34: Dukes Petroleum | D34: 16.5 | E34: - | F34: 18.4 | G34: 15.8578 | H34: - | I34: -
B35: 28 | C35: Eden Petroleum | D35: 16.77 | E35: - | F35: 17.77 | G35: - | H35: - | I35: -
B36: 29 | C36: Energetic Petro gh | D36: 17.32 | E36: - | F36: 17.82 | G36: - | H36: - | I36: -
B37: 30 | C37: Ex Oil | D37: 17.7 | E37: - | F37: 18.25 | G37: - | H37: - | I37: -
B38: 31 | C38: EV Oil | D38: 16.64 | E38: - | F38: 18.66 | G38: - | H38: - | I38: -
B39: 32 | C39: E-Windstar | D39: 16.99 | F39: 18.26 | G39: - | H39: - | I39: -
B40: 33 | C40: Eza Petroleum | D40: 16.77 | E40: - | F40: 17.97 | G40: - | H40: - | I40: -
B41: 34 | C41: First Gas | D41: - | E41: - | F41: - | G41: 16.3789 | H41: - | I41: -
B42: 35 | C42: Finest Oil | D42: 16.77 | E42: - | F42: 17.77 | G42: - | H42: - | I42: -
B43: 36 | C43: Frimps Oil | D43: 16.63 | E43: - | F43: 18.45 | G43: 14.78 | H43: - | I43: -
B44: 37 | C44: Frontier Oil | D44: 16.45 | E44: - | F44: 17.95 | G44: - | H44: - | I44: -
B45: 38 | C45: Gab Energy | D45: 16.76 | E45: - | F45: 17.76 | G45: - | H45: - | I45: -
B46: 39 | C46: GasoPetroleum | E46: - | G46: - | H46: - | I46: -
B47: 40 | C47: Gogas | D47: - | E47: - | F47: - | G47: 17.1589 | H47: - | I47: -
B48: 41 | C48: GOIL | D48: 16.64 | E48: 18.99 | F48: 18.46 | G48: 16.720408 | H48: 19.78 | I48: -
B49: 42 | C49: Goodness Energy | D49: 16.65 | E49: - | F49: 17.69 | G49: - | H49: - | I49: -
B50: 43 | C50: Gowell Energy | D50: 16.95 | E50: - | F50: 17.95 | G50: - | H50: - | I50: -
B51: 44 | C51: Green GG7 | D51: - | E51: - | F51: - | G51: 17.8108 | H51: - | I51: -
B52: 45 | C52: Henos Energy | D52: - | E52: - | F52: - | G52: 14.6578 | H52: - | I52: -
B53: 46 | C53: Hills Oil | D53: - | E53: - | F53: - | G53: 16.36 | H53: - | I53: -
B54: 47 | C54: Huss Petroleum | D54: 16.75 | E54: - | F54: 17.79 | G54: - | H54: - | I54: -
B55: 48 | C55: Icon Energy | D55: 16 | E55: - | F55: 17.97 | G55: - | H55: - | I55: -
B56: 49 | C56: Infin | D56: 17.49 | E56: - | F56: 18.49 | G56: 17.8078 | H56: - | I56: -
B57: 50 | C57: Joekona | D57: - | E57: - | F57: - | G57: 17.2578 | H57: - | I57: -
B58: 51 | C58: JD Links | D58: 16.75 | E58: - | F58: 17.75 | G58: 15.1622 | H58: - | I58: -
B59: 52 | C59: Jusbro | D59: 17.89 | E59: - | F59: 19.619 | G59: 16.0867 | H59: - | I59: -
B60: 53 | C60: JP Trustee | D60: 16.45 | E60: 18.97 | F60: 18.44 | G60: - | H60: - | I60: -
B61: 54 | C61: Kab Energy | D61: 17.35 | E61: - | F61: 18.55 | G61: - | H61: - | I61: -
B62: 55 | C62: Kaysens | D62: - | E62: - | F62: - | G62: 17.7774 | H62: - | I62: -
B63: 56 | C63: Koan Petroleum | D63: 16.5 | E63: - | F63: 18.4 | G63: 17.05 | H63: - | I63: -
B64: 57 | C64: KI Energy | D64: - | E64: - | F64: - | G64: 18.4578 | H64: - | I64: -
B65: 58 | C65: Kings Energy | D65: 16.77 | E65: - | F65: 18.45 | G65: - | H65: - | I65: -
B66: 59 | C66: La Clem | D66: 16.59 | E66: - | F66: 17.75 | G66: - | H66: - | I66: - | N66: ``
B67: 60 | C67: Lamininbee | D67: - | E67: - | F67: - | G67: 17.5578 | H67: - | I67: -
B68: 61 | C68: Lambark Gas | D68: - | E68: - | F68: - | G68: - | H68: - | I68: -
B69: 62 | C69: Lucky oil | D69: 16 | E69: - | F69: 17.1 | G69: 16.552 | H69: - | I69: -
B70: 63 | C70: Liberty Petroleum | D70: 17.6 | E70: - | F70: 18.6 | G70: - | H70: - | I70: -
B71: 64 | C71: Life Energy | D71: 16.77 | E71: - | F71: 17.77 | G71: - | H71: - | I71: -
B72: 65 | C72: Maxx Energy | D72: 15.15 | E72: - | F72: 17.37 | G72: - | H72: - | I72: -
B73: 66 | C73: Manbah Gas | D73: - | E73: - | F73: - | G73: 16.26 | H73: - | I73: -
B74: 67 | C74: Mercy Oil | D74: 17.69 | E74: - | F74: 18.69 | G74: - | H74: - | I74: -
B75: 68 | C75: Midas Oil | D75: - | E75: - | F75: - | G75: 16.8078 | H75: - | I75: -
B76: 69 | C76: Mighty Gas | D76: - | E76: - | F76: - | G76: 16.48 | H76: - | I76: -
B77: 70 | C77: Misa Energy | D77: 18.19 | E77: - | F77: 19.47 | G77: 16.2278 | H77: 17.16 | I77: 20.77
B78: 71 | C78: More Fuel | D78: 16.45 | E78: - | F78: 17.97 | G78: - | H78: - | I78: -
B79: 72 | C79: MM Energy | D79: 15.57 | E79: - | F79: 16.95 | G79: - | H79: - | I79: -
B80: 73 | C80: Naagamni | D80: 16.75 | E80: - | F80: 18.46 | G80: - | H80: - | I80: -
B81: 74 | C81: Nasona | D81: 16.64 | E81: - | F81: 18.25 | G81: - | H81: - | I81: -
B82: 75 | C82: Nexbons | D82: - | E82: - | F82: - | G82: 17.1478 | H82: - | I82: -
B83: 76 | C83: Next Petroleum | D83: 17.5 | E83: - | F83: 19.5 | G83: - | H83: - | I83: -
B84: 77 | C84: Ocean Oil | D84: - | E84: - | F84: - | G84: 16.7378 | H84: - | I84: -
B85: 78 | C85: Power Fuels | D85: 15.77 | E85: - | F85: 17.2037 | G85: - | H85: - | I85: -
B86: 79 | C86: Pacific Oil | D86: 16.87 | E86: - | F86: 18.26 | G86: 15.8812 | H86: -
B87: 80 | C87: PK Oil & Gas | D87: 16.73 | E87: - | F87: 17.76 | G87: - | H87: - | I87: -
B88: 81 | C88: P.K.A. Bonney | D88: - | E88: - | F88: - | G88: 16.72 | H88: - | I88: -
B89: 82 | C89: Petroland | D89: 16.17 | E89: - | F89: 17.19 | G89: - | H89: - | I89: -
B90: 83 | C90: Petrosol | D90: 16.77 | E90: - | F90: 17.97 | G90: 16.6 | H90: - | I90: -
B91: 84 | C91: Petrogy Limited | D91: 17.35 | E91: - | F91: 19.15 | G91: - | H91: - | I91: -
B92: 85 | C92: Petronax | D92: 15.99 | E92: - | F92: 17.4 | G92: - | H92: - | I92: -
B93: 86 | C93: Petro Sankofa | D93: 16.74 | E93: - | F93: 18.7 | G93: - | H93: - | I93: -
B94: 87 | C94: Quantum Petroleum | D94: 17.79 | E94: - | F94: 18.68 | G94: - | H94: - | I94: -
B95: 88 | C95: Puma Energy | D95: 17.4 | E95: - | F95: 18.4 | G95: 18.8 | H95: - | I95: -
B96: 89 | C96: Radiance | D96: 15.49 | E96: - | F96: 18.49 | G96: 17.65 | H96: - | I96: -
B97: 90 | C97: Raz Oil | D97: 16.77 | E97: - | F97: 17.95 | G97: - | H97: - | I97: -
B98: 91 | C98: Ready Oil | D98: 17.99 | E98: - | F98: 18.77 | G98: - | H98: - | I98: -
B99: 92 | C99: Rootsenaf | D99: - | E99: - | F99: - | G99: 16.4978 | H99: - | I99: -
B100: 93 | C100: Reliance Oil Limited | D100: 16.5 | E100: - | F100: 18.4 | G100: - | H100: - | I100: -
B101: 94 | C101: Restol Energy | D101: 16.75 | E101: - | F101: 17.75 | G101: - | H101: - | I101: -
B102: 95 | C102: Royal Energy | D102: - | E102: - | F102: - | G102: 17.46 | H102: - | I102: -
B103: 96 | C103: Runnel Oil | D103: 16.77 | E103: - | F103: 19.5 | G103: 16.72 | H103: - | I103: -
B104: 97 | C104: Sap Oil | D104: 15.87 | E104: - | F104: 17.57 | G104: - | H104: - | I104: -
B105: 98 | C105: Sawadigo Oil Co. | D105: 16.87 | E105: - | F105: 17.8 | G105: - | H105: - | I105: -
...

Sheet Ex-Pump Prices 30th Sept 2026
B2: NATIONAL PETROLEUM AUTHORITY
B6: EX-PUMP PRICES OF OMCs/LPGMCs AS OF 30th September 2026
B8: NO. | C8: COMPANY | D8: REGULAR PETROL - RON 91 (GHS/Lt) | E8: PREMIUM PETROL - RON 95 (GHS/Lt) | F8: DIESEL (GHS/Lt) | G8: LPG (GHS/Kg) | H8: KEROSENE (GHS/Lt) | I8: MGO Local (GHS/Lt)
B9: 1 | C9: Agapet | D9: 17.77 | E9: - | F9: 18.6 | G9: - | H9: - | I9: -
B10: 2 | C10: Aegis huile | D10: 16.99 | E10: - | F10: 18.46 | G10: - | H10: - | I10: -
B11: 3 | C11: AI Energy | D11: 17.17 | E11: - | F11: 18.5 | G11: - | H11: - | I11: -
B12: 4 | C12: Allied Oil | D12: 16.99 | E12: - | F12: 17.99 | G12: - | H12: - | I12: -
B13: 5 | C13: Alive Gas | D13: - | E13: - | F13: - | G13: 16.5578 | H13: - | I13: -
B14: 6 | C14: Aminaser Oil | D14: 14.5 | E14: - | F14: 16.69 | G14: - | H14: - | I14: -
B15: 7 | C15: Anasset | D15: - | E15: - | F15: - | G15: 16.7996 | H15: - | I15: -
B16: 8 | C16: Andev | D16: - | E16: - | F16: - | G16: 16.5578 | H16: - | I16: -
B17: 9 | C17: Annandale | D17: - | E17: - | F17: - | G17: 16.51 | H17: - | I17: -
B18: 11 | C18: Amdaway | D18: 16 | E18: - | F18: 16.97 | G18: - | H18: - | I18: -
B19: 12 | C19: Beap Energy | D19: 17.42 | E19: - | F19: 19.4 | G19: - | H19: - | I19: -
B20: 13 | C20: Benab Oil | D20: 16.5 | E20: - | F20: 18.36 | G20: 14.74 | H20: - | I20: -
B21: 14 | C21: Baffour Gas | D21: - | E21: - | F21: - | G21: 17.1589 | H21: - | I21: -
B22: 15 | C22: Bloom Petroleum | D22: 17.49 | E22: - | F22: 18.89 | G22: - | H22: - | I22: -
B23: 16 | C23: Breedlove Co. Ltd. | D23: 16.7 | E23: - | F23: 17.7 | G23: - | H23: - | I23: -
B24: 17 | C24: Brent Petroleum | D24: 16.97 | E24: - | F24: 17.97 | G24: - | H24: - | I24: -
B25: 18 | C25: Crown Petroleum | D25: 16.27 | E25: - | F25: 17.25 | G25: 17.6399 | H25: - | I25: -
B26: 19 | C26: Central Brent | D26: - | E26: - | F26: - | G26: 15.9578 | H26: - | I26: -
B27: 20 | C27: Cent Eastern | D27: - | E27: - | F27: - | G27: 16.6578 | H27: - | I27: -
B28: 21 | C28: Oil Space | D28: - | E28: - | F28: 16.78 | G28: 14.84 | H28: - | I28: -
B29: 22 | C29: Coegan | D29: - | E29: - | F29: - | G29: 16.7574 | H29: - | I29: -
B30: 23 | C30: Compass Oleum | D30: 17.7 | E30: - | F30: 18.25 | G30: - | H30: - | I30: -
B31: 24 | C31: Davis Petroleum | D31: 15.59 | E31: - | F31: 17.26 | G31: 18.0078 | H31: - | I31: -
B32: 25 | C32: Dejon Jones | D32: 17.77 | E32: - | F32: 19.55 | G32: - | H32: - | I32: -
B33: 26 | C33: Dessert Oil | D33: 17.5 | E33: - | F33: 18.5 | G33: - | H33: - | I33: -
B34: 27 | C34: Dukes Petroleum | D34: 16.5 | E34: - | F34: 18.4 | G34: 15.8578 | H34: - | I34: -
B35: 28 | C35: Eden Petroleum | D35: 16.77 | E35: - | F35: 17.77 | G35: - | H35: - | I35: -
B36: 29 | C36: Energetic Petro gh | D36: 17.32 | E36: - | F36: 17.82 | G36: - | H36: - | I36: -
B37: 30 | C37: Ex Oil | D37: 17.7 | E37: - | F37: 18.25 | G37: - | H37: - | I37: -
B38: 31 | C38: EV Oil | D38: 16.5 | E38: - | F38: 17.77 | G38: - | H38: - | I38: -
B39: 32 | C39: E-Windstar | D39: 16.99 | F39: 18.26 | G39: - | H39: - | I39: -
B40: 33 | C40: Eza Petroleum | D40: 16.77 | E40: - | F40: 17.97 | G40: - | H40: - | I40: -
B41: 34 | C41: First Gas | D41: - | E41: - | F41: - | G41: 16.3789 | H41: - | I41: -
B42: 35 | C42: Finest Oil | D42: 16.77 | E42: - | F42: 17.77 | G42: - | H42: - | I42: -
B43: 36 | C43: Frimps Oil | D43: 16 | E43: - | F43: 17.77 | G43: 14.78 | H43: - | I43: -
B44: 37 | C44: Frontier Oil | D44: 16.45 | E44: - | F44: 17.95 | G44: - | H44: - | I44: -
B45: 38 | C45: Gab Energy | D45: 16.76 | E45: - | F45: 17.76 | G45: - | H45: - | I45: -
B46: 39 | C46: GasoPetroleum | E46: - | G46: - | H46: - | I46: -
B47: 40 | C47: Gogas | D47: - | E47: - | F47: - | G47: 17.1589 | H47: - | I47: -
B48: 41 | C48: GOIL | D48: 16.64 | E48: 18.99 | F48: 18.46 | G48: 16.720408 | H48: 19.78 | I48: -
B49: 42 | C49: Goodness Energy | D49: 16.65 | E49: - | F49: 17.69 | G49: - | H49: - | I49: -
B50: 43 | C50: Gowell Energy | D50: 16.95 | E50: - | F50: 17.95 | G50: - | H50: - | I50: -
B51: 44 | C51: Green GG7 | D51: - | E51: - | F51: - | G51: 16.8208 | H51: - | I51: -
B52: 45 | C52: Henos Energy | D52: - | E52: - | F52: - | G52: 14.6578 | H52: - | I52: -
B53: 46 | C53: Hills Oil | D53: - | E53: - | F53: - | G53: 16.36 | H53: - | I53: -
B54: 47 | C54: Huss Petroleum | D54: 16.75 | E54: - | F54: 17.79 | G54: - | H54: - | I54: -
B55: 48 | C55: Icon Energy | D55: 16 | E55: - | F55: 17.97 | G55: - | H55: - | I55: -
B56: 49 | C56: Infin | D56: 17.49 | E56: - | F56: 18.49 | G56: 17.8078 | H56: - | I56: -
B57: 50 | C57: Joekona | D57: - | E57: - | F57: - | G57: 16.2678 | H57: - | I57: -
B58: 51 | C58: JD Links | D58: 16.75 | E58: - | F58: 17.75 | G58: 15.1622 | H58: - | I58: -
B59: 52 | C59: Jusbro | D59: 17.89 | E59: - | F59: 19.619 | G59: 16.0867 | H59: - | I59: -
B60: 53 | C60: JP Trustee | D60: 16 | E60: 18.97 | F60: 17.99 | G60: - | H60: - | I60: -
B61: 54 | C61: Kab Energy | D61: 17.35 | E61: - | F61: 18.55 | G61: - | H61: - | I61: -
B62: 55 | C62: Kaysens | D62: - | E62: - | F62: - | G62: 16.7774 | H62: - | I62: -
B63: 56 | C63: Koan Petroleum | D63: 16.5 | E63: - | F63: 17.9 | G63: 17.05 | H63: - | I63: -
B64: 57 | C64: KI Energy | D64: - | E64: - | F64: - | G64: 18.4578 | H64: - | I64: -
B65: 58 | C65: Kings Energy | D65: 16.77 | E65: - | F65: 17.77 | G65: - | H65: - | I65: -
B66: 59 | C66: La Clem | D66: 16.59 | E66: - | F66: 17.75 | G66: - | H66: - | I66: - | N66: ``
B67: 60 | C67: Lamininbee | D67: - | E67: - | F67: - | G67: 16.6578 | H67: - | I67: -
B68: 61 | C68: Lambark Gas | D68: - | E68: - | F68: - | G68: - | H68: - | I68: -
B69: 62 | C69: Lucky oil | D69: 16 | E69: - | F69: 17.1 | G69: 16.552 | H69: - | I69: -
B70: 63 | C70: Liberty Petroleum | D70: 17.6 | E70: - | F70: 18.6 | G70: - | H70: - | I70: -
B71: 64 | C71: Life Energy | D71: 16.77 | E71: - | F71: 17.77 | G71: - | H71: - | I71: -
B72: 65 | C72: Maxx Energy | D72: 15.15 | E72: - | F72: 17.37 | G72: - | H72: - | I72: -
B73: 66 | C73: Manbah Gas | D73: - | E73: - | F73: - | G73: 16.26 | H73: - | I73: -
B74: 67 | C74: Mercy Oil | D74: 17.69 | E74: - | F74: 18.69 | G74: - | H74: - | I74: -
B75: 68 | C75: Midas Oil | D75: - | E75: - | F75: - | G75: 16.8078 | H75: - | I75: -
B76: 69 | C76: Mighty Gas | D76: - | E76: - | F76: - | G76: 15.34 | H76: - | I76: -
B77: 70 | C77: Misa Energy | D77: 16.19 | E77: - | F77: 17.17 | G77: 14.9578 | H77: 17.16 | I77: 18.57
B78: 71 | C78: More Fuel | D78: 16.47 | E78: - | F78: 17.89 | G78: - | H78: - | I78: -
B79: 72 | C79: MM Energy | D79: 15.57 | E79: - | F79: 16.95 | G79: - | H79: - | I79: -
B80: 73 | C80: Naagamni | D80: 16.75 | E80: - | F80: 17.75 | G80: - | H80: - | I80: -
B81: 74 | C81: Nasona | D81: 16.64 | E81: - | F81: 18.25 | G81: - | H81: - | I81: -
B82: 75 | C82: Nexbons | D82: - | E82: - | F82: - | G82: 17.1478 | H82: - | I82: -
B83: 76 | C83: Next Petroleum | D83: 15.3 | E83: - | F83: 16.4 | G83: - | H83: - | I83: -
B84: 77 | C84: Ocean Oil | D84: - | E84: - | F84: - | G84: 16.7378 | H84: - | I84: -
B85: 78 | C85: Power Fuels | D85: 15.77 | E85: - | F85: 17.2037 | G85: - | H85: - | I85: -
B86: 79 | C86: Pacific Oil | D86: 16.87 | E86: - | F86: 18.26 | G86: 15.8812 | H86: -
B87: 80 | C87: PK Oil & Gas | D87: 16.73 | E87: - | F87: 17.76 | G87: - | H87: - | I87: -
B88: 81 | C88: P.K.A. Bonney | D88: - | E88: - | F88: - | G88: 16.72 | H88: - | I88: -
B89: 82 | C89: Petroland | D89: 16.17 | E89: - | F89: 17.19 | G89: - | H89: - | I89: -
B90: 83 | C90: Petrosol | D90: 16.77 | E90: - | F90: 17.97 | G90: 16.6 | H90: - | I90: -
B91: 84 | C91: Petrogy Limited | D91: 17.35 | E91: - | F91: 19.15 | G91: - | H91: - | I91: -
B92: 85 | C92: Petronax | D92: 15.99 | E92: - | F92: 17.4 | G92: - | H92: - | I92: -
B93: 86 | C93: Petro Sankofa | D93: 16.74 | E93: - | F93: 18.7 | G93: - | H93: - | I93: -
B94: 87 | C94: Quantum Petroleum | D94: 17.79 | E94: - | F94: 18.68 | G94: - | H94: - | I94: -
B95: 88 | C95: Puma Energy | D95: 17.4 | E95: - | F95: 18.4 | G95: 18.8 | H95: - | I95: -
B96: 89 | C96: Radiance | D96: 15.49 | E96: - | F96: 18.49 | G96: 17.65 | H96: - | I96: -
B97: 90 | C97: Raz Oil | D97: 16.77 | E97: - | F97: 17.95 | G97: - | H97: - | I97: -
B98: 91 | C98: Ready Oil | D98: 17.99 | E98: - | F98: 18.77 | G98: - | H98: - | I98: -
B99: 92 | C99: Rootsenaf | D99: - | E99: - | F99: - | G99: 16.4978 | H99: - | I99: -
B100: 93 | C100: Reliance Oil Limited | D100: 16.5 | E100: - | F100: 17.65 | G100: - | H100: - | I100: -
B101: 94 | C101: Restol Energy | D101: 16.75 | E101: - | F101: 17.75 | G101: - | H101: - | I101: -
B102: 95 | C102: Royal Energy | D102: - | E102: - | F102: - | G102: 16.46 | H102: - | I102: -
B103: 96 | C103: Runnel Oil | D103: 16.77 | E103: - | F103: 19.5 | G103: 16.72 | H103: - | I103: -
B104: 97 | C104: Sap Oil | D104: 15.87 | E104: - | F104: 17.57 | G104: - | H104: - | I104: -
B105: 98 | C105: Sawadigo Oil Co. | D105: 16.87 | E105: - | F105: 17.8 | G105: - | H105: - | I105: -
...

Sheet Ex-Pump Prices 29th Sept 2026
B2: NATIONAL PETROLEUM AUTHORITY
B6: EX-PUMP PRICES OF OMCs/LPGMCs AS OF 29th September 2026
B8: NO. | C8: COMPANY | D8: REGULAR PETROL - RON 91 (GHS/Lt) | E8: PREMIUM PETROL - RON 95 (GHS/Lt) | F8: DIESEL (GHS/Lt) | G8: LPG (GHS/Kg) | H8: KEROSENE (GHS/Lt) | I8: MGO Local (GHS/Lt)
B9: 1 | C9: Agapet | D9: 17.77 | E9: - | F9: 18.6 | G9: - | H9: - | I9: -
B10: 2 | C10: Aegis huile | D10: 16.49 | E10: - | F10: 17.99 | G10: - | H10: - | I10: -
B11: 3 | C11: AI Energy | D11: 17.17 | E11: - | F11: 18.5 | G11: - | H11: - | I11: -
B12: 4 | C12: Allied Oil | D12: 16.99 | E12: - | F12: 17.99 | G12: - | H12: - | I12: -
B13: 5 | C13: Alive Gas | D13: - | E13: - | F13: - | G13: 16.5578 | H13: - | I13: -
B14: 6 | C14: Aminaser Oil | D14: 14.5 | E14: - | F14: 16.69 | G14: - | H14: - | I14: -
B15: 7 | C15: Anasset | D15: - | E15: - | F15: - | G15: 16.7996 | H15: - | I15: -
B16: 8 | C16: Andev | D16: - | E16: - | F16: - | G16: 16.5578 | H16: - | I16: -
B17: 9 | C17: Annandale | D17: - | E17: - | F17: - | G17: 16.51 | H17: - | I17: -
B18: 11 | C18: Amdaway | D18: 16 | E18: - | F18: 16.97 | G18: - | H18: - | I18: -
B19: 12 | C19: Beap Energy | D19: 17.42 | E19: - | F19: 19.4 | G19: - | H19: - | I19: -
B20: 13 | C20: Benab Oil | D20: 16.5 | E20: - | F20: 18.36 | G20: 14.74 | H20: - | I20: -
B21: 14 | C21: Baffour Gas | D21: - | E21: - | F21: - | G21: 17.1589 | H21: - | I21: -
B22: 15 | C22: Bloom Petroleum | D22: 17.49 | E22: - | F22: 18.89 | G22: - | H22: - | I22: -
B23: 16 | C23: Breedlove Co. Ltd. | D23: 16.7 | E23: - | F23: 17.7 | G23: - | H23: - | I23: -
B24: 17 | C24: Brent Petroleum | D24: 16.97 | E24: - | F24: 17.97 | G24: - | H24: - | I24: -
B25: 18 | C25: Crown Petroleum | D25: 16.27 | E25: - | F25: 17.25 | G25: 17.6399 | H25: - | I25: -
B26: 19 | C26: Central Brent | D26: - | E26: - | F26: - | G26: 15.9578 | H26: - | I26: -
B27: 20 | C27: Cent Eastern | D27: - | E27: - | F27: - | G27: 16.6578 | H27: - | I27: -
B28: 21 | C28: Oil Space | D28: - | E28: - | F28: 16.78 | G28: 14.84 | H28: - | I28: -
B29: 22 | C29: Coegan | D29: - | E29: - | F29: - | G29: 16.7574 | H29: - | I29: -
B30: 23 | C30: Compass Oleum | D30: 17.7 | E30: - | F30: 18.25 | G30: - | H30: - | I30: -
B31: 24 | C31: Davis Petroleum | D31: 15.59 | E31: - | F31: 17.26 | G31: 18.0078 | H31: - | I31: -
B32: 25 | C32: Dejon Jones | D32: 17.77 | E32: - | F32: 19.55 | G32: - | H32: - | I32: -
B33: 26 | C33: Dessert Oil | D33: 17.5 | E33: - | F33: 18.5 | G33: - | H33: - | I33: -
B34: 27 | C34: Dukes Petroleum | D34: 16.2 | E34: - | F34: 17.4 | G34: 15.8578 | H34: - | I34: -
B35: 28 | C35: Eden Petroleum | D35: 16.77 | E35: - | F35: 17.77 | G35: - | H35: - | I35: -
B36: 29 | C36: Energetic Petro gh | D36: 17.32 | E36: - | F36: 17.82 | G36: - | H36: - | I36: -
B37: 30 | C37: Ex Oil | D37: 17.7 | E37: - | F37: 18.25 | G37: - | H37: - | I37: -
B38: 31 | C38: EV Oil | D38: 16.5 | E38: - | F38: 17.77 | G38: - | H38: - | I38: -
B39: 32 | C39: E-Windstar | D39: 16.99 | F39: 18.26 | G39: - | H39: - | I39: -
B40: 33 | C40: Eza Petroleum | D40: 16.77 | E40: - | F40: 17.97 | G40: - | H40: - | I40: -
B41: 34 | C41: First Gas | D41: - | E41: - | F41: - | G41: 16.3789 | H41: - | I41: -
B42: 35 | C42: Finest Oil | D42: 16.77 | E42: - | F42: 17.77 | G42: - | H42: - | I42: -
B43: 36 | C43: Frimps Oil | D43: 16 | E43: - | F43: 17.77 | G43: 14.78 | H43: - | I43: -
B44: 37 | C44: Frontier Oil | D44: 16.45 | E44: - | F44: 17.95 | G44: - | H44: - | I44: -
B45: 38 | C45: Gab Energy | D45: 16.76 | E45: - | F45: 17.76 | G45: - | H45: - | I45: -
B46: 39 | C46: GasoPetroleum | E46: - | G46: - | H46: - | I46: -
B47: 40 | C47: Gogas | D47: - | E47: - | F47: - | G47: 17.1589 | H47: - | I47: -
B48: 41 | C48: GOIL | D48: 16.64 | E48: 18.99 | F48: 18.46 | G48: 16.720408 | H48: 19.78 | I48: -
B49: 42 | C49: Goodness Energy | D49: 16.65 | E49: - | F49: 17.69 | G49: - | H49: - | I49: -
B50: 43 | C50: Gowell Energy | D50: 16.95 | E50: - | F50: 17.95 | G50: - | H50: - | I50: -
B51: 44 | C51: Green GG7 | D51: - | E51: - | F51: - | G51: 16.8208 | H51: - | I51: -
B52: 45 | C52: Henos Energy | D52: - | E52: - | F52: - | G52: 14.6578 | H52: - | I52: -
B53: 46 | C53: Hills Oil | D53: - | E53: - | F53: - | G53: 16.36 | H53: - | I53: -
B54: 47 | C54: Huss Petroleum | D54: 16.75 | E54: - | F54: 17.79 | G54: - | H54: - | I54: -
B55: 48 | C55: Icon Energy | D55: 16 | E55: - | F55: 17.97 | G55: - | H55: - | I55: -
B56: 49 | C56: Infin | D56: 17.49 | E56: - | F56: 18.49 | G56: 17.8078 | H56: - | I56: -
B57: 50 | C57: Joekona | D57: - | E57: - | F57: - | G57: 16.2678 | H57: - | I57: -
B58: 51 | C58: JD Links | D58: 16.75 | E58: - | F58: 17.75 | G58: 15.1622 | H58: - | I58: -
B59: 52 | C59: Jusbro | D59: 17.89 | E59: - | F59: 19.619 | G59: 16.0867 | H59: - | I59: -
B60: 53 | C60: JP Trustee | D60: 16 | E60: 18.97 | F60: 17.99 | G60: - | H60: - | I60: -
B61: 54 | C61: Kab Energy | D61: 17.35 | E61: - | F61: 18.55 | G61: - | H61: - | I61: -
B62: 55 | C62: Kaysens | D62: - | E62: - | F62: - | G62: 16.7774 | H62: - | I62: -
B63: 56 | C63: Koan Petroleum | D63: 16.5 | E63: - | F63: 17.9 | G63: 17.05 | H63: - | I63: -
B64: 57 | C64: KI Energy | D64: - | E64: - | F64: - | G64: 18.4578 | H64: - | I64: -
B65: 58 | C65: Kings Energy | D65: 16.77 | E65: - | F65: 17.77 | G65: - | H65: - | I65: -
B66: 59 | C66: La Clem | D66: 16.59 | E66: - | F66: 17.75 | G66: - | H66: - | I66: - | N66: ``
B67: 60 | C67: Lamininbee | D67: - | E67: - | F67: - | G67: 16.6578 | H67: - | I67: -
B68: 61 | C68: Lambark Gas | D68: - | E68: - | F68: - | G68: - | H68: - | I68: -
B69: 62 | C69: Lucky oil | D69: 16 | E69: - | F69: 17.1 | G69: 16.552 | H69: - | I69: -
B70: 63 | C70: Liberty Petroleum | D70: 17.6 | E70: - | F70: 18.6 | G70: - | H70: - | I70: -
B71: 64 | C71: Life Energy | D71: 16.77 | E71: - | F71: 17.77 | G71: - | H71: - | I71: -
B72: 65 | C72: Maxx Energy | D72: 15.15 | E72: - | F72: 17.37 | G72: - | H72: - | I72: -
B73: 66 | C73: Manbah Gas | D73: - | E73: - | F73: - | G73: 16.26 | H73: - | I73: -
B74: 67 | C74: Mercy Oil | D74: 17.69 | E74: - | F74: 18.69 | G74: - | H74: - | I74: -
B75: 68 | C75: Midas Oil | D75: - | E75: - | F75: - | G75: 16.8078 | H75: - | I75: -
B76: 69 | C76: Mighty Gas | D76: - | E76: - | F76: - | G76: 15.34 | H76: - | I76: -
B77: 70 | C77: Misa Energy | D77: 16.19 | E77: - | F77: 17.17 | G77: 14.9578 | H77: 17.16 | I77: 18.57
B78: 71 | C78: More Fuel | D78: 16 | E78: - | F78: 17.65 | G78: - | H78: - | I78: -
B79: 72 | C79: MM Energy | D79: 15.57 | E79: - | F79: 16.95 | G79: - | H79: - | I79: -
B80: 73 | C80: Naagamni | D80: 16.75 | E80: - | F80: 17.75 | G80: - | H80: - | I80: -
B81: 74 | C81: Nasona | D81: 16.64 | E81: - | F81: 18.25 | G81: - | H81: - | I81: -
B82: 75 | C82: Nexbons | D82: - | E82: - | F82: - | G82: 17.1478 | H82: - | I82: -
B83: 76 | C83: Next Petroleum | D83: 15.3 | E83: - | F83: 16.4 | G83: - | H83: - | I83: -
B84: 77 | C84: Ocean Oil | D84: - | E84: - | F84: - | G84: 16.7378 | H84: - | I84: -
B85: 78 | C85: Power Fuels | D85: 15.77 | E85: - | F85: 17.2037 | G85: - | H85: - | I85: -
B86: 79 | C86: Pacific Oil | D86: 16.87 | E86: - | F86: 18.26 | G86: 15.8812 | H86: -
B87: 80 | C87: PK Oil & Gas | D87: 16.73 | E87: - | F87: 17.76 | G87: - | H87: - | I87: -
B88: 81 | C88: P.K.A. Bonney | D88: - | E88: - | F88: - | G88: 16.72 | H88: - | I88: -
B89: 82 | C89: Petroland | D89: 16.17 | E89: - | F89: 17.19 | G89: - | H89: - | I89: -
B90: 83 | C90: Petrosol | D90: 16.77 | E90: - | F90: 17.97 | G90: 16.6 | H90: - | I90: -
B91: 84 | C91: Petrogy Limited | D91: 17.35 | E91: - | F91: 19.15 | G91: - | H91: - | I91: -
B92: 85 | C92: Petronax | D92: 15.99 | E92: - | F92: 17.4 | G92: - | H92: - | I92: -
B93: 86 | C93: Petro Sankofa | D93: 16.74 | E93: - | F93: 18.7 | G93: - | H93: - | I93: -
B94: 87 | C94: Quantum Petroleum | D94: 17.79 | E94: - | F94: 18.68 | G94: - | H94: - | I94: -
B95: 88 | C95: Puma Energy | D95: 17.4 | E95: - | F95: 18.4 | G95: 18.8 | H95: - | I95: -
B96: 89 | C96: Radiance | D96: 15.49 | E96: - | F96: 18.49 | G96: 17.65 | H96: - | I96: -
B97: 90 | C97: Raz Oil | D97: 16.77 | E97: - | F97: 17.95 | G97: - | H97: - | I97: -
B98: 91 | C98: Ready Oil | D98: 17.99 | E98: - | F98: 18.77 | G98: - | H98: - | I98: -
B99: 92 | C99: Rootsenaf | D99: - | E99: - | F99: - | G99: 16.4978 | H99: - | I99: -
B100: 93 | C100: Reliance Oil Limited | D100: 16.5 | E100: - | F100: 17.65 | G100: - | H100: - | I100: -
B101: 94 | C101: Restol Energy | D101: 16.75 | E101: - | F101: 17.75 | G101: - | H101: - | I101: -
B102: 95 | C102: Royal Energy | D102: - | E102: - | F102: - | G102: 16.46 | H102: - | I102: -
B103: 96 | C103: Runnel Oil | D103: 16.77 | E103: - | F103: 19.5 | G103: 16.72 | H103: - | I103: -
B104: 97 | C104: Sap Oil | D104: 15.87 | E104: - | F104: 17.57 | G104: - | H104: - | I104: -
B105: 98 | C105: Sawadigo Oil Co. | D105: 16.87 | E105: - | F105: 17.8 | G105: - | H105: - | I105: -
...

Sheet Ex-Pump Prices 28th Sept 2026
B2: NATIONAL PETROLEUM AUTHORITY
B6: EX-PUMP PRICES OF OMCs/LPGMCs AS OF 28th September 2026
B8: NO. | C8: COMPANY | D8: REGULAR PETROL - RON 91 (GHS/Lt) | E8: PREMIUM PETROL - RON 95 (GHS/Lt) | F8: DIESEL (GHS/Lt) | G8: LPG (GHS/Kg) | H8: KEROSENE (GHS/Lt) | I8: MGO Local (GHS/Lt)
B9: 1 | C9: Agapet | D9: 17.77 | E9: - | F9: 18.6 | G9: - | H9: - | I9: -
B10: 2 | C10: Aegis huile | D10: 16.49 | E10: - | F10: 17.99 | G10: - | H10: - | I10: -
B11: 3 | C11: AI Energy | D11: 17.17 | E11: - | F11: 17.99 | G11: - | H11: - | I11: -
B12: 4 | C12: Allied Oil | D12: 16.99 | E12: - | F12: 17.99 | G12: - | H12: - | I12: -
B13: 5 | C13: Alive Gas | D13: - | E13: - | F13: - | G13: 16.5578 | H13: - | I13: -
B14: 6 | C14: Aminaser Oil | D14: 14.5 | E14: - | F14: 16.69 | G14: - | H14: - | I14: -
B15: 7 | C15: Anasset | D15: - | E15: - | F15: - | G15: 16.7996 | H15: - | I15: -
B16: 8 | C16: Andev | D16: - | E16: - | F16: - | G16: 16.5578 | H16: - | I16: -
B17: 9 | C17: Annandale | D17: - | E17: - | F17: - | G17: 16.51 | H17: - | I17: -
B18: 11 | C18: Amdaway | D18: 16 | E18: - | F18: 16.97 | G18: - | H18: - | I18: -
B19: 12 | C19: Beap Energy | D19: 15.92 | E19: - | F19: 17 | G19: - | H19: - | I19: -
B20: 13 | C20: Benab Oil | D20: 16 | E20: - | F20: 17.75 | G20: 14.74 | H20: - | I20: -
B21: 14 | C21: Baffour Gas | D21: - | E21: - | F21: - | G21: 17.1589 | H21: - | I21: -
B22: 15 | C22: Bloom Petroleum | D22: 17.49 | E22: - | F22: 18.89 | G22: - | H22: - | I22: -
B23: 16 | C23: Breedlove Co. Ltd. | D23: 16.7 | E23: - | F23: 17.7 | G23: - | H23: - | I23: -
B24: 17 | C24: Brent Petroleum | D24: 16.97 | E24: - | F24: 17.97 | G24: - | H24: - | I24: -
B25: 18 | C25: Crown Petroleum | D25: 16.27 | E25: - | F25: 17.25 | G25: 17.6399 | H25: - | I25: -
B26: 19 | C26: Central Brent | D26: - | E26: - | F26: - | G26: 15.9578 | H26: - | I26: -
B27: 20 | C27: Cent Eastern | D27: - | E27: - | F27: - | G27: 16.6578 | H27: - | I27: -
B28: 21 | C28: Oil Space | D28: - | E28: - | F28: 16.78 | G28: 14.84 | H28: - | I28: -
B29: 22 | C29: Coegan | D29: - | E29: - | F29: - | G29: 16.7574 | H29: - | I29: -
B30: 23 | C30: Compass Oleum | D30: 17.7 | E30: - | F30: 18.25 | G30: - | H30: - | I30: -
B31: 24 | C31: Davis Petroleum | D31: 15.59 | E31: - | F31: 17.26 | G31: 18.0078 | H31: - | I31: -
B32: 25 | C32: Dejon Jones | D32: 17.77 | E32: - | F32: 19.55 | G32: - | H32: - | I32: -
B33: 26 | C33: Dessert Oil | D33: 17.5 | E33: - | F33: 18.5 | G33: - | H33: - | I33: -
B34: 27 | C34: Dukes Petroleum | D34: 16.2 | E34: - | F34: 17.4 | G34: 15.8578 | H34: - | I34: -
B35: 28 | C35: Eden Petroleum | D35: 16.77 | E35: - | F35: 17.77 | G35: - | H35: - | I35: -
B36: 29 | C36: Energetic Petro gh | D36: 17.32 | E36: - | F36: 17.82 | G36: - | H36: - | I36: -
B37: 30 | C37: Ex Oil | D37: 17.7 | E37: - | F37: 18.25 | G37: - | H37: - | I37: -
B38: 31 | C38: EV Oil | D38: 16.5 | E38: - | F38: 17.77 | G38: - | H38: - | I38: -
B39: 32 | C39: E-Windstar | D39: 16.99 | F39: 18.26 | G39: - | H39: - | I39: -
B40: 33 | C40: Eza Petroleum | D40: 16.77 | E40: - | F40: 17.97 | G40: - | H40: - | I40: -
B41: 34 | C41: First Gas | D41: - | E41: - | F41: - | G41: 16.3789 | H41: - | I41: -
B42: 35 | C42: Finest Oil | D42: 16.77 | E42: - | F42: 17.77 | G42: - | H42: - | I42: -
B43: 36 | C43: Frimps Oil | D43: 16 | E43: - | F43: 17.77 | G43: 14.78 | H43: - | I43: -
B44: 37 | C44: Frontier Oil | D44: 16.45 | E44: - | F44: 17.95 | G44: - | H44: - | I44: -
B45: 38 | C45: Gab Energy | D45: 16.76 | E45: - | F45: 17.76 | G45: - | H45: - | I45: -
B46: 39 | C46: GasoPetroleum | E46: - | G46: - | H46: - | I46: -
B47: 40 | C47: Gogas | D47: - | E47: - | F47: - | G47: 17.1589 | H47: - | I47: -
B48: 41 | C48: GOIL | D48: 16.64 | E48: 18.99 | F48: 18.46 | G48: 16.720408 | H48: 19.78 | I48: -
B49: 42 | C49: Goodness Energy | D49: 16.65 | E49: - | F49: 17.69 | G49: - | H49: - | I49: -
B50: 43 | C50: Gowell Energy | D50: 16.95 | E50: - | F50: 17.95 | G50: - | H50: - | I50: -
B51: 44 | C51: Green GG7 | D51: - | E51: - | F51: - | G51: 16.8208 | H51: - | I51: -
B52: 45 | C52: Henos Energy | D52: - | E52: - | F52: - | G52: 14.6578 | H52: - | I52: -
B53: 46 | C53: Hills Oil | D53: - | E53: - | F53: - | G53: 16.36 | H53: - | I53: -
B54: 47 | C54: Huss Petroleum | D54: 16.75 | E54: - | F54: 17.79 | G54: - | H54: - | I54: -
B55: 48 | C55: Icon Energy | D55: 16 | E55: - | F55: 17.97 | G55: - | H55: - | I55: -
B56: 49 | C56: Infin | D56: 17.49 | E56: - | F56: 18.49 | G56: 17.8078 | H56: - | I56: -
B57: 50 | C57: Joekona | D57: - | E57: - | F57: - | G57: 16.2678 | H57: - | I57: -
B58: 51 | C58: JD Links | D58: 16.75 | E58: - | F58: 17.75 | G58: 15.1622 | H58: - | I58: -
B59: 52 | C59: Jusbro | D59: 17.89 | E59: - | F59: 19.619 | G59: 16.0867 | H59: - | I59: -
B60: 53 | C60: JP Trustee | D60: 16 | E60: 18.97 | F60: 17.95 | G60: - | H60: - | I60: -
B61: 54 | C61: Kab Energy | D61: 17.35 | E61: - | F61: 18.55 | G61: - | H61: - | I61: -
B62: 55 | C62: Kaysens | D62: - | E62: - | F62: - | G62: 16.7774 | H62: - | I62: -
B63: 56 | C63: Koan Petroleum | D63: 16.5 | E63: - | F63: 17.9 | G63: 17.05 | H63: - | I63: -
B64: 57 | C64: KI Energy | D64: - | E64: - | F64: - | G64: 18.4578 | H64: - | I64: -
B65: 58 | C65: Kings Energy | D65: 16.77 | E65: - | F65: 17.77 | G65: - | H65: - | I65: -
B66: 59 | C66: La Clem | D66: 16.59 | E66: - | F66: 17.75 | G66: - | H66: - | I66: - | N66: ``
B67: 60 | C67: Lamininbee | D67: - | E67: - | F67: - | G67: 16.6578 | H67: - | I67: -
B68: 61 | C68: Lambark Gas | D68: - | E68: - | F68: - | G68: - | H68: - | I68: -
B69: 62 | C69: Lucky oil | D69: 16 | E69: - | F69: 17.1 | G69: 16.552 | H69: - | I69: -
B70: 63 | C70: Liberty Petroleum | D70: 17.6 | E70: - | F70: 18.6 | G70: - | H70: - | I70: -
B71: 64 | C71: Life Energy | D71: 16.77 | E71: - | F71: 17.77 | G71: - | H71: - | I71: -
B72: 65 | C72: Maxx Energy | D72: 15.15 | E72: - | F72: 17.37 | G72: - | H72: - | I72: -
B73: 66 | C73: Manbah Gas | D73: - | E73: - | F73: - | G73: 16.26 | H73: - | I73: -
B74: 67 | C74: Mercy Oil | D74: 17.69 | E74: - | F74: 18.69 | G74: - | H74: - | I74: -
B75: 68 | C75: Midas Oil | D75: - | E75: - | F75: - | G75: 16.8078 | H75: - | I75: -
B76: 69 | C76: Mighty Gas | D76: - | E76: - | F76: - | G76: 15.34 | H76: - | I76: -
B77: 70 | C77: Misa Energy | D77: 16.19 | E77: - | F77: 17.17 | G77: 14.9578 | H77: 17.16 | I77: 18.57
B78: 71 | C78: More Fuel | D78: 16 | E78: - | F78: 17.65 | G78: - | H78: - | I78: -
B79: 72 | C79: MM Energy | D79: 15.57 | E79: - | F79: 16.95 | G79: - | H79: - | I79: -
B80: 73 | C80: Naagamni | D80: 16.75 | E80: - | F80: 17.75 | G80: - | H80: - | I80: -
B81: 74 | C81: Nasona | D81: 16.64 | E81: - | F81: 18.25 | G81: - | H81: - | I81: -
B82: 75 | C82: Nexbons | D82: - | E82: - | F82: - | G82: 17.1478 | H82: - | I82: -
B83: 76 | C83: Next Petroleum | D83: 15.3 | E83: - | F83: 16.4 | G83: - | H83: - | I83: -
B84: 77 | C84: Ocean Oil | D84: - | E84: - | F84: - | G84: 16.7378 | H84: - | I84: -
B85: 78 | C85: Power Fuels | D85: 15.77 | E85: - | F85: 17.2037 | G85: - | H85: - | I85: -
B86: 79 | C86: Pacific Oil | D86: 16.87 | E86: - | F86: 17.65 | G86: 15.8812 | H86: -
B87: 80 | C87: PK Oil & Gas | D87: 16.73 | E87: - | F87: 17.76 | G87: - | H87: - | I87: -
B88: 81 | C88: P.K.A. Bonney | D88: - | E88: - | F88: - | G88: 16.72 | H88: - | I88: -
B89: 82 | C89: Petroland | D89: 16.17 | E89: - | F89: 17.19 | G89: - | H89: - | I89: -
B90: 83 | C90: Petrosol | D90: 16.77 | E90: - | F90: 17.97 | G90: 16.6 | H90: - | I90: -
B91: 84 | C91: Petrogy Limited | D91: 17.35 | E91: - | F91: 19.15 | G91: - | H91: - | I91: -
B92: 85 | C92: Petronax | D92: 15.99 | E92: - | F92: 17.4 | G92: - | H92: - | I92: -
B93: 86 | C93: Petro Sankofa | D93: 16.74 | E93: - | F93: 18.7 | G93: - | H93: - | I93: -
B94: 87 | C94: Quantum Petroleum | D94: 17.79 | E94: - | F94: 18.68 | G94: - | H94: - | I94: -
B95: 88 | C95: Puma Energy | D95: 17.4 | E95: - | F95: 18.4 | G95: 18.8 | H95: - | I95: -
B96: 89 | C96: Radiance | D96: 15.49 | E96: - | F96: 18.49 | G96: 17.65 | H96: - | I96: -
B97: 90 | C97: Raz Oil | D97: 16.77 | E97: - | F97: 17.95 | G97: - | H97: - | I97: -
B98: 91 | C98: Ready Oil | D98: 17.99 | E98: - | F98: 18.77 | G98: - | H98: - | I98: -
B99: 92 | C99: Rootsenaf | D99: - | E99: - | F99: - | G99: 16.4978 | H99: - | I99: -
B100: 93 | C100: Reliance Oil Limited | D100: 16.5 | E100: - | F100: 17.65 | G100: - | H100: - | I100: -
B101: 94 | C101: Restol Energy | D101: 16.75 | E101: - | F101: 17.75 | G101: - | H101: - | I101: -
B102: 95 | C102: Royal Energy | D102: - | E102: - | F102: - | G102: 16.46 | H102: - | I102: -
B103: 96 | C103: Runnel Oil | D103: 16.77 | E103: - | F103: 19.5 | G103: 16.72 | H103: - | I103: -
B104: 97 | C104: Sap Oil | D104: 15.87 | E104: - | F104: 17.57 | G104: - | H104: - | I104: -
B105: 98 | C105: Sawadigo Oil Co. | D105: 16.87 | E105: - | F105: 17.8 | G105: - | H105: - | I105: -
...

Sheet Ex-Pump Prices 25th Sept 2026
B2: NATIONAL PETROLEUM AUTHORITY
B6: EX-PUMP PRICES OF OMCs/LPGMCs AS OF 25th September 2026
B8: NO. | C8: COMPANY | D8: REGULAR PETROL - RON 91 (GHS/Lt) | E8: PREMIUM PETROL - RON 95 (GHS/Lt) | F8: DIESEL (GHS/Lt) | G8: LPG (GHS/Kg) | H8: KEROSENE (GHS/Lt) | I8: MGO Local (GHS/Lt)
B9: 1 | C9: Agapet | D9: 17.77 | E9: - | F9: 18.6 | G9: - | H9: - | I9: -
B10: 2 | C10: Aegis huile | D10: 16.49 | E10: - | F10: 17.99 | G10: - | H10: - | I10: -
B11: 3 | C11: AI Energy | D11: 16.99 | E11: - | F11: 17.99 | G11: - | H11: - | I11: -
B12: 4 | C12: Allied Oil | D12: 16.99 | E12: - | F12: 17.99 | G12: - | H12: - | I12: -
B13: 5 | C13: Alive Gas | D13: - | E13: - | F13: - | G13: 16.5578 | H13: - | I13: -
B14: 6 | C14: Aminaser Oil | D14: 14.5 | E14: - | F14: 16.69 | G14: - | H14: - | I14: -
B15: 7 | C15: Anasset | D15: - | E15: - | F15: - | G15: 16.7996 | H15: - | I15: -
B16: 8 | C16: Andev | D16: - | E16: - | F16: - | G16: 16.5578 | H16: - | I16: -
B17: 9 | C17: Annandale | D17: - | E17: - | F17: - | G17: 16.51 | H17: - | I17: -
B18: 11 | C18: Amdaway | D18: 16 | E18: - | F18: 16.97 | G18: - | H18: - | I18: -
B19: 12 | C19: Beap Energy | D19: 15.92 | E19: - | F19: 17 | G19: - | H19: - | I19: -
B20: 13 | C20: Benab Oil | D20: 16 | E20: - | F20: 17.75 | G20: 14.74 | H20: - | I20: -
B21: 14 | C21: Baffour Gas | D21: - | E21: - | F21: - | G21: 17.1589 | H21: - | I21: -
B22: 15 | C22: Bloom Petroleum | D22: 17.49 | E22: - | F22: 18.89 | G22: - | H22: - | I22: -
B23: 16 | C23: Breedlove Co. Ltd. | D23: 16.7 | E23: - | F23: 17.7 | G23: - | H23: - | I23: -
B24: 17 | C24: Brent Petroleum | D24: 16.97 | E24: - | F24: 17.97 | G24: - | H24: - | I24: -
B25: 18 | C25: Crown Petroleum | D25: 16.27 | E25: - | F25: 17.25 | G25: 17.6399 | H25: - | I25: -
B26: 19 | C26: Central Brent | D26: - | E26: - | F26: - | G26: 15.9578 | H26: - | I26: -
B27: 20 | C27: Cent Eastern | D27: - | E27: - | F27: - | G27: 16.6578 | H27: - | I27: -
B28: 21 | C28: Oil Space | D28: - | E28: - | F28: 16.78 | G28: 14.84 | H28: - | I28: -
B29: 22 | C29: Coegan | D29: - | E29: - | F29: - | G29: 16.7574 | H29: - | I29: -
B30: 23 | C30: Compass Oleum | D30: 17.7 | E30: - | F30: 18.25 | G30: - | H30: - | I30: -
B31: 24 | C31: Davis Petroleum | D31: 15.59 | E31: - | F31: 17.26 | G31: 18.0078 | H31: - | I31: -
B32: 25 | C32: Dejon Jones | D32: 17.77 | E32: - | F32: 19.55 | G32: - | H32: - | I32: -
B33: 26 | C33: Dessert Oil | D33: 17.5 | E33: - | F33: 18.5 | G33: - | H33: - | I33: -
B34: 27 | C34: Dukes Petroleum | D34: 16.2 | E34: - | F34: 17.4 | G34: 15.8578 | H34: - | I34: -
B35: 28 | C35: Eden Petroleum | D35: 16.77 | E35: - | F35: 17.77 | G35: - | H35: - | I35: -
B36: 29 | C36: Energetic Petro gh | D36: 17.32 | E36: - | F36: 17.82 | G36: - | H36: - | I36: -
B37: 30 | C37: Ex Oil | D37: 17.7 | E37: - | F37: 18.25 | G37: - | H37: - | I37: -
B38: 31 | C38: EV Oil | D38: 16.5 | E38: - | F38: 17.77 | G38: - | H38: - | I38: -
B39: 32 | C39: E-Windstar | D39: 16.99 | F39: 18.26 | G39: - | H39: - | I39: -
B40: 33 | C40: Eza Petroleum | D40: 16.77 | E40: - | F40: 17.97 | G40: - | H40: - | I40: -
B41: 34 | C41: First Gas | D41: - | E41: - | F41: - | G41: 16.3789 | H41: - | I41: -
B42: 35 | C42: Finest Oil | D42: 16.77 | E42: - | F42: 17.77 | G42: - | H42: - | I42: -
B43: 36 | C43: Frimps Oil | D43: 16 | E43: - | F43: 17.77 | G43: 14.78 | H43: - | I43: -
B44: 37 | C44: Frontier Oil | D44: 16.45 | E44: - | F44: 17.69 | G44: - | H44: - | I44: -
B45: 38 | C45: Gab Energy | D45: 16.76 | E45: - | F45: 17.76 | G45: - | H45: - | I45: -
B46: 39 | C46: GasoPetroleum | E46: - | G46: - | H46: - | I46: -
B47: 40 | C47: Gogas | D47: - | E47: - | F47: - | G47: 17.1589 | H47: - | I47: -
B48: 41 | C48: GOIL | D48: 16.64 | E48: 18.99 | F48: 18.46 | G48: 16.720408 | H48: 19.78 | I48: -
B49: 42 | C49: Goodness Energy | D49: 16.65 | E49: - | F49: 17.69 | G49: - | H49: - | I49: -
B50: 43 | C50: Gowell Energy | D50: 16.95 | E50: - | F50: 17.95 | G50: - | H50: - | I50: -
B51: 44 | C51: Green GG7 | D51: - | E51: - | F51: - | G51: 16.8208 | H51: - | I51: -
B52: 45 | C52: Henos Energy | D52: - | E52: - | F52: - | G52: 14.6578 | H52: - | I52: -
B53: 46 | C53: Hills Oil | D53: - | E53: - | F53: - | G53: 16.36 | H53: - | I53: -
B54: 47 | C54: Huss Petroleum | D54: 16.75 | E54: - | F54: 17.79 | G54: - | H54: - | I54: -
B55: 48 | C55: Icon Energy | D55: 16 | E55: - | F55: 17.97 | G55: - | H55: - | I55: -
B56: 49 | C56: Infin | D56: 17.49 | E56: - | F56: 18.49 | G56: 17.8078 | H56: - | I56: -
B57: 50 | C57: Joekona | D57: - | E57: - | F57: - | G57: 16.2678 | H57: - | I57: -
B58: 51 | C58: JD Links | D58: 16.75 | E58: - | F58: 17.75 | G58: 15.1622 | H58: - | I58: -
B59: 52 | C59: Jusbro | D59: 17.89 | E59: - | F59: 19.619 | G59: 16.0867 | H59: - | I59: -
B60: 53 | C60: JP Trustee | D60: 16 | E60: 18.97 | F60: 17.95 | G60: - | H60: - | I60: -
B61: 54 | C61: Kab Energy | D61: 17.35 | E61: - | F61: 18.55 | G61: - | H61: - | I61: -
B62: 55 | C62: Kaysens | D62: - | E62: - | F62: - | G62: 16.7774 | H62: - | I62: -
B63: 56 | C63: Koan Petroleum | D63: 16.5 | E63: - | F63: 17.9 | G63: 17.05 | H63: - | I63: -
B64: 57 | C64: KI Energy | D64: - | E64: - | F64: - | G64: 18.4578 | H64: - | I64: -
B65: 58 | C65: Kings Energy | D65: 16.77 | E65: - | F65: 17.77 | G65: - | H65: - | I65: -
B66: 59 | C66: La Clem | D66: 16.59 | E66: - | F66: 17.75 | G66: - | H66: - | I66: - | N66: ``
B67: 60 | C67: Lamininbee | D67: - | E67: - | F67: - | G67: 16.6578 | H67: - | I67: -
B68: 61 | C68: Lambark Gas | D68: - | E68: - | F68: - | G68: - | H68: - | I68: -
B69: 62 | C69: Lucky oil | D69: 16 | E69: - | F69: 17.1 | G69: 16.552 | H69: - | I69: -
B70: 63 | C70: Liberty Petroleum | D70: 17.6 | E70: - | F70: 18.6 | G70: - | H70: - | I70: -
B71: 64 | C71: Life Energy | D71: 16.77 | E71: - | F71: 17.77 | G71: - | H71: - | I71: -
B72: 65 | C72: Maxx Energy | D72: 15.15 | E72: - | F72: 17.37 | G72: - | H72: - | I72: -
B73: 66 | C73: Manbah Gas | D73: - | E73: - | F73: - | G73: 16.26 | H73: - | I73: -
B74: 67 | C74: Mercy Oil | D74: 17.69 | E74: - | F74: 18.69 | G74: - | H74: - | I74: -
B75: 68 | C75: Midas Oil | D75: - | E75: - | F75: - | G75: 16.8078 | H75: - | I75: -
B76: 69 | C76: Mighty Gas | D76: - | E76: - | F76: - | G76: 15.34 | H76: - | I76: -
B77: 70 | C77: Misa Energy | D77: 16.19 | E77: - | F77: 17.17 | G77: 14.9578 | H77: 17.16 | I77: 18.57
B78: 71 | C78: More Fuel | D78: 16 | E78: - | F78: 17.65 | G78: - | H78: - | I78: -
B79: 72 | C79: MM Energy | D79: 15.57 | E79: - | F79: 16.95 | G79: - | H79: - | I79: -
B80: 73 | C80: Naagamni | D80: 16.75 | E80: - | F80: 17.75 | G80: - | H80: - | I80: -
B81: 74 | C81: Nasona | D81: 16.64 | E81: - | F81: 18.25 | G81: - | H81: - | I81: -
B82: 75 | C82: Nexbons | D82: - | E82: - | F82: - | G82: 17.1478 | H82: - | I82: -
B83: 76 | C83: Next Petroleum | D83: 15.3 | E83: - | F83: 16.4 | G83: - | H83: - | I83: -
B84: 77 | C84: Ocean Oil | D84: - | E84: - | F84: - | G84: 16.7378 | H84: - | I84: -
B85: 78 | C85: Power Fuels | D85: 15.77 | E85: - | F85: 17.2037 | G85: - | H85: - | I85: -
B86: 79 | C86: Pacific Oil | D86: 16.87 | E86: - | F86: 17.65 | G86: 15.8812 | H86: -
B87: 80 | C87: PK Oil & Gas | D87: 16.73 | E87: - | F87: 17.76 | G87: - | H87: - | I87: -
B88: 81 | C88: P.K.A. Bonney | D88: - | E88: - | F88: - | G88: 16.72 | H88: - | I88: -
B89: 82 | C89: Petroland | D89: 16.17 | E89: - | F89: 17.19 | G89: - | H89: - | I89: -
B90: 83 | C90: Petrosol | D90: 16.77 | E90: - | F90: 17.97 | G90: 16.6 | H90: - | I90: -
B91: 84 | C91: Petrogy Limited | D91: 17.35 | E91: - | F91: 19.15 | G91: - | H91: - | I91: -
B92: 85 | C92: Petronax | D92: 15.99 | E92: - | F92: 17.4 | G92: - | H92: - | I92: -
B93: 86 | C93: Petro Sankofa | D93: 16.74 | E93: - | F93: 18.7 | G93: - | H93: - | I93: -
B94: 87 | C94: Quantum Petroleum | D94: 17.79 | E94: - | F94: 18.68 | G94: - | H94: - | I94: -
B95: 88 | C95: Puma Energy | D95: 17.4 | E95: - | F95: 18.4 | G95: 18.8 | H95: - | I95: -
B96: 89 | C96: Radiance | D96: 15.49 | E96: - | F96: 18.49 | G96: 17.65 | H96: - | I96: -
B97: 90 | C97: Raz Oil | D97: 16.77 | E97: - | F97: 17.95 | G97: - | H97: - | I97: -
B98: 91 | C98: Ready Oil | D98: 17.99 | E98: - | F98: 18.77 | G98: - | H98: - | I98: -
B99: 92 | C99: Rootsenaf | D99: - | E99: - | F99: - | G99: 16.4978 | H99: - | I99: -
B100: 93 | C100: Reliance Oil Limited | D100: 16.5 | E100: - | F100: 17.65 | G100: - | H100: - | I100: -
B101: 94 | C101: Restol Energy | D101: 16.75 | E101: - | F101: 17.75 | G101: - | H101: - | I101: -
B102: 95 | C102: Royal Energy | D102: - | E102: - | F102: - | G102: 16.46 | H102: - | I102: -
B103: 96 | C103: Runnel Oil | D103: 16.77 | E103: - | F103: 19.5 | G103: 16.72 | H103: - | I103: -
B104: 97 | C104: Sap Oil | D104: 15.87 | E104: - | F104: 17.57 | G104: - | H104: - | I104: -
B105: 98 | C105: Sawadigo Oil Co. | D105: 16.87 | E105: - | F105: 17.8 | G105: - | H105: - | I105: -
...

Sheet Ex-Pump Prices 24th Sept 2026
B2: NATIONAL PETROLEUM AUTHORITY
B6: EX-PUMP PRICES OF OMCs/LPGMCs AS OF 24th September 2026
B8: NO. | C8: COMPANY | D8: REGULAR PETROL - RON 91 (GHS/Lt) | E8: PREMIUM PETROL - RON 95 (GHS/Lt) | F8: DIESEL (GHS/Lt) | G8: LPG (GHS/Kg) | H8: KEROSENE (GHS/Lt) | I8: MGO Local (GHS/Lt)
B9: 1 | C9: Agapet | D9: 17.77 | E9: - | F9: 18.6 | G9: - | H9: - | I9: -
B10: 2 | C10: Aegis huile | D10: 16.49 | E10: - | F10: 17.99 | G10: - | H10: - | I10: -
B11: 3 | C11: AI Energy | D11: 16.99 | E11: - | F11: 17.99 | G11: - | H11: - | I11: -
B12: 4 | C12: Allied Oil | D12: 16.99 | E12: - | F12: 17.99 | G12: - | H12: - | I12: -
B13: 5 | C13: Alive Gas | D13: - | E13: - | F13: - | G13: 16.5578 | H13: - | I13: -
B14: 6 | C14: Aminaser Oil | D14: 14.5 | E14: - | F14: 16.69 | G14: - | H14: - | I14: -
B15: 7 | C15: Anasset | D15: - | E15: - | F15: - | G15: 16.7996 | H15: - | I15: -
B16: 8 | C16: Andev | D16: - | E16: - | F16: - | G16: 16.5578 | H16: - | I16: -
B17: 9 | C17: Annandale | D17: - | E17: - | F17: - | G17: 16.51 | H17: - | I17: -
B18: 11 | C18: Amdaway | D18: 16 | E18: - | F18: 16.97 | G18: - | H18: - | I18: -
B19: 12 | C19: Beap Energy | D19: 15.92 | E19: - | F19: 17 | G19: - | H19: - | I19: -
B20: 13 | C20: Benab Oil | D20: 16 | E20: - | F20: 17.75 | G20: 14.74 | H20: - | I20: -
B21: 14 | C21: Baffour Gas | D21: - | E21: - | F21: - | G21: 17.1589 | H21: - | I21: -
B22: 15 | C22: Bloom Petroleum | D22: 17.49 | E22: - | F22: 18.89 | G22: - | H22: - | I22: -
B23: 16 | C23: Breedlove Co. Ltd. | D23: 16.7 | E23: - | F23: 17.7 | G23: - | H23: - | I23: -
B24: 17 | C24: Brent Petroleum | D24: 16.97 | E24: - | F24: 17.97 | G24: - | H24: - | I24: -
B25: 18 | C25: Crown Petroleum | D25: 16.27 | E25: - | F25: 17.25 | G25: 17.6399 | H25: - | I25: -
B26: 19 | C26: Central Brent | D26: - | E26: - | F26: - | G26: 15.9578 | H26: - | I26: -
B27: 20 | C27: Cent Eastern | D27: - | E27: - | F27: - | G27: 16.6578 | H27: - | I27: -
B28: 21 | C28: Oil Space | D28: - | E28: - | F28: 16.78 | G28: 14.84 | H28: - | I28: -
B29: 22 | C29: Coegan | D29: - | E29: - | F29: - | G29: 16.7574 | H29: - | I29: -
B30: 23 | C30: Compass Oleum | D30: 17.7 | E30: - | F30: 18.25 | G30: - | H30: - | I30: -
B31: 24 | C31: Davis Petroleum | D31: 15.59 | E31: - | F31: 17.26 | G31: 18.0078 | H31: - | I31: -
B32: 25 | C32: Dejon Jones | D32: 17.77 | E32: - | F32: 19.55 | G32: - | H32: - | I32: -
B33: 26 | C33: Dessert Oil | D33: 16.5 | E33: - | F33: 18 | G33: - | H33: - | I33: -
B34: 27 | C34: Dukes Petroleum | D34: 16.2 | E34: - | F34: 17.4 | G34: 15.8578 | H34: - | I34: -
B35: 28 | C35: Eden Petroleum | D35: 16.77 | E35: - | F35: 17.77 | G35: - | H35: - | I35: -
B36: 29 | C36: Energetic Petro gh | D36: 17.32 | E36: - | F36: 17.82 | G36: - | H36: - | I36: -
B37: 30 | C37: Ex Oil | D37: 17.7 | E37: - | F37: 18.25 | G37: - | H37: - | I37: -
B38: 31 | C38: EV Oil | D38: 16.5 | E38: - | F38: 17.77 | G38: - | H38: - | I38: -
B39: 32 | C39: E-Windstar | D39: 16.99 | F39: 18.26 | G39: - | H39: - | I39: -
B40: 33 | C40: Eza Petroleum | D40: 16.77 | E40: - | F40: 17.97 | G40: - | H40: - | I40: -
B41: 34 | C41: First Gas | D41: - | E41: - | F41: - | G41: 16.3789 | H41: - | I41: -
B42: 35 | C42: Finest Oil | D42: 16.77 | E42: - | F42: 17.77 | G42: - | H42: - | I42: -
B43: 36 | C43: Frimps Oil | D43: 16.77 | E43: - | F43: 17.77 | G43: 14.78 | H43: - | I43: -
B44: 37 | C44: Frontier Oil | D44: 16.45 | E44: - | F44: 17.69 | G44: - | H44: - | I44: -
B45: 38 | C45: Gab Energy | D45: 16.76 | E45: - | F45: 17.76 | G45: - | H45: - | I45: -
B46: 39 | C46: GasoPetroleum | E46: - | G46: - | H46: - | I46: -
B47: 40 | C47: Gogas | D47: - | E47: - | F47: - | G47: 17.1589 | H47: - | I47: -
B48: 41 | C48: GOIL | D48: 16.64 | E48: 18.99 | F48: 18.46 | G48: 16.720408 | H48: 19.78 | I48: -
B49: 42 | C49: Goodness Energy | D49: 16.65 | E49: - | F49: 17.69 | G49: - | H49: - | I49: -
B50: 43 | C50: Gowell Energy | D50: 16.95 | E50: - | F50: 17.65 | G50: - | H50: - | I50: -
B51: 44 | C51: Green GG7 | D51: - | E51: - | F51: - | G51: 16.8208 | H51: - | I51: -
B52: 45 | C52: Henos Energy | D52: - | E52: - | F52: - | G52: 14.6578 | H52: - | I52: -
B53: 46 | C53: Hills Oil | D53: - | E53: - | F53: - | G53: 16.36 | H53: - | I53: -
B54: 47 | C54: Huss Petroleum | D54: 16.75 | E54: - | F54: 17.79 | G54: - | H54: - | I54: -
B55: 48 | C55: Icon Energy | D55: 16 | E55: - | F55: 17.97 | G55: - | H55: - | I55: -
B56: 49 | C56: Infin | D56: 17.49 | E56: - | F56: 18.49 | G56: 17.8078 | H56: - | I56: -
B57: 50 | C57: Joekona | D57: - | E57: - | F57: - | G57: 16.2678 | H57: - | I57: -
B58: 51 | C58: JD Links | D58: 16.75 | E58: - | F58: 17.75 | G58: 15.1622 | H58: - | I58: -
B59: 52 | C59: Jusbro | D59: 17.89 | E59: - | F59: 19.619 | G59: 16.0867 | H59: - | I59: -
B60: 53 | C60: JP Trustee | D60: 16 | E60: 18.97 | F60: 17.95 | G60: - | H60: - | I60: -
B61: 54 | C61: Kab Energy | D61: 17.35 | E61: - | F61: 18.55 | G61: - | H61: - | I61: -
B62: 55 | C62: Kaysens | D62: - | E62: - | F62: - | G62: 16.7774 | H62: - | I62: -
B63: 56 | C63: Koan Petroleum | D63: 16.5 | E63: - | F63: 17.9 | G63: 17.05 | H63: - | I63: -
B64: 57 | C64: KI Energy | D64: - | E64: - | F64: - | G64: 18.4578 | H64: - | I64: -
B65: 58 | C65: Kings Energy | D65: 16.77 | E65: - | F65: 17.77 | G65: - | H65: - | I65: -
B66: 59 | C66: La Clem | D66: 16.59 | E66: - | F66: 17.75 | G66: - | H66: - | I66: - | N66: ``
B67: 60 | C67: Lamininbee | D67: - | E67: - | F67: - | G67: 16.6578 | H67: - | I67: -
B68: 61 | C68: Lambark Gas | D68: - | E68: - | F68: - | G68: - | H68: - | I68: -
B69: 62 | C69: Lucky oil | D69: 16 | E69: - | F69: 17.1 | G69: 16.552 | H69: - | I69: -
B70: 63 | C70: Liberty Petroleum | D70: 17.6 | E70: - | F70: 18.6 | G70: - | H70: - | I70: -
B71: 64 | C71: Life Energy | D71: 16.77 | E71: - | F71: 17.77 | G71: - | H71: - | I71: -
B72: 65 | C72: Maxx Energy | D72: 15.15 | E72: - | F72: 17.37 | G72: - | H72: - | I72: -
B73: 66 | C73: Manbah Gas | D73: - | E73: - | F73: - | G73: 16.26 | H73: - | I73: -
B74: 67 | C74: Mercy Oil | D74: 17.69 | E74: - | F74: 18.69 | G74: - | H74: - | I74: -
B75: 68 | C75: Midas Oil | D75: - | E75: - | F75: - | G75: 16.8078 | H75: - | I75: -
B76: 69 | C76: Mighty Gas | D76: - | E76: - | F76: - | G76: 15.34 | H76: - | I76: -
B77: 70 | C77: Misa Energy | D77: 16.19 | E77: - | F77: 17.17 | G77: 14.9578 | H77: 17.16 | I77: 18.57
B78: 71 | C78: More Fuel | D78: 16 | E78: - | F78: 17.65 | G78: - | H78: - | I78: -
B79: 72 | C79: MM Energy | D79: 15.57 | E79: - | F79: 16.95 | G79: - | H79: - | I79: -
B80: 73 | C80: Naagamni | D80: 16.75 | E80: - | F80: 17.75 | G80: - | H80: - | I80: -
B81: 74 | C81: Nasona | D81: 16.64 | E81: - | F81: 18.25 | G81: - | H81: - | I81: -
B82: 75 | C82: Nexbons | D82: - | E82: - | F82: - | G82: 17.1478 | H82: - | I82: -
B83: 76 | C83: Next Petroleum | D83: 15.3 | E83: - | F83: 16.4 | G83: - | H83: - | I83: -
B84: 77 | C84: Ocean Oil | D84: - | E84: - | F84: - | G84: 16.7378 | H84: - | I84: -
B85: 78 | C85: Power Fuels | D85: 15.77 | E85: - | F85: 17.2037 | G85: - | H85: - | I85: -
B86: 79 | C86: Pacific Oil | D86: 16.87 | E86: - | F86: 17.65 | G86: 15.8812 | H86: -
B87: 80 | C87: PK Oil & Gas | D87: 16.73 | E87: - | F87: 17.76 | G87: - | H87: - | I87: -
B88: 81 | C88: P.K.A. Bonney | D88: - | E88: - | F88: - | G88: 16.72 | H88: - | I88: -
B89: 82 | C89: Petroland | D89: 16.17 | E89: - | F89: 17.19 | G89: - | H89: - | I89: -
B90: 83 | C90: Petrosol | D90: 16.77 | E90: - | F90: 17.97 | G90: 16.6 | H90: - | I90: -
B91: 84 | C91: Petrogy Limited | D91: 17.35 | E91: - | F91: 19.15 | G91: - | H91: - | I91: -
B92: 85 | C92: Petronax | D92: 15.99 | E92: - | F92: 17.4 | G92: - | H92: - | I92: -
B93: 86 | C93: Petro Sankofa | D93: 16.74 | E93: - | F93: 18.7 | G93: - | H93: - | I93: -
B94: 87 | C94: Quantum Petroleum | D94: 17.79 | E94: - | F94: 18.68 | G94: - | H94: - | I94: -
B95: 88 | C95: Puma Energy | D95: 17.4 | E95: - | F95: 18.4 | G95: 18.8 | H95: - | I95: -
B96: 89 | C96: Radiance | D96: 15.49 | E96: - | F96: 18.49 | G96: 17.65 | H96: - | I96: -
B97: 90 | C97: Raz Oil | D97: 16.77 | E97: - | F97: 17.95 | G97: - | H97: - | I97: -
B98: 91 | C98: Ready Oil | D98: 17.99 | E98: - | F98: 18.77 | G98: - | H98: - | I98: -
B99: 92 | C99: Rootsenaf | D99: - | E99: - | F99: - | G99: 16.4978 | H99: - | I99: -
B100: 93 | C100: Reliance Oil Limited | D100: 16.5 | E100: - | F100: 17.65 | G100: - | H100: - | I100: -
B101: 94 | C101: Restol Energy | D101: 16.75 | E101: - | F101: 17.75 | G101: - | H101: - | I101: -
B102: 95 | C102: Royal Energy | D102: - | E102: - | F102: - | G102: 16.46 | H102: - | I102: -
B103: 96 | C103: Runnel Oil | D103: 16.77 | E103: - | F103: 19.5 | G103: 16.72 | H103: - | I103: -
B104: 97 | C104: Sap Oil | D104: 15.87 | E104: - | F104: 17.57 | G104: - | H104: - | I104: -
B105: 98 | C105: Sawadigo Oil Co. | D105: 16.87 | E105: - | F105: 17.8 | G105: - | H105: - | I105: -
...

Sheet Ex-Pump Prices 23rd Sept 2026
B2: NATIONAL PETROLEUM AUTHORITY
B6: EX-PUMP PRICES OF OMCs/LPGMCs AS OF 23rd September 2026
B8: NO. | C8: COMPANY | D8: REGULAR PETROL - RON 91 (GHS/Lt) | E8: PREMIUM PETROL - RON 95 (GHS/Lt) | F8: DIESEL (GHS/Lt) | G8: LPG (GHS/Kg) | H8: KEROSENE (GHS/Lt) | I8: MGO Local (GHS/Lt)
B9: 1 | C9: Agapet | D9: 17.77 | E9: - | F9: 18.6 | G9: - | H9: - | I9: -
B10: 2 | C10: Aegis huile | D10: 16.49 | E10: - | F10: 17.99 | G10: - | H10: - | I10: -
B11: 3 | C11: AI Energy | D11: 16.99 | E11: - | F11: 17.99 | G11: - | H11: - | I11: -
B12: 4 | C12: Allied Oil | D12: 16.99 | E12: - | F12: 17.99 | G12: - | H12: - | I12: -
B13: 5 | C13: Alive Gas | D13: - | E13: - | F13: - | G13: 16.5578 | H13: - | I13: -
B14: 6 | C14: Aminaser Oil | D14: 14.5 | E14: - | F14: 16.69 | G14: - | H14: - | I14: -
B15: 7 | C15: Anasset | D15: - | E15: - | F15: - | G15: 16.7996 | H15: - | I15: -
B16: 8 | C16: Andev | D16: - | E16: - | F16: - | G16: 16.5578 | H16: - | I16: -
B17: 9 | C17: Annandale | D17: - | E17: - | F17: - | G17: 16.51 | H17: - | I17: -
B18: 11 | C18: Amdaway | D18: 16 | E18: - | F18: 16.97 | G18: - | H18: - | I18: -
B19: 12 | C19: Beap Energy | D19: 15.92 | E19: - | F19: 17 | G19: - | H19: - | I19: -
B20: 13 | C20: Benab Oil | D20: 16 | E20: - | F20: 17.75 | G20: 14.74 | H20: - | I20: -
B21: 14 | C21: Baffour Gas | D21: - | E21: - | F21: - | G21: 17.1589 | H21: - | I21: -
B22: 15 | C22: Bloom Petroleum | D22: 17.49 | E22: - | F22: 18.89 | G22: - | H22: - | I22: -
B23: 16 | C23: Breedlove Co. Ltd. | D23: 16.7 | E23: - | F23: 17.7 | G23: - | H23: - | I23: -
B24: 17 | C24: Brent Petroleum | D24: 16.97 | E24: - | F24: 17.97 | G24: - | H24: - | I24: -
B25: 18 | C25: Crown Petroleum | D25: 16.27 | E25: - | F25: 17.25 | G25: 17.6399 | H25: - | I25: -
B26: 19 | C26: Central Brent | D26: - | E26: - | F26: - | G26: 15.9578 | H26: - | I26: -
B27: 20 | C27: Cent Eastern | D27: - | E27: - | F27: - | G27: 16.6578 | H27: - | I27: -
B28: 21 | C28: Oil Space | D28: - | E28: - | F28: 16.78 | G28: 14.84 | H28: - | I28: -
B29: 22 | C29: Coegan | D29: - | E29: - | F29: - | G29: 16.7574 | H29: - | I29: -
B30: 23 | C30: Compass Oleum | D30: 17.7 | E30: - | F30: 18.25 | G30: - | H30: - | I30: -
B31: 24 | C31: Davis Petroleum | D31: 15.59 | E31: - | F31: 17.26 | G31: 18.0078 | H31: - | I31: -
B32: 25 | C32: Dejon Jones | D32: 17.77 | E32: - | F32: 19.55 | G32: - | H32: - | I32: -
B33: 26 | C33: Dessert Oil | D33: 16.5 | E33: - | F33: 18 | G33: - | H33: - | I33: -
B34: 27 | C34: Dukes Petroleum | D34: 16.2 | E34: - | F34: 17.4 | G34: 15.8578 | H34: - | I34: -
B35: 28 | C35: Eden Petroleum | D35: 16.77 | E35: - | F35: 17.77 | G35: - | H35: - | I35: -
B36: 29 | C36: Energetic Petro gh | D36: 17.32 | E36: - | F36: 17.82 | G36: - | H36: - | I36: -
B37: 30 | C37: Ex Oil | D37: 17.7 | E37: - | F37: 18.25 | G37: - | H37: - | I37: -
B38: 31 | C38: EV Oil | D38: 16.5 | E38: - | F38: 17.77 | G38: - | H38: - | I38: -
B39: 32 | C39: E-Windstar | D39: 16.99 | F39: 18.26 | G39: - | H39: - | I39: -
B40: 33 | C40: Eza Petroleum | D40: 16.77 | E40: - | F40: 17.97 | G40: - | H40: - | I40: -
B41: 34 | C41: First Gas | D41: - | E41: - | F41: - | G41: 16.3789 | H41: - | I41: -
B42: 35 | C42: Finest Oil | D42: 16.77 | E42: - | F42: 17.77 | G42: - | H42: - | I42: -
B43: 36 | C43: Frimps Oil | D43: 16.77 | E43: - | F43: 17.77 | G43: 14.78 | H43: - | I43: -
B44: 37 | C44: Frontier Oil | D44: 16.45 | E44: - | F44: 17.69 | G44: - | H44: - | I44: -
B45: 38 | C45: Gab Energy | D45: 16.76 | E45: - | F45: 17.76 | G45: - | H45: - | I45: -
B46: 39 | C46: GasoPetroleum | E46: - | G46: - | H46: - | I46: -
B47: 40 | C47: Gogas | D47: - | E47: - | F47: - | G47: 17.1589 | H47: - | I47: -
B48: 41 | C48: GOIL | D48: 16.64 | E48: 18.99 | F48: 18.46 | G48: 16.720408 | H48: 19.78 | I48: -
B49: 42 | C49: Goodness Energy | D49: 16.65 | E49: - | F49: 17.69 | G49: - | H49: - | I49: -
B50: 43 | C50: Gowell Energy | D50: 16.95 | E50: - | F50: 17.65 | G50: - | H50: - | I50: -
B51: 44 | C51: Green GG7 | D51: - | E51: - | F51: - | G51: 16.8208 | H51: - | I51: -
B52: 45 | C52: Henos Energy | D52: - | E52: - | F52: - | G52: 14.6578 | H52: - | I52: -
B53: 46 | C53: Hills Oil | D53: - | E53: - | F53: - | G53: 16.36 | H53: - | I53: -
B54: 47 | C54: Huss Petroleum | D54: 16.75 | E54: - | F54: 17.79 | G54: - | H54: - | I54: -
B55: 48 | C55: Icon Energy | D55: 16 | E55: - | F55: 17.97 | G55: - | H55: - | I55: -
B56: 49 | C56: Infin | D56: 17.49 | E56: - | F56: 18.49 | G56: 17.8078 | H56: - | I56: -
B57: 50 | C57: Joekona | D57: - | E57: - | F57: - | G57: 16.2678 | H57: - | I57: -
B58: 51 | C58: JD Links | D58: 16.75 | E58: - | F58: 17.75 | G58: 15.1622 | H58: - | I58: -
B59: 52 | C59: Jusbro | D59: 17.89 | E59: - | F59: 19.619 | G59: 16.0867 | H59: - | I59: -
B60: 53 | C60: JP Trustee | D60: 16 | E60: 18.97 | F60: 17.95 | G60: - | H60: - | I60: -
B61: 54 | C61: Kab Energy | D61: 17.35 | E61: - | F61: 18.55 | G61: - | H61: - | I61: -
B62: 55 | C62: Kaysens | D62: - | E62: - | F62: - | G62: 16.7774 | H62: - | I62: -
B63: 56 | C63: Koan Petroleum | D63: 16.5 | E63: - | F63: 17.9 | G63: 17.05 | H63: - | I63: -
B64: 57 | C64: KI Energy | D64: - | E64: - | F64: - | G64: 18.4578 | H64: - | I64: -
B65: 58 | C65: Kings Energy | D65: 16.77 | E65: - | F65: 17.77 | G65: - | H65: - | I65: -
B66: 59 | C66: La Clem | D66: 16.59 | E66: - | F66: 17.75 | G66: - | H66: - | I66: - | N66: ``
B67: 60 | C67: Lamininbee | D67: - | E67: - | F67: - | G67: 16.6578 | H67: - | I67: -
B68: 61 | C68: Lambark Gas | D68: - | E68: - | F68: - | G68: - | H68: - | I68: -
B69: 62 | C69: Lucky oil | D69: 16 | E69: - | F69: 17.1 | G69: 16.552 | H69: - | I69: -
B70: 63 | C70: Liberty Petroleum | D70: 17.6 | E70: - | F70: 18.6 | G70: - | H70: - | I70: -
B71: 64 | C71: Life Energy | D71: 16.77 | E71: - | F71: 17.77 | G71: - | H71: - | I71: -
B72: 65 | C72: Maxx Energy | D72: 15.15 | E72: - | F72: 17.37 | G72: - | H72: - | I72: -
B73: 66 | C73: Manbah Gas | D73: - | E73: - | F73: - | G73: 16.26 | H73: - | I73: -
B74: 67 | C74: Mercy Oil | D74: 17.69 | E74: - | F74: 18.69 | G74: - | H74: - | I74: -
B75: 68 | C75: Midas Oil | D75: - | E75: - | F75: - | G75: 16.8078 | H75: - | I75: -
B76: 69 | C76: Mighty Gas | D76: - | E76: - | F76: - | G76: 15.34 | H76: - | I76: -
B77: 70 | C77: Misa Energy | D77: 16.19 | E77: - | F77: 17.17 | G77: 14.9578 | H77: 17.16 | I77: 18.57
B78: 71 | C78: More Fuel | D78: 16 | E78: - | F78: 17.16 | G78: - | H78: - | I78: -
B79: 72 | C79: MM Energy | D79: 15.57 | E79: - | F79: 16.95 | G79: - | H79: - | I79: -
B80: 73 | C80: Naagamni | D80: 16.75 | E80: - | F80: 17.75 | G80: - | H80: - | I80: -
B81: 74 | C81: Nasona | D81: 16.64 | E81: - | F81: 18.25 | G81: - | H81: - | I81: -
B82: 75 | C82: Nexbons | D82: - | E82: - | F82: - | G82: 17.1478 | H82: - | I82: -
B83: 76 | C83: Next Petroleum | D83: 15.3 | E83: - | F83: 16.4 | G83: - | H83: - | I83: -
B84: 77 | C84: Ocean Oil | D84: - | E84: - | F84: - | G84: 16.7378 | H84: - | I84: -
B85: 78 | C85: Power Fuels | D85: 15.77 | E85: - | F85: 17.2037 | G85: - | H85: - | I85: -
B86: 79 | C86: Pacific Oil | D86: 16.87 | E86: - | F86: 17.65 | G86: 15.8812 | H86: -
B87: 80 | C87: PK Oil & Gas | D87: 16.73 | E87: - | F87: 17.76 | G87: - | H87: - | I87: -
B88: 81 | C88: P.K.A. Bonney | D88: - | E88: - | F88: - | G88: 16.72 | H88: - | I88: -
B89: 82 | C89: Petroland | D89: 16.17 | E89: - | F89: 17.19 | G89: - | H89: - | I89: -
B90: 83 | C90: Petrosol | D90: 16.77 | E90: - | F90: 17.97 | G90: 16.6 | H90: - | I90: -
B91: 84 | C91: Petrogy Limited | D91: 17.35 | E91: - | F91: 19.15 | G91: - | H91: - | I91: -
B92: 85 | C92: Petronax | D92: 15.99 | E92: - | F92: 17.4 | G92: - | H92: - | I92: -
B93: 86 | C93: Petro Sankofa | D93: 16.74 | E93: - | F93: 18.7 | G93: - | H93: - | I93: -
B94: 87 | C94: Quantum Petroleum | D94: 17.79 | E94: - | F94: 18.68 | G94: - | H94: - | I94: -
B95: 88 | C95: Puma Energy | D95: 17.4 | E95: - | F95: 18.4 | G95: 18.8 | H95: - | I95: -
B96: 89 | C96: Radiance | D96: 15.49 | E96: - | F96: 18.49 | G96: 17.65 | H96: - | I96: -
B97: 90 | C97: Raz Oil | D97: 16.77 | E97: - | F97: 17.95 | G97: - | H97: - | I97: -
B98: 91 | C98: Ready Oil | D98: 17.99 | E98: - | F98: 18.77 | G98: - | H98: - | I98: -
B99: 92 | C99: Rootsenaf | D99: - | E99: - | F99: - | G99: 16.4978 | H99: - | I99: -
B100: 93 | C100: Reliance Oil Limited | D100: 16.19 | E100: - | F100: 17.39 | G100: - | H100: - | I100: -
B101: 94 | C101: Restol Energy | D101: 16.75 | E101: - | F101: 17.75 | G101: - | H101: - | I101: -
B102: 95 | C102: Royal Energy | D102: - | E102: - | F102: - | G102: 16.46 | H102: - | I102: -
B103: 96 | C103: Runnel Oil | D103: 15.99 | E103: - | F103: 17.19 | G103: 17.5 | H103: - | I103: -
B104: 97 | C104: Sap Oil | D104: 15.87 | E104: - | F104: 17.57 | G104: - | H104: - | I104: -
B105: 98 | C105: Sawadigo Oil Co. | D105: 16.87 | E105: - | F105: 17.8 | G105: - | H105: - | I105: -
...

Sheet Ex-Pump Prices 22nd Sept 2026
B2: NATIONAL PETROLEUM AUTHORITY
B6: EX-PUMP PRICES OF OMCs/LPGMCs AS OF 22nd September 2026
B8: NO. | C8: COMPANY | D8: REGULAR PETROL - RON 91 (GHS/Lt) | E8: PREMIUM PETROL - RON 95 (GHS/Lt) | F8: DIESEL (GHS/Lt) | G8: LPG (GHS/Kg) | H8: KEROSENE (GHS/Lt) | I8: MGO Local (GHS/Lt)
B9: 1 | C9: Agapet | D9: 17.77 | E9: - | F9: 18.1 | G9: - | H9: - | I9: -
B10: 2 | C10: Aegis huile | D10: 16.49 | E10: - | F10: 17.99 | G10: - | H10: - | I10: -
B11: 3 | C11: AI Energy | D11: 16.99 | E11: - | F11: 17.99 | G11: - | H11: - | I11: -
B12: 4 | C12: Allied Oil | D12: 16.99 | E12: - | F12: 17.99 | G12: - | H12: - | I12: -
B13: 5 | C13: Alive Gas | D13: - | E13: - | F13: - | G13: 16.5578 | H13: - | I13: -
B14: 6 | C14: Aminaser Oil | D14: 14.5 | E14: - | F14: 16.69 | G14: - | H14: - | I14: -
B15: 7 | C15: Anasset | D15: - | E15: - | F15: - | G15: 16.7996 | H15: - | I15: -
B16: 8 | C16: Andev | D16: - | E16: - | F16: - | G16: 16.5578 | H16: - | I16: -
B17: 9 | C17: Annandale | D17: - | E17: - | F17: - | G17: 16.51 | H17: - | I17: -
B18: 11 | C18: Amdaway | D18: 16 | E18: - | F18: 16.97 | G18: - | H18: - | I18: -
B19: 12 | C19: Beap Energy | D19: 15.92 | E19: - | F19: 17 | G19: - | H19: - | I19: -
B20: 13 | C20: Benab Oil | D20: 16 | E20: - | F20: 17.75 | G20: 14.74 | H20: - | I20: -
B21: 14 | C21: Baffour Gas | D21: - | E21: - | F21: - | G21: 17.1589 | H21: - | I21: -
B22: 15 | C22: Bloom Petroleum | D22: 16.18 | E22: - | F22: 17.49 | G22: - | H22: - | I22: -
B23: 16 | C23: Breedlove Co. Ltd. | D23: 16.7 | E23: - | F23: 17.7 | G23: - | H23: - | I23: -
B24: 17 | C24: Brent Petroleum | D24: 16.97 | E24: - | F24: 17.97 | G24: - | H24: - | I24: -
B25: 18 | C25: Crown Petroleum | D25: 16.27 | E25: - | F25: 17.25 | G25: 17.6399 | H25: - | I25: -
B26: 19 | C26: Central Brent | D26: - | E26: - | F26: - | G26: 15.9578 | H26: - | I26: -
B27: 20 | C27: Cent Eastern | D27: - | E27: - | F27: - | G27: 16.6578 | H27: - | I27: -
B28: 21 | C28: Oil Space | D28: - | E28: - | F28: 16.78 | G28: 14.84 | H28: - | I28: -
B29: 22 | C29: Coegan | D29: - | E29: - | F29: - | G29: 16.7574 | H29: - | I29: -
B30: 23 | C30: Compass Oleum | D30: 17.7 | E30: - | F30: 18.25 | G30: - | H30: - | I30: -
B31: 24 | C31: Davis Petroleum | D31: 15.59 | E31: - | F31: 17.26 | G31: 18.0078 | H31: - | I31: -
B32: 25 | C32: Dejon Jones | D32: 17.77 | E32: - | F32: 19.55 | G32: - | H32: - | I32: -
B33: 26 | C33: Dessert Oil | D33: 16.5 | E33: - | F33: 18 | G33: - | H33: - | I33: -
B34: 27 | C34: Dukes Petroleum | D34: 16.2 | E34: - | F34: 17.4 | G34: 15.8578 | H34: - | I34: -
B35: 28 | C35: Eden Petroleum | D35: 16.77 | E35: - | F35: 17.77 | G35: - | H35: - | I35: -
B36: 29 | C36: Energetic Petro gh | D36: 17.32 | E36: - | F36: 17.82 | G36: - | H36: - | I36: -
B37: 30 | C37: Ex Oil | D37: 17.7 | E37: - | F37: 18.25 | G37: - | H37: - | I37: -
B38: 31 | C38: EV Oil | D38: 16.5 | E38: - | F38: 17.77 | G38: - | H38: - | I38: -
B39: 32 | C39: E-Windstar | D39: 16.99 | F39: 18.26 | G39: - | H39: - | I39: -
B40: 33 | C40: Eza Petroleum | D40: 16.77 | E40: - | F40: 17.97 | G40: - | H40: - | I40: -
B41: 34 | C41: First Gas | D41: - | E41: - | F41: - | G41: 16.3789 | H41: - | I41: -
B42: 35 | C42: Finest Oil | D42: 16.77 | E42: - | F42: 17.77 | G42: - | H42: - | I42: -
B43: 36 | C43: Frimps Oil | D43: 16.77 | E43: - | F43: 17.77 | G43: 14.78 | H43: - | I43: -
B44: 37 | C44: Frontier Oil | D44: 16.45 | E44: - | F44: 17.69 | G44: - | H44: - | I44: -
B45: 38 | C45: Gab Energy | D45: 16.76 | E45: - | F45: 17.76 | G45: - | H45: - | I45: -
B46: 39 | C46: GasoPetroleum | E46: - | G46: - | H46: - | I46: -
B47: 40 | C47: Gogas | D47: - | E47: - | F47: - | G47: 17.1589 | H47: - | I47: -
B48: 41 | C48: GOIL | D48: 16.64 | E48: 18.99 | F48: 18.46 | G48: 16.240408 | H48: 19.78 | I48: -
B49: 42 | C49: Goodness Energy | D49: 16.65 | E49: - | F49: 17.69 | G49: - | H49: - | I49: -
B50: 43 | C50: Gowell Energy | D50: 16.95 | E50: - | F50: 17.65 | G50: - | H50: - | I50: -
B51: 44 | C51: Green GG7 | D51: - | E51: - | F51: - | G51: 16.8208 | H51: - | I51: -
B52: 45 | C52: Henos Energy | D52: - | E52: - | F52: - | G52: 14.6578 | H52: - | I52: -
B53: 46 | C53: Hills Oil | D53: - | E53: - | F53: - | G53: 16.36 | H53: - | I53: -
B54: 47 | C54: Huss Petroleum | D54: 16.75 | E54: - | F54: 17.79 | G54: - | H54: - | I54: -
B55: 48 | C55: Icon Energy | D55: 16 | E55: - | F55: 17.97 | G55: - | H55: - | I55: -
B56: 49 | C56: Infin | D56: 17.49 | E56: - | F56: 18.49 | G56: 17.8078 | H56: - | I56: -
B57: 50 | C57: Joekona | D57: - | E57: - | F57: - | G57: 16.2678 | H57: - | I57: -
B58: 51 | C58: JD Links | D58: 16.75 | E58: - | F58: 17.75 | G58: 15.1622 | H58: - | I58: -
B59: 52 | C59: Jusbro | D59: 17.89 | E59: - | F59: 19.619 | G59: 16.0867 | H59: - | I59: -
B60: 53 | C60: JP Trustee | D60: 16 | E60: 18.97 | F60: 17.95 | G60: - | H60: - | I60: -
B61: 54 | C61: Kab Energy | D61: 17.35 | E61: - | F61: 18.55 | G61: - | H61: - | I61: -
B62: 55 | C62: Kaysens | D62: - | E62: - | F62: - | G62: 16.7774 | H62: - | I62: -
B63: 56 | C63: Koan Petroleum | D63: 16.5 | E63: - | F63: 17.9 | G63: 17.05 | H63: - | I63: -
B64: 57 | C64: KI Energy | D64: - | E64: - | F64: - | G64: 18.4578 | H64: - | I64: -
B65: 58 | C65: Kings Energy | D65: 16.77 | E65: - | F65: 17.77 | G65: - | H65: - | I65: -
B66: 59 | C66: La Clem | D66: 16.59 | E66: - | F66: 17.75 | G66: - | H66: - | I66: - | N66: ``
B67: 60 | C67: Lamininbee | D67: - | E67: - | F67: - | G67: 16.6578 | H67: - | I67: -
B68: 61 | C68: Lambark Gas | D68: - | E68: - | F68: - | G68: - | H68: - | I68: -
B69: 62 | C69: Lucky oil | D69: 16 | E69: - | F69: 17.1 | G69: 16.552 | H69: - | I69: -
B70: 63 | C70: Liberty Petroleum | D70: 17.79 | E70: - | F70: 18.79 | G70: - | H70: - | I70: -
B71: 64 | C71: Life Energy | D71: 16.77 | E71: - | F71: 17.77 | G71: - | H71: - | I71: -
B72: 65 | C72: Maxx Energy | D72: 15.15 | E72: - | F72: 17.37 | G72: - | H72: - | I72: -
B73: 66 | C73: Manbah Gas | D73: - | E73: - | F73: - | G73: 16.26 | H73: - | I73: -
B74: 67 | C74: Mercy Oil | D74: 17.69 | E74: - | F74: 18.69 | G74: - | H74: - | I74: -
B75: 68 | C75: Midas Oil | D75: - | E75: - | F75: - | G75: 16.8078 | H75: - | I75: -
B76: 69 | C76: Mighty Gas | D76: - | E76: - | F76: - | G76: 15.34 | H76: - | I76: -
B77: 70 | C77: Misa Energy | D77: 16.19 | E77: - | F77: 17.17 | G77: 14.9578 | H77: 17.16 | I77: 18.57
B78: 71 | C78: More Fuel | D78: 16 | E78: - | F78: 17.16 | G78: - | H78: - | I78: -
B79: 72 | C79: MM Energy | D79: 15.57 | E79: - | F79: 16.95 | G79: - | H79: - | I79: -
B80: 73 | C80: Naagamni | D80: 16.75 | E80: - | F80: 17.75 | G80: - | H80: - | I80: -
B81: 74 | C81: Nasona | D81: 16.64 | E81: - | F81: 18.25 | G81: - | H81: - | I81: -
B82: 75 | C82: Nexbons | D82: - | E82: - | F82: - | G82: 17.1478 | H82: - | I82: -
B83: 76 | C83: Next Petroleum | D83: 15.3 | E83: - | F83: 16.4 | G83: - | H83: - | I83: -
B84: 77 | C84: Ocean Oil | D84: - | E84: - | F84: - | G84: 16.7378 | H84: - | I84: -
B85: 78 | C85: Power Fuels | D85: 15.77 | E85: - | F85: 17.2037 | G85: - | H85: - | I85: -
B86: 79 | C86: Pacific Oil | D86: 16.87 | E86: - | F86: 17.65 | G86: 15.8812 | H86: -
B87: 80 | C87: PK Oil & Gas | D87: 16.73 | E87: - | F87: 17.76 | G87: - | H87: - | I87: -
B88: 81 | C88: P.K.A. Bonney | D88: - | E88: - | F88: - | G88: 16.72 | H88: - | I88: -
B89: 82 | C89: Petroland | D89: 16.17 | E89: - | F89: 17.19 | G89: - | H89: - | I89: -
B90: 83 | C90: Petrosol | D90: 16.77 | E90: - | F90: 17.97 | G90: 16.6 | H90: - | I90: -
B91: 84 | C91: Petrogy Limited | D91: 17.35 | E91: - | F91: 19.15 | G91: - | H91: - | I91: -
B92: 85 | C92: Petronax | D92: 15.99 | E92: - | F92: 17.4 | G92: - | H92: - | I92: -
B93: 86 | C93: Petro Sankofa | D93: 16.74 | E93: - | F93: 18.7 | G93: - | H93: - | I93: -
B94: 87 | C94: Quantum Petroleum | D94: 17.79 | E94: - | F94: 18.68 | G94: - | H94: - | I94: -
B95: 88 | C95: Puma Energy | D95: 17.4 | E95: - | F95: 18.4 | G95: 18.8 | H95: - | I95: -
B96: 89 | C96: Radiance | D96: 15.49 | E96: - | F96: 18.49 | G96: 17.65 | H96: - | I96: -
B97: 90 | C97: Raz Oil | D97: 15.31 | E97: - | F97: 17.2 | G97: - | H97: - | I97: -
B98: 91 | C98: Ready Oil | D98: 17.99 | E98: - | F98: 18.77 | G98: - | H98: - | I98: -
B99: 92 | C99: Rootsenaf | D99: - | E99: - | F99: - | G99: 16.4978 | H99: - | I99: -
B100: 93 | C100: Reliance Oil Limited | D100: 16.19 | E100: - | F100: 17.39 | G100: - | H100: - | I100: -
B101: 94 | C101: Restol Energy | D101: 16.75 | E101: - | F101: 17.75 | G101: - | H101: - | I101: -
B102: 95 | C102: Royal Energy | D102: - | E102: - | F102: - | G102: 16.46 | H102: - | I102: -
B103: 96 | C103: Runnel Oil | D103: 15.99 | E103: - | F103: 17.19 | G103: 17.5 | H103: - | I103: -
B104: 97 | C104: Sap Oil | D104: 15.87 | E104: - | F104: 17.57 | G104: - | H104: - | I104: -
B105: 98 | C105: Sawadigo Oil Co. | D105: 16.87 | E105: - | F105: 17.8 | G105: - | H105: - | I105: -
...

Sheet Ex-Pump Prices 21st Sept 2026
B2: NATIONAL PETROLEUM AUTHORITY
B6: EX-PUMP PRICES OF OMCs/LPGMCs AS OF 21st September 2026
B8: NO. | C8: COMPANY | D8: REGULAR PETROL - RON 91 (GHS/Lt) | E8: PREMIUM PETROL - RON 95 (GHS/Lt) | F8: DIESEL (GHS/Lt) | G8: LPG (GHS/Kg) | H8: KEROSENE (GHS/Lt) | I8: MGO Local (GHS/Lt)
B9: 1 | C9: Agapet | D9: 17.77 | E9: - | F9: 18.1 | G9: - | H9: - | I9: -
B10: 2 | C10: Aegis huile | D10: 16.49 | E10: - | F10: 17.99 | G10: - | H10: - | I10: -
B11: 3 | C11: AI Energy | D11: 16.99 | E11: - | F11: 17.99 | G11: - | H11: - | I11: -
B12: 4 | C12: Allied Oil | D12: 16.77 | E12: - | F12: 17.77 | G12: - | H12: - | I12: -
B13: 5 | C13: Alive Gas | D13: - | E13: - | F13: - | G13: 16.5578 | H13: - | I13: -
B14: 6 | C14: Aminaser Oil | D14: 14.5 | E14: - | F14: 16.69 | G14: - | H14: - | I14: -
B15: 7 | C15: Anasset | D15: - | E15: - | F15: - | G15: 16.7996 | H15: - | I15: -
B16: 8 | C16: Andev | D16: - | E16: - | F16: - | G16: 16.5578 | H16: - | I16: -
B17: 9 | C17: Annandale | D17: - | E17: - | F17: - | G17: 16.51 | H17: - | I17: -
B18: 11 | C18: Amdaway | D18: 16 | E18: - | F18: 16.97 | G18: - | H18: - | I18: -
B19: 12 | C19: Beap Energy | D19: 15.92 | E19: - | F19: 17 | G19: - | H19: - | I19: -
B20: 13 | C20: Benab Oil | D20: 16 | E20: - | F20: 16.97 | G20: 14.74 | H20: - | I20: -
B21: 14 | C21: Baffour Gas | D21: - | E21: - | F21: - | G21: 17.1589 | H21: - | I21: -
B22: 15 | C22: Bloom Petroleum | D22: 16.18 | E22: - | F22: 17.49 | G22: - | H22: - | I22: -
B23: 16 | C23: Breedlove Co. Ltd. | D23: 16.7 | E23: - | F23: 17.7 | G23: - | H23: - | I23: -
B24: 17 | C24: Brent Petroleum | D24: 16.97 | E24: - | F24: 17.97 | G24: - | H24: - | I24: -
B25: 18 | C25: Crown Petroleum | D25: 16.27 | E25: - | F25: 17.25 | G25: 17.6399 | H25: - | I25: -
B26: 19 | C26: Central Brent | D26: - | E26: - | F26: - | G26: 15.9578 | H26: - | I26: -
B27: 20 | C27: Cent Eastern | D27: - | E27: - | F27: - | G27: 16.6578 | H27: - | I27: -
B28: 21 | C28: Oil Space | D28: - | E28: - | F28: 16.78 | G28: 14.84 | H28: - | I28: -
B29: 22 | C29: Coegan | D29: - | E29: - | F29: - | G29: 16.7574 | H29: - | I29: -
B30: 23 | C30: Compass Oleum | D30: 17.7 | E30: - | F30: 18.25 | G30: - | H30: - | I30: -
B31: 24 | C31: Davis Petroleum | D31: 15.59 | E31: - | F31: 17.26 | G31: 18.0078 | H31: - | I31: -
B32: 25 | C32: Dejon Jones | D32: 17.77 | E32: - | F32: 19.55 | G32: - | H32: - | I32: -
B33: 26 | C33: Dessert Oil | D33: 16.5 | E33: - | F33: 18 | G33: - | H33: - | I33: -
B34: 27 | C34: Dukes Petroleum | D34: 16.2 | E34: - | F34: 17.4 | G34: 15.8578 | H34: - | I34: -
B35: 28 | C35: Eden Petroleum | D35: 16.77 | E35: - | F35: 17.77 | G35: - | H35: - | I35: -
B36: 29 | C36: Energetic Petro gh | D36: 17.32 | E36: - | F36: 17.82 | G36: - | H36: - | I36: -
B37: 30 | C37: Ex Oil | D37: 17.7 | E37: - | F37: 18.25 | G37: - | H37: - | I37: -
B38: 31 | C38: EV Oil | D38: 16.5 | E38: - | F38: 17.77 | G38: - | H38: - | I38: -
B39: 32 | C39: E-Windstar | D39: 16.99 | F39: 18.26 | G39: - | H39: - | I39: -
B40: 33 | C40: Eza Petroleum | D40: 15.97 | E40: - | F40: 18.97 | G40: - | H40: - | I40: -
B41: 34 | C41: First Gas | D41: - | E41: - | F41: - | G41: 16.3789 | H41: - | I41: -
B42: 35 | C42: Finest Oil | D42: 16.77 | E42: - | F42: 17.77 | G42: - | H42: - | I42: -
B43: 36 | C43: Frimps Oil | D43: 16.77 | E43: - | F43: 17.77 | G43: 14.78 | H43: - | I43: -
B44: 37 | C44: Frontier Oil | D44: 16.45 | E44: - | F44: 17.69 | G44: - | H44: - | I44: -
B45: 38 | C45: Gab Energy | D45: 16.76 | E45: - | F45: 17.76 | G45: - | H45: - | I45: -
B46: 39 | C46: GasoPetroleum | E46: - | G46: - | H46: - | I46: -
B47: 40 | C47: Gogas | D47: - | E47: - | F47: - | G47: 17.1589 | H47: - | I47: -
B48: 41 | C48: GOIL | D48: 16.64 | E48: 18.99 | F48: 18.46 | G48: 16.240408 | H48: 19.78 | I48: -
B49: 42 | C49: Goodness Energy | D49: 16.65 | E49: - | F49: 17.69 | G49: - | H49: - | I49: -
B50: 43 | C50: Gowell Energy | D50: 16.95 | E50: - | F50: 17.65 | G50: - | H50: - | I50: -
B51: 44 | C51: Green GG7 | D51: - | E51: - | F51: - | G51: 16.8208 | H51: - | I51: -
B52: 45 | C52: Henos Energy | D52: - | E52: - | F52: - | G52: 14.6578 | H52: - | I52: -
B53: 46 | C53: Hills Oil | D53: - | E53: - | F53: - | G53: 16.36 | H53: - | I53: -
B54: 47 | C54: Huss Petroleum | D54: 16.75 | E54: - | F54: 17.79 | G54: - | H54: - | I54: -
B55: 48 | C55: Icon Energy | D55: 16 | E55: - | F55: 17.97 | G55: - | H55: - | I55: -
B56: 49 | C56: Infin | D56: 17.49 | E56: - | F56: 18.49 | G56: 17.8078 | H56: - | I56: -
B57: 50 | C57: Joekona | D57: - | E57: - | F57: - | G57: 16.2678 | H57: - | I57: -
B58: 51 | C58: JD Links | D58: 16.75 | E58: - | F58: 17.75 | G58: 15.1622 | H58: - | I58: -
B59: 52 | C59: Jusbro | D59: 17.89 | E59: - | F59: 19.619 | G59: 16.0867 | H59: - | I59: -
B60: 53 | C60: JP Trustee | D60: 16 | E60: 18.97 | F60: 17.75 | G60: - | H60: - | I60: -
B61: 54 | C61: Kab Energy | D61: 17.35 | E61: - | F61: 18.55 | G61: - | H61: - | I61: -
B62: 55 | C62: Kaysens | D62: - | E62: - | F62: - | G62: 16.7774 | H62: - | I62: -
B63: 56 | C63: Koan Petroleum | D63: 16.5 | E63: - | F63: 17.9 | G63: 17.05 | H63: - | I63: -
B64: 57 | C64: KI Energy | D64: - | E64: - | F64: - | G64: 18.4578 | H64: - | I64: -
B65: 58 | C65: Kings Energy | D65: 16.77 | E65: - | F65: 17.77 | G65: - | H65: - | I65: -
B66: 59 | C66: La Clem | D66: 16.59 | E66: - | F66: 17.75 | G66: - | H66: - | I66: - | N66: ``
B67: 60 | C67: Lamininbee | D67: - | E67: - | F67: - | G67: 16.6578 | H67: - | I67: -
B68: 61 | C68: Lambark Gas | D68: - | E68: - | F68: - | G68: - | H68: - | I68: -
B69: 62 | C69: Lucky oil | D69: 16 | E69: - | F69: 17.1 | G69: 16.552 | H69: - | I69: -
B70: 63 | C70: Liberty Petroleum | D70: 17.79 | E70: - | F70: 18.79 | G70: - | H70: - | I70: -
B71: 64 | C71: Life Energy | D71: 16.77 | E71: - | F71: 17.77 | G71: - | H71: - | I71: -
B72: 65 | C72: Maxx Energy | D72: 15.15 | E72: - | F72: 17.37 | G72: - | H72: - | I72: -
B73: 66 | C73: Manbah Gas | D73: - | E73: - | F73: - | G73: 16.26 | H73: - | I73: -
B74: 67 | C74: Mercy Oil | D74: 17.69 | E74: - | F74: 18.69 | G74: - | H74: - | I74: -
B75: 68 | C75: Midas Oil | D75: - | E75: - | F75: - | G75: 16.8078 | H75: - | I75: -
B76: 69 | C76: Mighty Gas | D76: - | E76: - | F76: - | G76: 15.34 | H76: - | I76: -
B77: 70 | C77: Misa Energy | D77: 16.19 | E77: - | F77: 17.17 | G77: 14.9578 | H77: 17.16 | I77: 18.57
B78: 71 | C78: More Fuel | D78: 16 | E78: - | F78: 17.16 | G78: - | H78: - | I78: -
B79: 72 | C79: MM Energy | D79: 15.57 | E79: - | F79: 16.95 | G79: - | H79: - | I79: -
B80: 73 | C80: Naagamni | D80: 16.75 | E80: - | F80: 17.75 | G80: - | H80: - | I80: -
B81: 74 | C81: Nasona | D81: 16.64 | E81: - | F81: 18.25 | G81: - | H81: - | I81: -
B82: 75 | C82: Nexbons | D82: - | E82: - | F82: - | G82: 17.1478 | H82: - | I82: -
B83: 76 | C83: Next Petroleum | D83: 15.3 | E83: - | F83: 16.4 | G83: - | H83: - | I83: -
B84: 77 | C84: Ocean Oil | D84: - | E84: - | F84: - | G84: 16.7378 | H84: - | I84: -
B85: 78 | C85: Power Fuels | D85: 15.77 | E85: - | F85: 17.2037 | G85: - | H85: - | I85: -
B86: 79 | C86: Pacific Oil | D86: 16.87 | E86: - | F86: 17.65 | G86: 15.8812 | H86: -
B87: 80 | C87: PK Oil & Gas | D87: 16.73 | E87: - | F87: 17.76 | G87: - | H87: - | I87: -
B88: 81 | C88: P.K.A. Bonney | D88: - | E88: - | F88: - | G88: 16.72 | H88: - | I88: -
B89: 82 | C89: Petroland | D89: 16.17 | E89: - | F89: 17.19 | G89: - | H89: - | I89: -
B90: 83 | C90: Petrosol | D90: 16.77 | E90: - | F90: 17.97 | G90: 16.6 | H90: - | I90: -
B91: 84 | C91: Petrogy Limited | D91: 17.35 | E91: - | F91: 19.15 | G91: - | H91: - | I91: -
B92: 85 | C92: Petronax | D92: 15.99 | E92: - | F92: 17.4 | G92: - | H92: - | I92: -
B93: 86 | C93: Petro Sankofa | D93: 16.74 | E93: - | F93: 18.7 | G93: - | H93: - | I93: -
B94: 87 | C94: Quantum Petroleum | D94: 17.19 | E94: - | F94: 18.99 | G94: - | H94: - | I94: -
B95: 88 | C95: Puma Energy | D95: 17.4 | E95: - | F95: 18.4 | G95: 18.8 | H95: - | I95: -
B96: 89 | C96: Radiance | D96: 15.49 | E96: - | F96: 18.49 | G96: 17.65 | H96: - | I96: -
B97: 90 | C97: Raz Oil | D97: 15.31 | E97: - | F97: 17.2 | G97: - | H97: - | I97: -
B98: 91 | C98: Ready Oil | D98: 17.99 | E98: - | F98: 18.77 | G98: - | H98: - | I98: -
B99: 92 | C99: Rootsenaf | D99: - | E99: - | F99: - | G99: 16.4978 | H99: - | I99: -
B100: 93 | C100: Reliance Oil Limited | D100: 16.19 | E100: - | F100: 17.39 | G100: - | H100: - | I100: -
B101: 94 | C101: Restol Energy | D101: 16.75 | E101: - | F101: 17.75 | G101: - | H101: - | I101: -
B102: 95 | C102: Royal Energy | D102: - | E102: - | F102: - | G102: 16.46 | H102: - | I102: -
B103: 96 | C103: Runnel Oil | D103: 15.99 | E103: - | F103: 17.19 | G103: 17.5 | H103: - | I103: -
B104: 97 | C104: Sap Oil | D104: 15.87 | E104: - | F104: 17.57 | G104: - | H104: - | I104: -
B105: 98 | C105: Sawadigo Oil Co. | D105: 16.87 | E105: - | F105: 17.8 | G105: - | H105: - | I105: -
...

Sheet Ex-Pump Prices 18th Sept 2026
B2: NATIONAL PETROLEUM AUTHORITY
B6: EX-PUMP PRICES OF OMCs/LPGMCs AS OF 18th September 2026
B8: NO. | C8: COMPANY | D8: REGULAR PETROL - RON 91 (GHS/Lt) | E8: PREMIUM PETROL - RON 95 (GHS/Lt) | F8: DIESEL (GHS/Lt) | G8: LPG (GHS/Kg) | H8: KEROSENE (GHS/Lt) | I8: MGO Local (GHS/Lt)
B9: 1 | C9: Agapet | D9: 17.77 | E9: - | F9: 18.1 | G9: - | H9: - | I9: -
B10: 2 | C10: Aegis huile | D10: 16.49 | E10: - | F10: 17.99 | G10: - | H10: - | I10: -
B11: 3 | C11: AI Energy | D11: 16.99 | E11: - | F11: 17.99 | G11: - | H11: - | I11: -
B12: 4 | C12: Allied Oil | D12: 16.77 | E12: - | F12: 17.77 | G12: - | H12: - | I12: -
B13: 5 | C13: Alive Gas | D13: - | E13: - | F13: - | G13: 16.5578 | H13: - | I13: -
B14: 6 | C14: Aminaser Oil | D14: 14.5 | E14: - | F14: 16.69 | G14: - | H14: - | I14: -
B15: 7 | C15: Anasset | D15: - | E15: - | F15: - | G15: 16.6296 | H15: - | I15: -
B16: 8 | C16: Andev | D16: - | E16: - | F16: - | G16: 16.5578 | H16: - | I16: -
B17: 9 | C17: Annandale | D17: - | E17: - | F17: - | G17: 16.51 | H17: - | I17: -
B18: 11 | C18: Amdaway | D18: 16 | E18: - | F18: 16.97 | G18: - | H18: - | I18: -
B19: 12 | C19: Beap Energy | D19: 15.92 | E19: - | F19: 17 | G19: - | H19: - | I19: -
B20: 13 | C20: Benab Oil | D20: 16 | E20: - | F20: 16.97 | G20: 14.74 | H20: - | I20: -
B21: 14 | C21: Baffour Gas | D21: - | E21: - | F21: - | G21: 17.1589 | H21: - | I21: -
B22: 15 | C22: Bloom Petroleum | D22: 16.18 | E22: - | F22: 17.49 | G22: - | H22: - | I22: -
B23: 16 | C23: Breedlove Co. Ltd. | D23: 16.7 | E23: - | F23: 17.7 | G23: - | H23: - | I23: -
B24: 17 | C24: Brent Petroleum | D24: 16.97 | E24: - | F24: 17.97 | G24: - | H24: - | I24: -
B25: 18 | C25: Crown Petroleum | D25: 16.27 | E25: - | F25: 17.25 | G25: 17.6399 | H25: - | I25: -
B26: 19 | C26: Central Brent | D26: - | E26: - | F26: - | G26: 15.9578 | H26: - | I26: -
B27: 20 | C27: Cent Eastern | D27: - | E27: - | F27: - | G27: 16.6578 | H27: - | I27: -
B28: 21 | C28: Oil Space | D28: - | E28: - | F28: 16.78 | G28: 14.84 | H28: - | I28: -
B29: 22 | C29: Coegan | D29: - | E29: - | F29: - | G29: 16.7574 | H29: - | I29: -
B30: 23 | C30: Compass Oleum | D30: 17.7 | E30: - | F30: 18.25 | G30: - | H30: - | I30: -
B31: 24 | C31: Davis Petroleum | D31: 15.59 | E31: - | F31: 17.26 | G31: 18.0078 | H31: - | I31: -
B32: 25 | C32: Dejon Jones | D32: 17.77 | E32: - | F32: 19.55 | G32: - | H32: - | I32: -
B33: 26 | C33: Dessert Oil | D33: 16.5 | E33: - | F33: 18 | G33: - | H33: - | I33: -
B34: 27 | C34: Dukes Petroleum | D34: 16.2 | E34: - | F34: 17.4 | G34: 15.8578 | H34: - | I34: -
B35: 28 | C35: Eden Petroleum | D35: 16.77 | E35: - | F35: 17.77 | G35: - | H35: - | I35: -
B36: 29 | C36: Energetic Petro gh | D36: 17.32 | E36: - | F36: 17.82 | G36: - | H36: - | I36: -
B37: 30 | C37: Ex Oil | D37: 17.7 | E37: - | F37: 18.25 | G37: - | H37: - | I37: -
B38: 31 | C38: EV Oil | D38: 16.18 | E38: - | F38: 17.59 | G38: - | H38: - | I38: -
B39: 32 | C39: E-Windstar | D39: 16.99 | F39: 18.26 | G39: - | H39: - | I39: -
B40: 33 | C40: Eza Petroleum | D40: 15.97 | E40: - | F40: 18.97 | G40: - | H40: - | I40: -
B41: 34 | C41: First Gas | D41: - | E41: - | F41: - | G41: 16.3789 | H41: - | I41: -
B42: 35 | C42: Finest Oil | D42: 16.77 | E42: - | F42: 17.77 | G42: - | H42: - | I42: -
B43: 36 | C43: Frimps Oil | D43: 16.77 | E43: - | F43: 17.77 | G43: 14.78 | H43: - | I43: -
B44: 37 | C44: Frontier Oil | D44: 16.45 | E44: - | F44: 17.69 | G44: - | H44: - | I44: -
B45: 38 | C45: Gab Energy | D45: 15.42 | E45: - | F45: 17.25 | G45: - | H45: - | I45: -
B46: 39 | C46: GasoPetroleum | E46: - | G46: - | H46: - | I46: -
B47: 40 | C47: Gogas | D47: - | E47: - | F47: - | G47: 17.1589 | H47: - | I47: -
B48: 41 | C48: GOIL | D48: 16.64 | E48: 18.99 | F48: 18.46 | G48: 16.240408 | H48: 19.78 | I48: -
B49: 42 | C49: Goodness Energy | D49: 16.65 | E49: - | F49: 17.69 | G49: - | H49: - | I49: -
B50: 43 | C50: Gowell Energy | D50: 16.95 | E50: - | F50: 17.65 | G50: - | H50: - | I50: -
B51: 44 | C51: Green GG7 | D51: - | E51: - | F51: - | G51: 16.8208 | H51: - | I51: -
B52: 45 | C52: Henos Energy | D52: - | E52: - | F52: - | G52: 14.6578 | H52: - | I52: -
B53: 46 | C53: Hills Oil | D53: - | E53: - | F53: - | G53: 16.36 | H53: - | I53: -
B54: 47 | C54: Huss Petroleum | D54: 16.75 | E54: - | F54: 17.79 | G54: - | H54: - | I54: -
B55: 48 | C55: Icon Energy | D55: 16 | E55: - | F55: 17.97 | G55: - | H55: - | I55: -
B56: 49 | C56: Infin | D56: 16.99 | E56: - | F56: 17.99 | G56: 17.55 | H56: - | I56: -
B57: 50 | C57: Joekona | D57: - | E57: - | F57: - | G57: 16.2678 | H57: - | I57: -
B58: 51 | C58: JD Links | D58: 16.75 | E58: - | F58: 17.75 | G58: 15.1622 | H58: - | I58: -
B59: 52 | C59: Jusbro | D59: 17.89 | E59: - | F59: 19.619 | G59: 16.0867 | H59: - | I59: -
B60: 53 | C60: JP Trustee | D60: 16 | E60: 18.97 | F60: 17.75 | G60: - | H60: - | I60: -
B61: 54 | C61: Kab Energy | D61: 17.35 | E61: - | F61: 18.55 | G61: - | H61: - | I61: -
B62: 55 | C62: Kaysens | D62: - | E62: - | F62: - | G62: 16.7774 | H62: - | I62: -
B63: 56 | C63: Koan Petroleum | D63: 16.5 | E63: - | F63: 17 | G63: 17.05 | H63: - | I63: -
B64: 57 | C64: KI Energy | D64: - | E64: - | F64: - | G64: 18.2578 | H64: - | I64: -
B65: 58 | C65: Kings Energy | D65: 16.77 | E65: - | F65: 17.77 | G65: - | H65: - | I65: -
B66: 59 | C66: La Clem | D66: 16.77 | E66: - | F66: 18.75 | G66: - | H66: - | I66: - | N66: ``
B67: 60 | C67: Lamininbee | D67: - | E67: - | F67: - | G67: 16.6578 | H67: - | I67: -
B68: 61 | C68: Lambark Gas | D68: - | E68: - | F68: - | G68: - | H68: - | I68: -
B69: 62 | C69: Lucky oil | D69: 16 | E69: - | F69: 17.1 | G69: 16.552 | H69: - | I69: -
B70: 63 | C70: Liberty Petroleum | D70: 17.79 | E70: - | F70: 18.79 | G70: - | H70: - | I70: -
B71: 64 | C71: Life Energy | D71: 16.77 | E71: - | F71: 17.77 | G71: - | H71: - | I71: -
B72: 65 | C72: Maxx Energy | D72: 15.15 | E72: - | F72: 17.37 | G72: - | H72: - | I72: -
B73: 66 | C73: Manbah Gas | D73: - | E73: - | F73: - | G73: 16.26 | H73: - | I73: -
B74: 67 | C74: Mercy Oil | D74: 17.69 | E74: - | F74: 18.69 | G74: - | H74: - | I74: -
B75: 68 | C75: Midas Oil | D75: - | E75: - | F75: - | G75: 16.8078 | H75: - | I75: -
B76: 69 | C76: Mighty Gas | D76: - | E76: - | F76: - | G76: 15.34 | H76: - | I76: -
B77: 70 | C77: Misa Energy | D77: 16.19 | E77: - | F77: 17.17 | G77: 14.9578 | H77: 17.16 | I77: 18.57
B78: 71 | C78: More Fuel | D78: 16 | E78: - | F78: 17.16 | G78: - | H78: - | I78: -
B79: 72 | C79: MM Energy | D79: 15.57 | E79: - | F79: 16.95 | G79: - | H79: - | I79: -
B80: 73 | C80: Naagamni | D80: 16.75 | E80: - | F80: 17.75 | G80: - | H80: - | I80: -
B81: 74 | C81: Nasona | D81: 16.64 | E81: - | F81: 18.25 | G81: - | H81: - | I81: -
B82: 75 | C82: Nexbons | D82: - | E82: - | F82: - | G82: 17.1478 | H82: - | I82: -
B83: 76 | C83: Next Petroleum | D83: 15.3 | E83: - | F83: 16.4 | G83: - | H83: - | I83: -
B84: 77 | C84: Ocean Oil | D84: - | E84: - | F84: - | G84: 16.7378 | H84: - | I84: -
B85: 78 | C85: Power Fuels | D85: 15.77 | E85: - | F85: 17.2037 | G85: - | H85: - | I85: -
B86: 79 | C86: Pacific Oil | D86: 16.87 | E86: - | F86: 17.65 | G86: 15.8812 | H86: -
B87: 80 | C87: PK Oil & Gas | D87: 16.73 | E87: - | F87: 17.76 | G87: - | H87: - | I87: -
B88: 81 | C88: P.K.A. Bonney | D88: - | E88: - | F88: - | G88: 16.72 | H88: - | I88: -
B89: 82 | C89: Petroland | D89: 16.17 | E89: - | F89: 17.19 | G89: - | H89: - | I89: -
B90: 83 | C90: Petrosol | D90: 16.77 | E90: - | F90: 17.97 | G90: 16.6 | H90: - | I90: -
B91: 84 | C91: Petrogy Limited | D91: 17.35 | E91: - | F91: 19.15 | G91: - | H91: - | I91: -
B92: 85 | C92: Petronax | D92: 15.99 | E92: - | F92: 17.4 | G92: - | H92: - | I92: -
B93: 86 | C93: Petro Sankofa | D93: 16.74 | E93: - | F93: 18.7 | G93: - | H93: - | I93: -
B94: 87 | C94: Quantum Petroleum | D94: 17.19 | E94: - | F94: 18.99 | G94: - | H94: - | I94: -
B95: 88 | C95: Puma Energy | D95: 17.4 | E95: - | F95: 18.4 | G95: 18.8 | H95: - | I95: -
B96: 89 | C96: Radiance | D96: 15.49 | E96: - | F96: 18.49 | G96: 17.65 | H96: - | I96: -
B97: 90 | C97: Raz Oil | D97: 15.31 | E97: - | F97: 17.2 | G97: - | H97: - | I97: -
B98: 91 | C98: Ready Oil | D98: 17.99 | E98: - | F98: 18.77 | G98: - | H98: - | I98: -
B99: 92 | C99: Rootsenaf | D99: - | E99: - | F99: - | G99: 16.4978 | H99: - | I99: -
B100: 93 | C100: Reliance Oil Limited | D100: 16.19 | E100: - | F100: 17.39 | G100: - | H100: - | I100: -
B101: 94 | C101: Restol Energy | D101: 16.75 | E101: - | F101: 17.75 | G101: - | H101: - | I101: -
B102: 95 | C102: Royal Energy | D102: - | E102: - | F102: - | G102: 16.46 | H102: - | I102: -
B103: 96 | C103: Runnel Oil | D103: 15.99 | E103: - | F103: 17.19 | G103: 17.5 | H103: - | I103: -
B104: 97 | C104: Sap Oil | D104: 15.87 | E104: - | F104: 17.57 | G104: - | H104: - | I104: -
B105: 98 | C105: Sawadigo Oil Co. | D105: 16.87 | E105: - | F105: 17.8 | G105: - | H105: - | I105: -
...

Sheet Ex-Pump Prices 17th Sept 2026
B2: NATIONAL PETROLEUM AUTHORITY
B6: EX-PUMP PRICES OF OMCs/LPGMCs AS OF 17th September 2026
B8: NO. | C8: COMPANY | D8: REGULAR PETROL - RON 91 (GHS/Lt) | E8: PREMIUM PETROL - RON 95 (GHS/Lt) | F8: DIESEL (GHS/Lt) | G8: LPG (GHS/Kg) | H8: KEROSENE (GHS/Lt) | I8: MGO Local (GHS/Lt)
B9: 1 | C9: Agapet | D9: 17.77 | E9: - | F9: 18.1 | G9: - | H9: - | I9: -
B10: 2 | C10: Aegis huile | D10: 16.49 | E10: - | F10: 17.99 | G10: - | H10: - | I10: -
B11: 3 | C11: AI Energy | D11: 16.99 | E11: - | F11: 17.99 | G11: - | H11: - | I11: -
B12: 4 | C12: Allied Oil | D12: 16.77 | E12: - | F12: 17.77 | G12: - | H12: - | I12: -
B13: 5 | C13: Alive Gas | D13: - | E13: - | F13: - | G13: 16.4578 | H13: - | I13: -
B14: 6 | C14: Aminaser Oil | D14: 14.5 | E14: - | F14: 16.69 | G14: - | H14: - | I14: -
B15: 7 | C15: Anasset | D15: - | E15: - | F15: - | G15: 16.6296 | H15: - | I15: -
B16: 8 | C16: Andev | D16: - | E16: - | F16: - | G16: 16.5578 | H16: - | I16: -
B17: 9 | C17: Annandale | D17: - | E17: - | F17: - | G17: 16.51 | H17: - | I17: -
B18: 10 | C18: April Oil Ghana | D18: 14.7 | F18: 16.89
B19: 11 | C19: Amdaway | D19: 16 | E19: - | F19: 16.97 | G19: - | H19: - | I19: -
B20: 12 | C20: Beap Energy | D20: 15.92 | E20: - | F20: 17 | G20: - | H20: - | I20: -
B21: 13 | C21: Benab Oil | D21: 16 | E21: - | F21: 16.97 | G21: 14.74 | H21: - | I21: -
B22: 14 | C22: Baffour Gas | D22: - | E22: - | F22: - | G22: 17.1589 | H22: - | I22: -
B23: 15 | C23: Bloom Petroleum | D23: 16.18 | E23: - | F23: 17.49 | G23: - | H23: - | I23: -
B24: 16 | C24: Breedlove Co. Ltd. | D24: 16.7 | E24: - | F24: 17.7 | G24: - | H24: - | I24: -
B25: 17 | C25: Brent Petroleum | D25: 16.97 | E25: - | F25: 17.97 | G25: - | H25: - | I25: -
B26: 18 | C26: Crown Petroleum | D26: 16.27 | E26: - | F26: 17.25 | G26: 17.6399 | H26: - | I26: -
B27: 19 | C27: Central Brent | D27: - | E27: - | F27: - | G27: 15.9578 | H27: - | I27: -
B28: 20 | C28: Cent Eastern | D28: - | E28: - | F28: - | G28: 16.6578 | H28: - | I28: -
B29: 21 | C29: Oil Space | D29: - | E29: - | F29: 16.78 | G29: 14.84 | H29: - | I29: -
B30: 22 | C30: Coegan | D30: - | E30: - | F30: - | G30: 16.7574 | H30: - | I30: -
B31: 23 | C31: Compass Oleum | D31: 15.99 | E31: - | F31: 17.25 | G31: - | H31: - | I31: -
B32: 24 | C32: Davis Petroleum | D32: 15.59 | E32: - | F32: 17.26 | G32: 18.0078 | H32: - | I32: -
B33: 25 | C33: Dejon Jones | D33: 17.77 | E33: - | F33: 19.55 | G33: - | H33: - | I33: -
B34: 26 | C34: Dessert Oil | D34: 16.5 | E34: - | F34: 18 | G34: - | H34: - | I34: -
B35: 27 | C35: Dukes Petroleum | D35: 16.2 | E35: - | F35: 17.4 | G35: 15.8578 | H35: - | I35: -
B36: 28 | C36: Eden Petroleum | D36: 16.77 | E36: - | F36: 17.77 | G36: - | H36: - | I36: -
B37: 29 | C37: Energetic Petro gh | D37: 16.22 | E37: - | F37: 18.15 | G37: - | H37: - | I37: -
B38: 30 | C38: Ex Oil | D38: 15.6 | E38: - | F38: 16.95 | G38: - | H38: - | I38: -
B39: 31 | C39: EV Oil | D39: 16.18 | E39: - | F39: 17.59 | G39: - | H39: - | I39: -
B40: 32 | C40: E-Windstar | D40: 16.99 | F40: 18.26 | G40: - | H40: - | I40: -
B41: 33 | C41: Eza Petroleum | D41: 15.97 | E41: - | F41: 18.97 | G41: - | H41: - | I41: -
B42: 34 | C42: First Gas | D42: - | E42: - | F42: - | G42: 16.3789 | H42: - | I42: -
B43: 35 | C43: Finest Oil | D43: 16.77 | E43: - | F43: 17.77 | G43: - | H43: - | I43: -
B44: 36 | C44: Frimps Oil | D44: 16.77 | E44: - | F44: 17.77 | G44: 14.78 | H44: - | I44: -
B45: 37 | C45: Frontier Oil | D45: 16.45 | E45: - | F45: 17.69 | G45: - | H45: - | I45: -
B46: 38 | C46: Gab Energy | D46: 15.42 | E46: - | F46: 17.25 | G46: - | H46: - | I46: -
B47: 39 | C47: GasoPetroleum | E47: - | G47: - | H47: - | I47: -
B48: 40 | C48: Gogas | D48: - | E48: - | F48: - | G48: 17.1589 | H48: - | I48: -
B49: 41 | C49: GOIL | D49: 16.64 | E49: 18.99 | F49: 18.46 | G49: 16.240408 | H49: 19.78 | I49: -
B50: 42 | C50: Goodness Energy | D50: 16.65 | E50: - | F50: 17.69 | G50: - | H50: - | I50: -
B51: 43 | C51: Gowell Energy | D51: 15.97 | E51: - | F51: 17.29 | G51: - | H51: - | I51: -
B52: 44 | C52: Green GG7 | D52: - | E52: - | F52: - | G52: 16.8208 | H52: - | I52: -
B53: 45 | C53: Henos Energy | D53: - | E53: - | F53: - | G53: 14.6578 | H53: - | I53: -
B54: 46 | C54: Hills Oil | D54: - | E54: - | F54: - | G54: 16.36 | H54: - | I54: -
B55: 47 | C55: Huss Petroleum | D55: 15.47 | E55: - | F55: 16.69 | G55: - | H55: - | I55: -
B56: 48 | C56: Icon Energy | D56: 16 | E56: - | F56: 17.07 | G56: - | H56: - | I56: -
B57: 49 | C57: Infin | D57: 16.99 | E57: - | F57: 17.99 | G57: 17.55 | H57: - | I57: -
B58: 50 | C58: Joekona | D58: - | E58: - | F58: - | G58: 16.2678 | H58: - | I58: -
B59: 51 | C59: JD Links | D59: 16.75 | E59: - | F59: 17.75 | G59: 15.1622 | H59: - | I59: -
B60: 52 | C60: Jusbro | D60: 15.989 | E60: - | F60: 17.419 | G60: 16.53 | H60: - | I60: -
B61: 53 | C61: JP Trustee | D61: 16.75 | E61: 18.97 | F61: 17.75 | G61: - | H61: - | I61: -
B62: 54 | C62: Kab Energy | D62: 15.99 | E62: - | F62: 17.15 | G62: - | H62: - | I62: -
B63: 55 | C63: Kaysens | D63: - | E63: - | F63: - | G63: 16.7774 | H63: - | I63: -
B64: 56 | C64: Koan Petroleum | D64: 16.5 | E64: - | F64: 17 | G64: 17.05 | H64: - | I64: -
B65: 57 | C65: KI Energy | D65: - | E65: - | F65: - | G65: 18.2578 | H65: - | I65: -
B66: 58 | C66: Kings Energy | D66: 16.77 | E66: - | F66: 17.77 | G66: - | H66: - | I66: -
B67: 59 | C67: La Clem | D67: 16.77 | E67: - | F67: 18.75 | G67: - | H67: - | I67: - | N67: ``
B68: 60 | C68: Lamininbee | D68: - | E68: - | F68: - | G68: 16.6578 | H68: - | I68: -
B69: 61 | C69: Lambark Gas | D69: - | E69: - | F69: - | G69: - | H69: - | I69: -
B70: 62 | C70: Lucky oil | D70: 16 | E70: - | F70: 17.1 | G70: 16.552 | H70: - | I70: -
B71: 63 | C71: Liberty Petroleum | D71: 17.79 | E71: - | F71: 18.79 | G71: - | H71: - | I71: -
B72: 64 | C72: Life Energy | D72: 16.77 | E72: - | F72: 17.77 | G72: - | H72: - | I72: -
B73: 65 | C73: Maxx Energy | D73: 15.15 | E73: - | F73: 17.37 | G73: - | H73: - | I73: -
B74: 66 | C74: Manbah Gas | D74: - | E74: - | F74: - | G74: 16.26 | H74: - | I74: -
B75: 67 | C75: Mercy Oil | D75: 17.19 | E75: - | F75: 18.59 | G75: - | H75: - | I75: -
B76: 68 | C76: Midas Oil | D76: - | E76: - | F76: - | G76: 16.4578 | H76: - | I76: -
B77: 69 | C77: Mighty Gas | D77: - | E77: - | F77: - | G77: 15.34 | H77: - | I77: -
B78: 70 | C78: Misa Energy | D78: 16.19 | E78: - | F78: 17.17 | G78: 14.9578 | H78: 17.16 | I78: 18.57
B79: 71 | C79: More Fuel | D79: 15.05 | E79: - | F79: 16.85 | G79: - | H79: - | I79: -
B80: 72 | C80: MM Energy | D80: 15.57 | E80: - | F80: 16.95 | G80: - | H80: - | I80: -
B81: 73 | C81: Naagamni | D81: 16.75 | E81: - | F81: 17.75 | G81: - | H81: - | I81: -
B82: 74 | C82: Nasona | D82: 15.43 | E82: - | F82: 17.25 | G82: - | H82: - | I82: -
B83: 75 | C83: Nexbons | D83: - | E83: - | F83: - | G83: 17.1478 | H83: - | I83: -
B84: 76 | C84: Next Petroleum | D84: 15.3 | E84: - | F84: 16.4 | G84: - | H84: - | I84: -
B85: 77 | C85: Ocean Oil | D85: - | E85: - | F85: - | G85: 16.7378 | H85: - | I85: -
B86: 78 | C86: Power Fuels | D86: 15.77 | E86: - | F86: 17.2037 | G86: - | H86: - | I86: -
B87: 79 | C87: Pacific Oil | D87: 16.87 | E87: - | F87: 17.65 | G87: 15.8812 | H87: -
B88: 80 | C88: PK Oil & Gas | D88: 16.73 | E88: - | F88: 17.76 | G88: - | H88: - | I88: -
B89: 81 | C89: P.K.A. Bonney | D89: - | E89: - | F89: - | G89: 16.72 | H89: - | I89: -
B90: 82 | C90: Petroland | D90: 16.17 | E90: - | F90: 17.19 | G90: - | H90: - | I90: -
B91: 83 | C91: Petrosol | D91: 16.77 | E91: - | F91: 17.97 | G91: 16.6 | H91: - | I91: -
B92: 84 | C92: Petrogy Limited | D92: 16.69 | E92: - | F92: 18.99 | G92: - | H92: - | I92: -
B93: 85 | C93: Petronax | D93: 15.99 | E93: - | F93: 17.4 | G93: - | H93: - | I93: -
B94: 86 | C94: Petro Sankofa | D94: 16.74 | E94: - | F94: 18.7 | G94: - | H94: - | I94: -
B95: 87 | C95: Quantum Petroleum | D95: 17.19 | E95: - | F95: 18.99 | G95: - | H95: - | I95: -
B96: 88 | C96: Puma Energy | D96: 17.4 | E96: - | F96: 18.4 | G96: 18.8 | H96: - | I96: -
B97: 89 | C97: Radiance | D97: 15.49 | E97: - | F97: 18.49 | G97: 17.65 | H97: - | I97: -
B98: 90 | C98: Raz Oil | D98: 15.31 | E98: - | F98: 17.2 | G98: - | H98: - | I98: -
B99: 91 | C99: Ready Oil | D99: 17.99 | E99: - | F99: 18.77 | G99: - | H99: - | I99: -
B100: 92 | C100: Rootsenaf | D100: - | E100: - | F100: - | G100: 16.4978 | H100: - | I100: -
B101: 93 | C101: Reliance Oil Limited | D101: 15.4 | E101: - | F101: 17.2 | G101: - | H101: - | I101: -
B102: 94 | C102: Restol Energy | D102: 16.75 | E102: - | F102: 17.75 | G102: - | H102: - | I102: -
B103: 95 | C103: Royal Energy | D103: - | E103: - | F103: - | G103: 16.46 | H103: - | I103: -
B104: 96 | C104: Runnel Oil | D104: 15.99 | E104: - | F104: 17.19 | G104: 17.5 | H104: - | I104: -
B105: 97 | C105: Sap Oil | D105: 15.87 | E105: - | F105: 17.57 | G105: - | H105: - | I105: -
...

Sheet Ex-Pump Prices 16th Sept 2026
B2: NATIONAL PETROLEUM AUTHORITY
B6: EX-PUMP PRICES OF OMCs/LPGMCs AS OF 16th September 2026
B8: NO. | C8: COMPANY | D8: REGULAR PETROL - RON 91 (GHS/Lt) | E8: PREMIUM PETROL - RON 95 (GHS/Lt) | F8: DIESEL (GHS/Lt) | G8: LPG (GHS/Kg) | H8: KEROSENE (GHS/Lt) | I8: MGO Local (GHS/Lt)
B9: 1 | C9: Agapet | D9: 16.87 | E9: - | F9: 17.3 | G9: - | H9: - | I9: -
B10: 2 | C10: Aegis huile | D10: 16.49 | E10: - | F10: 17.99 | G10: - | H10: - | I10: -
B11: 3 | C11: AI Energy | D11: 15.5 | E11: - | F11: 17.15 | G11: - | H11: - | I11: -
B12: 4 | C12: Allied Oil | D12: 16.9 | E12: - | F12: 17.9 | G12: - | H12: - | I12: -
B13: 5 | C13: Alive Gas | D13: - | E13: - | F13: - | G13: 16.4578 | H13: - | I13: -
B14: 6 | C14: Aminaser Oil | D14: 14.5 | E14: - | F14: 16.69 | G14: - | H14: - | I14: -
B15: 7 | C15: Anasset | D15: - | E15: - | F15: - | G15: 16.6296 | H15: - | I15: -
B16: 8 | C16: Andev | D16: - | E16: - | F16: - | G16: 16.3078 | H16: - | I16: -
B17: 9 | C17: Annandale | D17: - | E17: - | F17: - | G17: 16.51 | H17: - | I17: -
B18: 10 | C18: April Oil Ghana | D18: 14.7 | F18: 16.89
B19: 11 | C19: Amdaway | D19: 15.17 | E19: - | F19: 16.97 | G19: - | H19: - | I19: -
B20: 12 | C20: Beap Energy | D20: 15.92 | E20: - | F20: 17 | G20: - | H20: - | I20: -
B21: 13 | C21: Benab Oil | D21: 16 | E21: - | F21: 16.97 | G21: 14.74 | H21: - | I21: -
B22: 14 | C22: Baffour Gas | D22: - | E22: - | F22: - | G22: 17.1589 | H22: - | I22: -
B23: 15 | C23: Bloom Petroleum | D23: 16.18 | E23: - | F23: 17.49 | G23: - | H23: - | I23: -
B24: 16 | C24: Breedlove Co. Ltd. | D24: 15.99 | E24: - | F24: 17.15 | G24: - | H24: - | I24: -
B25: 17 | C25: Brent Petroleum | D25: 15.47 | E25: - | F25: 16.97 | G25: - | H25: - | I25: -
B26: 18 | C26: Crown Petroleum | D26: 16.27 | E26: - | F26: 17.25 | G26: 17.6399 | H26: - | I26: -
B27: 19 | C27: Central Brent | D27: - | E27: - | F27: - | G27: 15.9578 | H27: - | I27: -
B28: 20 | C28: Cent Eastern | D28: - | E28: - | F28: - | G28: 16.6578 | H28: - | I28: -
B29: 21 | C29: Oil Space | D29: - | E29: - | F29: 16.78 | G29: 14.84 | H29: - | I29: -
B30: 22 | C30: Coegan | D30: - | E30: - | F30: - | G30: 16.7574 | H30: - | I30: -
B31: 23 | C31: Compass Oleum | D31: 15.99 | E31: - | F31: 17.25 | G31: - | H31: - | I31: -
B32: 24 | C32: Davis Petroleum | D32: 15.59 | E32: - | F32: 17.26 | G32: 18.0078 | H32: - | I32: -
B33: 25 | C33: Dejon Jones | D33: 17.77 | E33: - | F33: 19.55 | G33: - | H33: - | I33: -
B34: 26 | C34: Dessert Oil | D34: 16.5 | E34: - | F34: 18 | G34: - | H34: - | I34: -
B35: 27 | C35: Dukes Petroleum | D35: 16.67 | E35: - | F35: 16.98 | G35: 15.6578 | H35: - | I35: -
B36: 28 | C36: Eden Petroleum | D36: 14.99 | E36: - | F36: 16.35 | G36: - | H36: - | I36: -
B37: 29 | C37: Energetic Petro gh | D37: 16.22 | E37: - | F37: 18.15 | G37: - | H37: - | I37: -
B38: 30 | C38: Ex Oil | D38: 15.6 | E38: - | F38: 16.95 | G38: - | H38: - | I38: -
B39: 31 | C39: EV Oil | D39: 16.18 | E39: - | F39: 17.59 | G39: - | H39: - | I39: -
B40: 32 | C40: E-Windstar | D40: 15.57 | F40: 17.3 | G40: - | H40: - | I40: -
B41: 33 | C41: Eza Petroleum | D41: 15.97 | E41: - | F41: 18.97 | G41: - | H41: - | I41: -
B42: 34 | C42: First Gas | D42: - | E42: - | F42: - | G42: 16.3789 | H42: - | I42: -
B43: 35 | C43: Finest Oil | D43: 16.77 | E43: - | F43: 17.77 | G43: - | H43: - | I43: -
B44: 36 | C44: Frimps Oil | D44: 16 | E44: - | F44: 17.1 | G44: 14.78 | H44: - | I44: -
B45: 37 | C45: Frontier Oil | D45: 15.43 | E45: - | F45: 17.2 | G45: - | H45: - | I45: -
B46: 38 | C46: Gab Energy | D46: 15.42 | E46: - | F46: 17.25 | G46: - | H46: - | I46: -
B47: 39 | C47: GasoPetroleum | E47: - | G47: - | H47: - | I47: -
B48: 40 | C48: Gogas | D48: - | E48: - | F48: - | G48: 17.1589 | H48: - | I48: -
B49: 41 | C49: GOIL | D49: 16.64 | E49: 18.99 | F49: 18.46 | G49: 16.240408 | H49: 19.78 | I49: -
B50: 42 | C50: Goodness Energy | D50: 14.6 | E50: - | F50: 16.69 | G50: - | H50: - | I50: -
B51: 43 | C51: Gowell Energy | D51: 15.97 | E51: - | F51: 17.29 | G51: - | H51: - | I51: -
B52: 44 | C52: Green GG7 | D52: - | E52: - | F52: - | G52: 16.8208 | H52: - | I52: -
B53: 45 | C53: Henos Energy | D53: - | E53: - | F53: - | G53: 14.6578 | H53: - | I53: -
B54: 46 | C54: Hills Oil | D54: - | E54: - | F54: - | G54: 15.81 | H54: - | I54: -
B55: 47 | C55: Huss Petroleum | D55: 15.47 | E55: - | F55: 16.69 | G55: - | H55: - | I55: -
B56: 48 | C56: Icon Energy | D56: 16 | E56: - | F56: 17.07 | G56: - | H56: - | I56: -
B57: 49 | C57: Infin | D57: 16.99 | E57: - | F57: 17.99 | G57: 17.55 | H57: - | I57: -
B58: 50 | C58: Joekona | D58: - | E58: - | F58: - | G58: 16.2678 | H58: - | I58: -
B59: 51 | C59: JD Links | D59: 15.57 | E59: - | F59: 18.96 | G59: 16.12 | H59: - | I59: -
B60: 52 | C60: Jusbro | D60: 15.989 | E60: - | F60: 17.419 | G60: 16.53 | H60: - | I60: -
B61: 53 | C61: JP Trustee | D61: 15.37 | E61: 17.97 | F61: 17.17 | G61: - | H61: - | I61: -
B62: 54 | C62: Kab Energy | D62: 15.99 | E62: - | F62: 17.15 | G62: - | H62: - | I62: -
B63: 55 | C63: Kaysens | D63: - | E63: - | F63: - | G63: 16.1774 | H63: - | I63: -
B64: 56 | C64: Koan Petroleum | D64: 16.5 | E64: - | F64: 17 | G64: 17.05 | H64: - | I64: -
B65: 57 | C65: KI Energy | D65: - | E65: - | F65: - | G65: 18.2578 | H65: - | I65: -
B66: 58 | C66: Kings Energy | D66: 16.77 | E66: - | F66: 17.77 | G66: - | H66: - | I66: -
B67: 59 | C67: La Clem | D67: 15.89 | E67: - | F67: 17.39 | G67: - | H67: - | I67: - | N67: ``
B68: 60 | C68: Lamininbee | D68: - | E68: - | F68: - | G68: 16.6578 | H68: - | I68: -
B69: 61 | C69: Lambark Gas | D69: - | E69: - | F69: - | G69: - | H69: - | I69: -
B70: 62 | C70: Lucky oil | D70: 14.99 | E70: - | F70: 16.64 | G70: 16.552 | H70: - | I70: -
B71: 63 | C71: Liberty Petroleum | D71: 17.79 | E71: - | F71: 18.79 | G71: - | H71: - | I71: -
B72: 64 | C72: Life Energy | D72: 16.77 | E72: - | F72: 17.77 | G72: - | H72: - | I72: -
B73: 65 | C73: Maxx Energy | D73: 15.15 | E73: - | F73: 17.37 | G73: - | H73: - | I73: -
B74: 66 | C74: Manbah Gas | D74: - | E74: - | F74: - | G74: 16.04 | H74: - | I74: -
B75: 67 | C75: Mercy Oil | D75: 16.19 | E75: - | F75: 17.39 | G75: - | H75: - | I75: -
B76: 68 | C76: Midas Oil | D76: - | E76: - | F76: - | G76: 16.4578 | H76: - | I76: -
B77: 69 | C77: Mighty Gas | D77: - | E77: - | F77: - | G77: 15.34 | H77: - | I77: -
B78: 70 | C78: Misa Energy | D78: 16.19 | E78: - | F78: 17.17 | G78: 14.9578 | H78: 17.16 | I78: 18.57
B79: 71 | C79: More Fuel | D79: 15.05 | E79: - | F79: 16.85 | G79: - | H79: - | I79: -
B80: 72 | C80: MM Energy | D80: 15.57 | E80: - | F80: 16.95 | G80: - | H80: - | I80: -
B81: 73 | C81: Naagamni | D81: 15.75 | E81: - | F81: 17.55 | G81: - | H81: - | I81: -
B82: 74 | C82: Nasona | D82: 15.43 | E82: - | F82: 17.25 | G82: - | H82: - | I82: -
B83: 75 | C83: Nexbons | D83: - | E83: - | F83: - | G83: 17.1478 | H83: - | I83: -
B84: 76 | C84: Next Petroleum | D84: 15.3 | E84: - | F84: 16.4 | G84: - | H84: - | I84: -
B85: 77 | C85: Ocean Oil | D85: - | E85: - | F85: - | G85: 16.7378 | H85: - | I85: -
B86: 78 | C86: Power Fuels | D86: 15.77 | E86: - | F86: 17.2037 | G86: - | H86: - | I86: -
B87: 79 | C87: Pacific Oil | D87: 16.87 | E87: - | F87: 17.65 | G87: 15.8812 | H87: -
B88: 80 | C88: PK Oil & Gas | D88: 16.73 | E88: - | F88: 17.76 | G88: - | H88: - | I88: -
B89: 81 | C89: P.K.A. Bonney | D89: - | E89: - | F89: - | G89: 16.72 | H89: - | I89: -
B90: 82 | C90: Petroland | D90: 16.17 | E90: - | F90: 17.19 | G90: - | H90: - | I90: -
B91: 83 | C91: Petrosol | D91: 15.98 | E91: - | F91: 17.58 | G91: 16.7 | H91: - | I91: -
B92: 84 | C92: Petrogy Limited | D92: 16.69 | E92: - | F92: 18.99 | G92: - | H92: - | I92: -
B93: 85 | C93: Petronax | D93: 15.99 | E93: - | F93: 17.4 | G93: - | H93: - | I93: -
B94: 86 | C94: Petro Sankofa | D94: 15.69 | E94: - | F94: 17.49 | G94: - | H94: - | I94: -
B95: 87 | C95: Quantum Petroleum | D95: 15.99 | E95: - | F95: 17.59 | G95: - | H95: - | I95: -
B96: 88 | C96: Puma Energy | D96: 16.99 | E96: - | F96: 17.99 | G96: 18.6 | H96: - | I96: -
B97: 89 | C97: Radiance | D97: 15.49 | E97: - | F97: 18.49 | G97: 17.65 | H97: - | I97: -
B98: 90 | C98: Raz Oil | D98: 15.31 | E98: - | F98: 17.2 | G98: - | H98: - | I98: -
B99: 91 | C99: Ready Oil | D99: 17.99 | E99: - | F99: 18.77 | G99: - | H99: - | I99: -
B100: 92 | C100: Rootsenaf | D100: - | E100: - | F100: - | G100: 16.2478 | H100: - | I100: -
B101: 93 | C101: Reliance Oil Limited | D101: 15.4 | E101: - | F101: 17.2 | G101: - | H101: - | I101: -
B102: 94 | C102: Restol Energy | D102: 15.1 | E102: - | F102: 18.6 | G102: - | H102: - | I102: -
B103: 95 | C103: Royal Energy | D103: - | E103: - | F103: - | G103: 16.46 | H103: - | I103: -
B104: 96 | C104: Runnel Oil | D104: 15.99 | E104: - | F104: 17.19 | G104: 17.5 | H104: - | I104: -
B105: 97 | C105: Sap Oil | D105: 15.87 | E105: - | F105: 17.57 | G105: - | H105: - | I105: -
...

Sheet Ex-Pump Prices 15th Sept 2026
B2: NATIONAL PETROLEUM AUTHORITY
B6: EX-PUMP PRICES OF OMCs/LPGMCs AS OF 15th September 2026
B8: NO. | C8: COMPANY | D8: REGULAR PETROL - RON 91 (GHS/Lt) | E8: PREMIUM PETROL - RON 95 (GHS/Lt) | F8: DIESEL (GHS/Lt) | G8: LPG (GHS/Kg) | H8: KEROSENE (GHS/Lt) | I8: MGO Local (GHS/Lt)
B9: 1 | C9: Agapet | D9: 16.87 | E9: - | F9: 17.3 | G9: - | H9: - | I9: -
B10: 2 | C10: Aegis huile | D10: 15.99 | E10: - | F10: 17.99 | G10: - | H10: - | I10: -
B11: 3 | C11: AI Energy | D11: 15.5 | E11: - | F11: 17.15 | G11: - | H11: - | I11: -
B12: 4 | C12: Allied Oil | D12: 15.4 | E12: - | F12: 17.25 | G12: - | H12: - | I12: -
B13: 5 | C13: Alive Gas | D13: - | E13: - | F13: - | G13: 16.4578 | H13: - | I13: -
B14: 6 | C14: Aminaser Oil | D14: 14.5 | E14: - | F14: 16.69 | G14: - | H14: - | I14: -
B15: 7 | C15: Anasset | D15: - | E15: - | F15: - | G15: 16.6296 | H15: - | I15: -
B16: 8 | C16: Andev | D16: - | E16: - | F16: - | G16: 16.3078 | H16: - | I16: -
B17: 9 | C17: Annandale | D17: - | E17: - | F17: - | G17: 16.51 | H17: - | I17: -
B18: 10 | C18: April Oil Ghana | D18: 14.7 | F18: 16.89
B19: 11 | C19: Amdaway | D19: 15.17 | E19: - | F19: 16.97 | G19: - | H19: - | I19: -
B20: 12 | C20: Beap Energy | D20: 15.92 | E20: - | F20: 17 | G20: - | H20: - | I20: -
B21: 13 | C21: Benab Oil | D21: 15.37 | E21: - | F21: 16.85 | G21: 14.74 | H21: - | I21: -
B22: 14 | C22: Baffour Gas | D22: - | E22: - | F22: - | G22: 17.1589 | H22: - | I22: -
B23: 15 | C23: Bloom Petroleum | D23: 16.18 | E23: - | F23: 17.49 | G23: - | H23: - | I23: -
B24: 16 | C24: Breedlove Co. Ltd. | D24: 15.99 | E24: - | F24: 17.15 | G24: - | H24: - | I24: -
B25: 17 | C25: Brent Petroleum | D25: 15.47 | E25: - | F25: 16.97 | G25: - | H25: - | I25: -
B26: 18 | C26: Crown Petroleum | D26: 16.27 | E26: - | F26: 17.25 | G26: 17.6399 | H26: - | I26: -
B27: 19 | C27: Central Brent | D27: - | E27: - | F27: - | G27: 15.9578 | H27: - | I27: -
B28: 20 | C28: Cent Eastern | D28: - | E28: - | F28: - | G28: 16.11 | H28: - | I28: -
B29: 21 | C29: Oil Space | D29: - | E29: - | F29: 16.78 | G29: 14.84 | H29: - | I29: -
B30: 22 | C30: Coegan | D30: - | E30: - | F30: - | G30: 16.7574 | H30: - | I30: -
B31: 23 | C31: Compass Oleum | D31: 15.99 | E31: - | F31: 17.25 | G31: - | H31: - | I31: -
B32: 24 | C32: Davis Petroleum | D32: 15.59 | E32: - | F32: 17.26 | G32: 18.0078 | H32: - | I32: -
B33: 25 | C33: Dejon Jones | D33: 16.37 | E33: - | F33: 17.45 | G33: - | H33: - | I33: -
B34: 26 | C34: Dessert Oil | D34: 16.5 | E34: - | F34: 18 | G34: - | H34: - | I34: -
B35: 27 | C35: Dukes Petroleum | D35: 15.37 | E35: - | F35: 16.98 | G35: 15.6578 | H35: - | I35: -
B36: 28 | C36: Eden Petroleum | D36: 14.99 | E36: - | F36: 16.35 | G36: - | H36: - | I36: -
B37: 29 | C37: Energetic Petro gh | D37: 16.22 | E37: - | F37: 18.15 | G37: - | H37: - | I37: -
B38: 30 | C38: Ex Oil | D38: 15.6 | E38: - | F38: 16.95 | G38: - | H38: - | I38: -
B39: 31 | C39: EV Oil | D39: 16.18 | E39: - | F39: 17.59 | G39: - | H39: - | I39: -
B40: 32 | C40: E-Windstar | D40: 15.57 | F40: 17.3 | G40: - | H40: - | I40: -
B41: 33 | C41: Eza Petroleum | D41: 15.97 | E41: - | F41: 18.97 | G41: - | H41: - | I41: -
B42: 34 | C42: First Gas | D42: - | E42: - | F42: - | G42: 16.3789 | H42: - | I42: -
B43: 35 | C43: Finest Oil | D43: 15.5 | E43: - | F43: 17.26 | G43: - | H43: - | I43: -
B44: 36 | C44: Frimps Oil | D44: 16 | E44: - | F44: 17.1 | G44: 14.78 | H44: - | I44: -
B45: 37 | C45: Frontier Oil | D45: 15.43 | E45: - | F45: 17.2 | G45: - | H45: - | I45: -
B46: 38 | C46: Gab Energy | D46: 15.42 | E46: - | F46: 17.25 | G46: - | H46: - | I46: -
B47: 39 | C47: GasoPetroleum | E47: - | G47: - | H47: - | I47: -
B48: 40 | C48: Gogas | D48: - | E48: - | F48: - | G48: 17.1589 | H48: - | I48: -
B49: 41 | C49: GOIL | D49: 15.43 | E49: 17.97 | F49: 17.26 | G49: 16.240408 | H49: 19.78 | I49: -
B50: 42 | C50: Goodness Energy | D50: 14.6 | E50: - | F50: 16.69 | G50: - | H50: - | I50: -
B51: 43 | C51: Gowell Energy | D51: 15.97 | E51: - | F51: 17.29 | G51: - | H51: - | I51: -
B52: 44 | C52: Green GG7 | D52: - | E52: - | F52: - | G52: 16.36 | H52: - | I52: -
B53: 45 | C53: Henos Energy | D53: - | E53: - | F53: - | G53: 14.6578 | H53: - | I53: -
B54: 46 | C54: Hills Oil | D54: - | E54: - | F54: - | G54: 15.81 | H54: - | I54: -
B55: 47 | C55: Huss Petroleum | D55: 15.47 | E55: - | F55: 16.69 | G55: - | H55: - | I55: -
B56: 48 | C56: Icon Energy | D56: 15.17 | E56: - | F56: 16.97 | G56: - | H56: - | I56: -
B57: 49 | C57: Infin | D57: 15.99 | E57: - | F57: 17.49 | G57: 17.55 | H57: - | I57: -
B58: 50 | C58: Joekona | D58: - | E58: - | F58: - | G58: 15.9078 | H58: - | I58: -
B59: 51 | C59: JD Links | D59: 15.57 | E59: - | F59: 18.96 | G59: 16.12 | H59: - | I59: -
B60: 52 | C60: Jusbro | D60: 15.989 | E60: - | F60: 17.419 | G60: 16.53 | H60: - | I60: -
B61: 53 | C61: JP Trustee | D61: 15.37 | E61: 17.97 | F61: 17.17 | G61: - | H61: - | I61: -
B62: 54 | C62: Kab Energy | D62: 15.99 | E62: - | F62: 17.15 | G62: - | H62: - | I62: -
B63: 55 | C63: Kaysens | D63: - | E63: - | F63: - | G63: 16.1774 | H63: - | I63: -
B64: 56 | C64: Koan Petroleum | D64: 15.35 | E64: - | F64: 16.77 | G64: 17.05 | H64: - | I64: -
B65: 57 | C65: KI Energy | D65: - | E65: - | F65: - | G65: 18.2578 | H65: - | I65: -
B66: 58 | C66: Kings Energy | D66: 15.29 | E66: - | F66: 16.99 | G66: - | H66: - | I66: -
B67: 59 | C67: La Clem | D67: 15.89 | E67: - | F67: 17.39 | G67: - | H67: - | I67: - | N67: ``
B68: 60 | C68: Lamininbee | D68: - | E68: - | F68: - | G68: 16.1578 | H68: - | I68: -
B69: 61 | C69: Lambark Gas | D69: - | E69: - | F69: - | G69: - | H69: - | I69: -
B70: 62 | C70: Lucky oil | D70: 14.99 | E70: - | F70: 16.64 | G70: 16.552 | H70: - | I70: -
B71: 63 | C71: Liberty Petroleum | D71: 16.05 | E71: - | F71: 17.15 | G71: - | H71: - | I71: -
B72: 64 | C72: Life Energy | D72: 15.85 | E72: - | F72: 18.77 | G72: - | H72: - | I72: -
B73: 65 | C73: Maxx Energy | D73: 15.15 | E73: - | F73: 17.37 | G73: - | H73: - | I73: -
B74: 66 | C74: Manbah Gas | D74: - | E74: - | F74: - | G74: 16.04 | H74: - | I74: -
B75: 67 | C75: Mercy Oil | D75: 16.19 | E75: - | F75: 17.39 | G75: - | H75: - | I75: -
B76: 68 | C76: Midas Oil | D76: - | E76: - | F76: - | G76: 16.4578 | H76: - | I76: -
B77: 69 | C77: Mighty Gas | D77: - | E77: - | F77: - | G77: 15.34 | H77: - | I77: -
B78: 70 | C78: Misa Energy | D78: 16.19 | E78: - | F78: 17.17 | G78: 14.9578 | H78: 17.16 | I78: 18.57
B79: 71 | C79: More Fuel | D79: 15.05 | E79: - | F79: 16.85 | G79: - | H79: - | I79: -
B80: 72 | C80: MM Energy | D80: 15.57 | E80: - | F80: 16.95 | G80: - | H80: - | I80: -
B81: 73 | C81: Naagamni | D81: 15.3 | E81: - | F81: 16.99 | G81: - | H81: - | I81: -
B82: 74 | C82: Nasona | D82: 15.43 | E82: - | F82: 17.25 | G82: - | H82: - | I82: -
B83: 75 | C83: Nexbons | D83: - | E83: - | F83: - | G83: 17.1478 | H83: - | I83: -
B84: 76 | C84: Next Petroleum | D84: 15.3 | E84: - | F84: 16.4 | G84: - | H84: - | I84: -
B85: 77 | C85: Ocean Oil | D85: - | E85: - | F85: - | G85: 16.7378 | H85: - | I85: -
B86: 78 | C86: Power Fuels | D86: 15.77 | E86: - | F86: 17.2037 | G86: - | H86: - | I86: -
B87: 79 | C87: Pacific Oil | D87: 15.47 | E87: - | F87: 16.89 | G87: 15.8812 | H87: -
B88: 80 | C88: PK Oil & Gas | D88: 16.12 | E88: - | F88: 17.6888 | G88: - | H88: - | I88: -
B89: 81 | C89: P.K.A. Bonney | D89: - | E89: - | F89: - | G89: 16.72 | H89: - | I89: -
B90: 82 | C90: Petroland | D90: 15.59 | E90: - | F90: 16.99 | G90: - | H90: - | I90: -
B91: 83 | C91: Petrosol | D91: 15.98 | E91: - | F91: 17.58 | G91: 16.7 | H91: - | I91: -
B92: 84 | C92: Petrogy Limited | D92: 15.99 | E92: - | F92: 17.45 | G92: - | H92: - | I92: -
B93: 85 | C93: Petronax | D93: 15.99 | E93: - | F93: 17.4 | G93: - | H93: - | I93: -
B94: 86 | C94: Petro Sankofa | D94: 15.69 | E94: - | F94: 17.49 | G94: - | H94: - | I94: -
B95: 87 | C95: Quantum Petroleum | D95: 15.99 | E95: - | F95: 17.59 | G95: - | H95: - | I95: -
B96: 88 | C96: Puma Energy | D96: 16.2 | E96: - | F96: 17.26 | G96: 18.6 | H96: - | I96: -
B97: 89 | C97: Radiance | D97: 15.49 | E97: - | F97: 18.49 | G97: 17.65 | H97: - | I97: -
B98: 90 | C98: Raz Oil | D98: 15.31 | E98: - | F98: 17.2 | G98: - | H98: - | I98: -
B99: 91 | C99: Ready Oil | D99: 15.99 | E99: - | F99: 17.49 | G99: - | H99: - | I99: -
B100: 92 | C100: Rootsenaf | D100: - | E100: - | F100: - | G100: 16.2478 | H100: - | I100: -
B101: 93 | C101: Reliance Oil Limited | D101: 15.4 | E101: - | F101: 17.2 | G101: - | H101: - | I101: -
B102: 94 | C102: Restol Energy | D102: 15.1 | E102: - | F102: 18.6 | G102: - | H102: - | I102: -
B103: 95 | C103: Royal Energy | D103: - | E103: - | F103: - | G103: 16.11 | H103: - | I103: -
B104: 96 | C104: Runnel Oil | D104: 15.99 | E104: - | F104: 17.19 | G104: 17.5 | H104: - | I104: -
B105: 97 | C105: Sap Oil | D105: 15.87 | E105: - | F105: 17.57 | G105: - | H105: - | I105: -
...

Sheet Ex-Pump Prices 14th Sept 2026
B2: NATIONAL PETROLEUM AUTHORITY
B6: EX-PUMP PRICES OF OMCs/LPGMCs AS OF 14th September 2026
B8: NO. | C8: COMPANY | D8: REGULAR PETROL - RON 91 (GHS/Lt) | E8: PREMIUM PETROL - RON 95 (GHS/Lt) | F8: DIESEL (GHS/Lt) | G8: LPG (GHS/Kg) | H8: KEROSENE (GHS/Lt) | I8: MGO Local (GHS/Lt)
B9: 1 | C9: Agapet | D9: 16.32 | E9: - | F9: 17.3 | G9: - | H9: - | I9: -
B10: 2 | C10: Aegis huile | D10: 15.99 | E10: - | F10: 17.99 | G10: - | H10: - | I10: -
B11: 3 | C11: AI Energy | D11: 15.5 | E11: - | F11: 17.15 | G11: - | H11: - | I11: -
B12: 4 | C12: Allied Oil | D12: 15.4 | E12: - | F12: 17.25 | G12: - | H12: - | I12: -
B13: 5 | C13: Alive Gas | D13: - | E13: - | F13: - | G13: 16.4578 | H13: - | I13: -
B14: 6 | C14: Aminaser Oil | D14: 14.5 | E14: - | F14: 16.69 | G14: - | H14: - | I14: -
B15: 7 | C15: Anasset | D15: - | E15: - | F15: - | G15: 16.6296 | H15: - | I15: -
B16: 8 | C16: Andev | D16: - | E16: - | F16: - | G16: 16.3078 | H16: - | I16: -
B17: 9 | C17: Annandale | D17: - | E17: - | F17: - | G17: 16.51 | H17: - | I17: -
B18: 10 | C18: April Oil Ghana | D18: 14.7 | F18: 16.89
B19: 11 | C19: Amdaway | D19: 15.17 | E19: - | F19: 16.97 | G19: - | H19: - | I19: -
B20: 12 | C20: Beap Energy | D20: 15.92 | E20: - | F20: 17 | G20: - | H20: - | I20: -
B21: 13 | C21: Benab Oil | D21: 15.37 | E21: - | F21: 16.85 | G21: 14.74 | H21: - | I21: -
B22: 14 | C22: Baffour Gas | D22: - | E22: - | F22: - | G22: 17.1589 | H22: - | I22: -
B23: 15 | C23: Bloom Petroleum | D23: 16.18 | E23: - | F23: 17.49 | G23: - | H23: - | I23: -
B24: 16 | C24: Breedlove Co. Ltd. | D24: 15.99 | E24: - | F24: 17.15 | G24: - | H24: - | I24: -
B25: 17 | C25: Brent Petroleum | D25: 15.47 | E25: - | F25: 16.97 | G25: - | H25: - | I25: -
B26: 18 | C26: Crown Petroleum | D26: 16.27 | E26: - | F26: 17.25 | G26: 17.6399 | H26: - | I26: -
B27: 19 | C27: Central Brent | D27: - | E27: - | F27: - | G27: 15.9578 | H27: - | I27: -
B28: 20 | C28: Cent Eastern | D28: - | E28: - | F28: - | G28: 16.11 | H28: - | I28: -
B29: 21 | C29: Oil Space | D29: - | E29: - | F29: 16.78 | G29: 14.84 | H29: - | I29: -
B30: 22 | C30: Coegan | D30: - | E30: - | F30: - | G30: 16.7574 | H30: - | I30: -
B31: 23 | C31: Compass Oleum | D31: 15.99 | E31: - | F31: 17.25 | G31: - | H31: - | I31: -
B32: 24 | C32: Davis Petroleum | D32: 15.59 | E32: - | F32: 17.26 | G32: 18.0078 | H32: - | I32: -
B33: 25 | C33: Dejon Jones | D33: 16.37 | E33: - | F33: 17.45 | G33: - | H33: - | I33: -
B34: 26 | C34: Dessert Oil | D34: 16.5 | E34: - | F34: 18 | G34: - | H34: - | I34: -
B35: 27 | C35: Dukes Petroleum | D35: 15.37 | E35: - | F35: 16.98 | G35: 15.6578 | H35: - | I35: -
B36: 28 | C36: Eden Petroleum | D36: 14.99 | E36: - | F36: 16.35 | G36: - | H36: - | I36: -
B37: 29 | C37: Energetic Petro gh | D37: 16.22 | E37: - | F37: 18.15 | G37: - | H37: - | I37: -
B38: 30 | C38: Ex Oil | D38: 15.6 | E38: - | F38: 16.95 | G38: - | H38: - | I38: -
B39: 31 | C39: EV Oil | D39: 15.4 | E39: - | F39: 17.2 | G39: - | H39: - | I39: -
B40: 32 | C40: E-Windstar | D40: 15.57 | F40: 17.3 | G40: - | H40: - | I40: -
B41: 33 | C41: Eza Petroleum | D41: 15.97 | E41: - | F41: 18.97 | G41: - | H41: - | I41: -
B42: 34 | C42: First Gas | D42: - | E42: - | F42: - | G42: 16.3789 | H42: - | I42: -
B43: 35 | C43: Finest Oil | D43: 15.5 | E43: - | F43: 17.26 | G43: - | H43: - | I43: -
B44: 36 | C44: Frimps Oil | D44: 15.25 | E44: - | F44: 16.99 | G44: 14.78 | H44: - | I44: -
B45: 37 | C45: Frontier Oil | D45: 15.43 | E45: - | F45: 17.2 | G45: - | H45: - | I45: -
B46: 38 | C46: Gab Energy | D46: 15.42 | E46: - | F46: 17.25 | G46: - | H46: - | I46: -
B47: 39 | C47: GasoPetroleum | E47: - | G47: - | H47: - | I47: -
B48: 40 | C48: Gogas | D48: - | E48: - | F48: - | G48: 17.1589 | H48: - | I48: -
B49: 41 | C49: GOIL | D49: 15.43 | E49: 17.97 | F49: 17.26 | G49: 16.240408 | H49: 19.78 | I49: -
B50: 42 | C50: Goodness Energy | D50: 14.6 | E50: - | F50: 16.69 | G50: - | H50: - | I50: -
B51: 43 | C51: Gowell Energy | D51: 15.97 | E51: - | F51: 17.29 | G51: - | H51: - | I51: -
B52: 44 | C52: Green GG7 | D52: - | E52: - | F52: - | G52: 16.36 | H52: - | I52: -
B53: 45 | C53: Henos Energy | D53: - | E53: - | F53: - | G53: 14.6578 | H53: - | I53: -
B54: 46 | C54: Hills Oil | D54: - | E54: - | F54: - | G54: 15.81 | H54: - | I54: -
B55: 47 | C55: Huss Petroleum | D55: 15.47 | E55: - | F55: 16.69 | G55: - | H55: - | I55: -
B56: 48 | C56: Icon Energy | D56: 15.17 | E56: - | F56: 16.97 | G56: - | H56: - | I56: -
B57: 49 | C57: Infin | D57: 15.99 | E57: - | F57: 17.49 | G57: 17.55 | H57: - | I57: -
B58: 50 | C58: Joekona | D58: - | E58: - | F58: - | G58: 15.9078 | H58: - | I58: -
B59: 51 | C59: JD Links | D59: 15.57 | E59: - | F59: 18.96 | G59: 16.12 | H59: - | I59: -
B60: 52 | C60: Jusbro | D60: 15.989 | E60: - | F60: 17.419 | G60: 16.53 | H60: - | I60: -
B61: 53 | C61: JP Trustee | D61: 15.37 | E61: 17.97 | F61: 17.17 | G61: - | H61: - | I61: -
B62: 54 | C62: Kab Energy | D62: 15.98 | E62: - | F62: 17.15 | G62: - | H62: - | I62: -
B63: 55 | C63: Kaysens | D63: - | E63: - | F63: - | G63: 16.1774 | H63: - | I63: -
B64: 56 | C64: Koan Petroleum | D64: 15.37 | E64: - | F64: 16.7 | G64: 17.05 | H64: - | I64: -
B65: 57 | C65: KI Energy | D65: - | E65: - | F65: - | G65: 18.2578 | H65: - | I65: -
B66: 58 | C66: Kings Energy | D66: 15.29 | E66: - | F66: 16.99 | G66: - | H66: - | I66: -
B67: 59 | C67: La Clem | D67: 15.89 | E67: - | F67: 17.39 | G67: - | H67: - | I67: - | N67: ``
B68: 60 | C68: Lamininbee | D68: - | E68: - | F68: - | G68: 16.1578 | H68: - | I68: -
B69: 61 | C69: Lambark Gas | D69: - | E69: - | F69: - | G69: - | H69: - | I69: -
B70: 62 | C70: Lucky oil | D70: 14.99 | E70: - | F70: 16.64 | G70: 16.552 | H70: - | I70: -
B71: 63 | C71: Liberty Petroleum | D71: 16.05 | E71: - | F71: 17.15 | G71: - | H71: - | I71: -
B72: 64 | C72: Life Energy | D72: 15.85 | E72: - | F72: 18.77 | G72: - | H72: - | I72: -
B73: 65 | C73: Maxx Energy | D73: 15.15 | E73: - | F73: 17.37 | G73: - | H73: - | I73: -
B74: 66 | C74: Manbah Gas | D74: - | E74: - | F74: - | G74: 16.04 | H74: - | I74: -
B75: 67 | C75: Mercy Oil | D75: 16.19 | E75: - | F75: 17.39 | G75: - | H75: - | I75: -
B76: 68 | C76: Midas Oil | D76: - | E76: - | F76: - | G76: 16.4578 | H76: - | I76: -
B77: 69 | C77: Mighty Gas | D77: - | E77: - | F77: - | G77: 15.34 | H77: - | I77: -
B78: 70 | C78: Misa Energy | D78: 16.19 | E78: - | F78: 17.17 | G78: 14.9578 | H78: 17.16 | I78: 18.57
B79: 71 | C79: More Fuel | D79: 15.05 | E79: - | F79: 16.85 | G79: - | H79: - | I79: -
B80: 72 | C80: MM Energy | D80: 15.57 | E80: - | F80: 16.95 | G80: - | H80: - | I80: -
B81: 73 | C81: Naagamni | D81: 15.3 | E81: - | F81: 16.99 | G81: - | H81: - | I81: -
B82: 74 | C82: Nasona | D82: 15.43 | E82: - | F82: 17.25 | G82: - | H82: - | I82: -
B83: 75 | C83: Nexbons | D83: - | E83: - | F83: - | G83: 17.1478 | H83: - | I83: -
B84: 76 | C84: Next Petroleum | D84: 15.3 | E84: - | F84: 16.4 | G84: - | H84: - | I84: -
B85: 77 | C85: Ocean Oil | D85: - | E85: - | F85: - | G85: 16.7378 | H85: - | I85: -
B86: 78 | C86: Power Fuels | D86: 15.77 | E86: - | F86: 17.2037 | G86: - | H86: - | I86: -
B87: 79 | C87: Pacific Oil | D87: 15.47 | E87: - | F87: 16.89 | G87: 15.8812 | H87: -
B88: 80 | C88: PK Oil & Gas | D88: 16.12 | E88: - | F88: 17.6888 | G88: - | H88: - | I88: -
B89: 81 | C89: P.K.A. Bonney | D89: - | E89: - | F89: - | G89: 16.72 | H89: - | I89: -
B90: 82 | C90: Petroland | D90: 15.59 | E90: - | F90: 16.99 | G90: - | H90: - | I90: -
B91: 83 | C91: Petrosol | D91: 15.98 | E91: - | F91: 17.58 | G91: 16.7 | H91: - | I91: -
B92: 84 | C92: Petrogy Limited | D92: 15.99 | E92: - | F92: 17.45 | G92: - | H92: - | I92: -
B93: 85 | C93: Petronax | D93: 15.99 | E93: - | F93: 17.4 | G93: - | H93: - | I93: -
B94: 86 | C94: Petro Sankofa | D94: 15.69 | E94: - | F94: 17.49 | G94: - | H94: - | I94: -
B95: 87 | C95: Quantum Petroleum | D95: 15.99 | E95: - | F95: 17.59 | G95: - | H95: - | I95: -
B96: 88 | C96: Puma Energy | D96: 16.2 | E96: - | F96: 17.26 | G96: 18.6 | H96: - | I96: -
B97: 89 | C97: Radiance | D97: 15.49 | E97: - | F97: 18.49 | G97: 17.65 | H97: - | I97: -
B98: 90 | C98: Raz Oil | D98: 15.31 | E98: - | F98: 17.2 | G98: - | H98: - | I98: -
B99: 91 | C99: Ready Oil | D99: 15.99 | E99: - | F99: 17.49 | G99: - | H99: - | I99: -
B100: 92 | C100: Rootsenaf | D100: - | E100: - | F100: - | G100: 16.2478 | H100: - | I100: -
B101: 93 | C101: Reliance Oil Limited | D101: 15.4 | E101: - | F101: 17.2 | G101: - | H101: - | I101: -
B102: 94 | C102: Restol Energy | D102: 15.1 | E102: - | F102: 18.6 | G102: - | H102: - | I102: -
B103: 95 | C103: Royal Energy | D103: - | E103: - | F103: - | G103: 16.11 | H103: - | I103: -
B104: 96 | C104: Runnel Oil | D104: 15.99 | E104: - | F104: 17.19 | G104: 17.5 | H104: - | I104: -
B105: 97 | C105: Sap Oil | D105: 15.87 | E105: - | F105: 17.57 | G105: - | H105: - | I105: -
...

Sheet Ex-Pump Prices 11th Sept 2026
B2: NATIONAL PETROLEUM AUTHORITY
B6: EX-PUMP PRICES OF OMCs/LPGMCs AS OF 11th September 2026
B8: NO. | C8: COMPANY | D8: REGULAR PETROL - RON 91 (GHS/Lt) | E8: PREMIUM PETROL - RON 95 (GHS/Lt) | F8: DIESEL (GHS/Lt) | G8: LPG (GHS/Kg) | H8: KEROSENE (GHS/Lt) | I8: MGO Local (GHS/Lt)
B9: 1 | C9: Agapet | D9: 16.32 | E9: - | F9: 17.3 | G9: - | H9: - | I9: -
B10: 2 | C10: Aegis huile | D10: 15.39 | E10: - | F10: 17.26 | G10: - | H10: - | I10: -
B11: 3 | C11: AI Energy | D11: 15.5 | E11: - | F11: 17.15 | G11: - | H11: - | I11: -
B12: 4 | C12: Allied Oil | D12: 15.4 | E12: - | F12: 17.25 | G12: - | H12: - | I12: -
B13: 5 | C13: Alive Gas | D13: - | E13: - | F13: - | G13: 16.4578 | H13: - | I13: -
B14: 6 | C14: Aminaser Oil | D14: 14.5 | E14: - | F14: 16.69 | G14: - | H14: - | I14: -
B15: 7 | C15: Anasset | D15: - | E15: - | F15: - | G15: 16.6296 | H15: - | I15: -
B16: 8 | C16: Andev | D16: - | E16: - | F16: - | G16: 16.3078 | H16: - | I16: -
B17: 9 | C17: Annandale | D17: - | E17: - | F17: - | G17: 16.51 | H17: - | I17: -
B18: 10 | C18: April Oil Ghana | D18: 14.7 | F18: 16.89
B19: 11 | C19: Amdaway | D19: 15.17 | E19: - | F19: 16.97 | G19: - | H19: - | I19: -
B20: 12 | C20: Beap Energy | D20: 15.92 | E20: - | F20: 17 | G20: - | H20: - | I20: -
B21: 13 | C21: Benab Oil | D21: 15.37 | E21: - | F21: 16.85 | G21: 14.74 | H21: - | I21: -
B22: 14 | C22: Baffour Gas | D22: - | E22: - | F22: - | G22: 17.1589 | H22: - | I22: -
B23: 15 | C23: Bloom Petroleum | D23: 16.18 | E23: - | F23: 17.49 | G23: - | H23: - | I23: -
B24: 16 | C24: Breedlove Co. Ltd. | D24: 15.99 | E24: - | F24: 17.15 | G24: - | H24: - | I24: -
B25: 17 | C25: Brent Petroleum | D25: 15.47 | E25: - | F25: 16.97 | G25: - | H25: - | I25: -
B26: 18 | C26: Crown Petroleum | D26: 16.27 | E26: - | F26: 17.25 | G26: 17.6399 | H26: - | I26: -
B27: 19 | C27: Central Brent | D27: - | E27: - | F27: - | G27: 15.9578 | H27: - | I27: -
B28: 20 | C28: Cent Eastern | D28: - | E28: - | F28: - | G28: 16.11 | H28: - | I28: -
B29: 21 | C29: Oil Space | D29: - | E29: - | F29: 16.78 | G29: 14.84 | H29: - | I29: -
B30: 22 | C30: Coegan | D30: - | E30: - | F30: - | G30: 16.7574 | H30: - | I30: -
B31: 23 | C31: Compass Oleum | D31: 15.99 | E31: - | F31: 17.25 | G31: - | H31: - | I31: -
B32: 24 | C32: Davis Petroleum | D32: 15.59 | E32: - | F32: 17.26 | G32: 18.0078 | H32: - | I32: -
B33: 25 | C33: Dejon Jones | D33: 16.37 | E33: - | F33: 17.45 | G33: - | H33: - | I33: -
B34: 26 | C34: Dessert Oil | D34: 16.5 | E34: - | F34: 18 | G34: - | H34: - | I34: -
B35: 27 | C35: Dukes Petroleum | D35: 15.37 | E35: - | F35: 16.98 | G35: 15.6578 | H35: - | I35: -
B36: 28 | C36: Eden Petroleum | D36: 14.99 | E36: - | F36: 16.35 | G36: - | H36: - | I36: -
B37: 29 | C37: Energetic Petro gh | D37: 16.22 | E37: - | F37: 18.15 | G37: - | H37: - | I37: -
B38: 30 | C38: Ex Oil | D38: 15.6 | E38: - | F38: 16.95 | G38: - | H38: - | I38: -
B39: 31 | C39: EV Oil | D39: 15.4 | E39: - | F39: 17.2 | G39: - | H39: - | I39: -
B40: 32 | C40: E-Windstar | D40: 15.57 | F40: 17.3 | G40: - | H40: - | I40: -
B41: 33 | C41: Eza Petroleum | D41: 15.97 | E41: - | F41: 18.97 | G41: - | H41: - | I41: -
B42: 34 | C42: First Gas | D42: - | E42: - | F42: - | G42: 16.3789 | H42: - | I42: -
B43: 35 | C43: Finest Oil | D43: 15.5 | E43: - | F43: 17.26 | G43: - | H43: - | I43: -
B44: 36 | C44: Frimps Oil | D44: 15.25 | E44: - | F44: 16.99 | G44: 14.78 | H44: - | I44: -
B45: 37 | C45: Frontier Oil | D45: 15.43 | E45: - | F45: 17.2 | G45: - | H45: - | I45: -
B46: 38 | C46: Gab Energy | D46: 15.42 | E46: - | F46: 17.25 | G46: - | H46: - | I46: -
B47: 39 | C47: GasoPetroleum | E47: - | G47: - | H47: - | I47: -
B48: 40 | C48: Gogas | D48: - | E48: - | F48: - | G48: 17.1589 | H48: - | I48: -
B49: 41 | C49: GOIL | D49: 15.43 | E49: 17.97 | F49: 17.26 | G49: 16.240408 | H49: 19.78 | I49: -
B50: 42 | C50: Goodness Energy | D50: 14.6 | E50: - | F50: 16.69 | G50: - | H50: - | I50: -
B51: 43 | C51: Gowell Energy | D51: 15.99 | E51: - | F51: 17.29 | G51: - | H51: - | I51: -
B52: 44 | C52: Green GG7 | D52: - | E52: - | F52: - | G52: 16.36 | H52: - | I52: -
B53: 45 | C53: Henos Energy | D53: - | E53: - | F53: - | G53: 14.6578 | H53: - | I53: -
B54: 46 | C54: Hills Oil | D54: - | E54: - | F54: - | G54: 15.81 | H54: - | I54: -
B55: 47 | C55: Huss Petroleum | D55: 15.47 | E55: - | F55: 16.69 | G55: - | H55: - | I55: -
B56: 48 | C56: Icon Energy | D56: 15.17 | E56: - | F56: 16.97 | G56: - | H56: - | I56: -
B57: 49 | C57: Infin | D57: 15.99 | E57: - | F57: 17.49 | G57: 17.55 | H57: - | I57: -
B58: 50 | C58: Joekona | D58: - | E58: - | F58: - | G58: 15.9078 | H58: - | I58: -
B59: 51 | C59: JD Links | D59: 15.57 | E59: - | F59: 18.96 | G59: 16.12 | H59: - | I59: -
B60: 52 | C60: Jusbro | D60: 15.989 | E60: - | F60: 17.419 | G60: 16.53 | H60: - | I60: -
B61: 53 | C61: JP Trustee | D61: 15.37 | E61: 17.97 | F61: 17.17 | G61: - | H61: - | I61: -
B62: 54 | C62: Kab Energy | D62: 15.98 | E62: - | F62: 17.15 | G62: - | H62: - | I62: -
B63: 55 | C63: Kaysens | D63: - | E63: - | F63: - | G63: 16.1774 | H63: - | I63: -
B64: 56 | C64: Koan Petroleum | D64: 15.37 | E64: - | F64: 16.7 | G64: 17.05 | H64: - | I64: -
B65: 57 | C65: KI Energy | D65: - | E65: - | F65: - | G65: 18.2578 | H65: - | I65: -
B66: 58 | C66: Kings Energy | D66: 15.29 | E66: - | F66: 16.99 | G66: - | H66: - | I66: -
B67: 59 | C67: La Clem | D67: 15.09 | E67: - | F67: 16.85 | G67: - | H67: - | I67: - | N67: ``
B68: 60 | C68: Lamininbee | D68: - | E68: - | F68: - | G68: 16.1578 | H68: - | I68: -
B69: 61 | C69: Lambark Gas | D69: - | E69: - | F69: - | G69: - | H69: - | I69: -
B70: 62 | C70: Lucky oil | D70: 14.99 | E70: - | F70: 16.64 | G70: 16.552 | H70: - | I70: -
B71: 63 | C71: Liberty Petroleum | D71: 16.05 | E71: - | F71: 17.15 | G71: - | H71: - | I71: -
B72: 64 | C72: Life Energy | D72: 15.85 | E72: - | F72: 18.77 | G72: - | H72: - | I72: -
B73: 65 | C73: Maxx Energy | D73: 15.15 | E73: - | F73: 17.37 | G73: - | H73: - | I73: -
B74: 66 | C74: Manbah Gas | D74: - | E74: - | F74: - | G74: 16.04 | H74: - | I74: -
B75: 67 | C75: Mercy Oil | D75: 16.19 | E75: - | F75: 17.39 | G75: - | H75: - | I75: -
B76: 68 | C76: Midas Oil | D76: - | E76: - | F76: - | G76: 16.4578 | H76: - | I76: -
B77: 69 | C77: Mighty Gas | D77: - | E77: - | F77: - | G77: 15.34 | H77: - | I77: -
B78: 70 | C78: Misa Energy | D78: 16.19 | E78: - | F78: 17.17 | G78: 14.9578 | H78: 17.16 | I78: 18.57
B79: 71 | C79: More Fuel | D79: 15.05 | E79: - | F79: 16.85 | G79: - | H79: - | I79: -
B80: 72 | C80: MM Energy | D80: 15.57 | E80: - | F80: 16.95 | G80: - | H80: - | I80: -
B81: 73 | C81: Naagamni | D81: 15.3 | E81: - | F81: 16.99 | G81: - | H81: - | I81: -
B82: 74 | C82: Nasona | D82: 15.43 | E82: - | F82: 17.25 | G82: - | H82: - | I82: -
B83: 75 | C83: Nexbons | D83: - | E83: - | F83: - | G83: 17.1478 | H83: - | I83: -
B84: 76 | C84: Next Petroleum | D84: 15.3 | E84: - | F84: 16.4 | G84: - | H84: - | I84: -
B85: 77 | C85: Ocean Oil | D85: - | E85: - | F85: - | G85: 16.3878 | H85: - | I85: -
B86: 78 | C86: Power Fuels | D86: 15.77 | E86: - | F86: 17.2037 | G86: - | H86: - | I86: -
B87: 79 | C87: Pacific Oil | D87: 15.47 | E87: - | F87: 16.89 | G87: 15.8812 | H87: -
B88: 80 | C88: PK Oil & Gas | D88: 16.12 | E88: - | F88: 17.6888 | G88: - | H88: - | I88: -
B89: 81 | C89: P.K.A. Bonney | D89: - | E89: - | F89: - | G89: 16.72 | H89: - | I89: -
B90: 82 | C90: Petroland | D90: 15.59 | E90: - | F90: 16.99 | G90: - | H90: - | I90: -
B91: 83 | C91: Petrosol | D91: 15.98 | E91: - | F91: 17.58 | G91: 16.7 | H91: - | I91: -
B92: 84 | C92: Petrogy Limited | D92: 15.99 | E92: - | F92: 17.45 | G92: - | H92: - | I92: -
B93: 85 | C93: Petronax | D93: 15.99 | E93: - | F93: 17.4 | G93: - | H93: - | I93: -
B94: 86 | C94: Petro Sankofa | D94: 15.69 | E94: - | F94: 17.49 | G94: - | H94: - | I94: -
B95: 87 | C95: Quantum Petroleum | D95: 15.99 | E95: - | F95: 17.59 | G95: - | H95: - | I95: -
B96: 88 | C96: Puma Energy | D96: 16.2 | E96: - | F96: 17.26 | G96: 18.6 | H96: - | I96: -
B97: 89 | C97: Radiance | D97: 15.49 | E97: - | F97: 18.49 | G97: 17.65 | H97: - | I97: -
B98: 90 | C98: Raz Oil | D98: 15.31 | E98: - | F98: 17.2 | G98: - | H98: - | I98: -
B99: 91 | C99: Ready Oil | D99: 15.99 | E99: - | F99: 17.49 | G99: - | H99: - | I99: -
B100: 92 | C100: Rootsenaf | D100: - | E100: - | F100: - | G100: 16.2478 | H100: - | I100: -
B101: 93 | C101: Reliance Oil Limited | D101: 15.4 | E101: - | F101: 17.2 | G101: - | H101: - | I101: -
B102: 94 | C102: Restol Energy | D102: 15.1 | E102: - | F102: 18.6 | G102: - | H102: - | I102: -
B103: 95 | C103: Royal Energy | D103: - | E103: - | F103: - | G103: 16.11 | H103: - | I103: -
B104: 96 | C104: Runnel Oil | D104: 15.99 | E104: - | F104: 17.19 | G104: 17.5 | H104: - | I104: -
B105: 97 | C105: Sap Oil | D105: 15.87 | E105: - | F105: 17.57 | G105: - | H105: - | I105: -
...

Sheet Ex-Pump Prices 10th Sept 2026
B2: NATIONAL PETROLEUM AUTHORITY
B6: EX-PUMP PRICES OF OMCs/LPGMCs AS OF 10th September 2026
B8: NO. | C8: COMPANY | D8: REGULAR PETROL - RON 91 (GHS/Lt) | E8: PREMIUM PETROL - RON 95 (GHS/Lt) | F8: DIESEL (GHS/Lt) | G8: LPG (GHS/Kg) | H8: KEROSENE (GHS/Lt) | I8: MGO Local (GHS/Lt)
B9: 1 | C9: Agapet | D9: 16.32 | E9: - | F9: 17.3 | G9: - | H9: - | I9: -
B10: 2 | C10: Aegis huile | D10: 15.39 | E10: - | F10: 17.26 | G10: - | H10: - | I10: -
B11: 3 | C11: AI Energy | D11: 15.5 | E11: - | F11: 17.15 | G11: - | H11: - | I11: -
B12: 4 | C12: Allied Oil | D12: 15.4 | E12: - | F12: 17.25 | G12: - | H12: - | I12: -
B13: 5 | C13: Alive Gas | D13: - | E13: - | F13: - | G13: 16.4578 | H13: - | I13: -
B14: 6 | C14: Aminaser Oil | D14: 14.5 | E14: - | F14: 16.69 | G14: - | H14: - | I14: -
B15: 7 | C15: Anasset | D15: - | E15: - | F15: - | G15: 16.6296 | H15: - | I15: -
B16: 8 | C16: Andev | D16: - | E16: - | F16: - | G16: 16.3078 | H16: - | I16: -
B17: 9 | C17: Annandale | D17: - | E17: - | F17: - | G17: 16.51 | H17: - | I17: -
B18: 10 | C18: April Oil Ghana | D18: 14.7 | F18: 16.89
B19: 11 | C19: Amdaway | D19: 15.17 | E19: - | F19: 16.97 | G19: - | H19: - | I19: -
B20: 12 | C20: Beap Energy | D20: 15.92 | E20: - | F20: 17 | G20: - | H20: - | I20: -
B21: 13 | C21: Benab Oil | D21: 15.37 | E21: - | F21: 16.85 | G21: 14.74 | H21: - | I21: -
B22: 14 | C22: Baffour Gas | D22: - | E22: - | F22: - | G22: 17.1589 | H22: - | I22: -
B23: 15 | C23: Bloom Petroleum | D23: 15.99 | E23: - | F23: 17.29 | G23: - | H23: - | I23: -
B24: 16 | C24: Breedlove Co. Ltd. | D24: 15.99 | E24: - | F24: 17.15 | G24: - | H24: - | I24: -
B25: 17 | C25: Brent Petroleum | D25: 15.47 | E25: - | F25: 16.97 | G25: - | H25: - | I25: -
B26: 18 | C26: Crown Petroleum | D26: 16.27 | E26: - | F26: 17.25 | G26: 17.6399 | H26: - | I26: -
B27: 19 | C27: Central Brent | D27: - | E27: - | F27: - | G27: 15.9578 | H27: - | I27: -
B28: 20 | C28: Cent Eastern | D28: - | E28: - | F28: - | G28: 16.11 | H28: - | I28: -
B29: 21 | C29: Oil Space | D29: - | E29: - | F29: 16.78 | G29: 14.84 | H29: - | I29: -
B30: 22 | C30: Coegan | D30: - | E30: - | F30: - | G30: 16.7574 | H30: - | I30: -
B31: 23 | C31: Compass Oleum | D31: 15.99 | E31: - | F31: 17.25 | G31: - | H31: - | I31: -
B32: 24 | C32: Davis Petroleum | D32: 15.59 | E32: - | F32: 17.26 | G32: 18.0078 | H32: - | I32: -
B33: 25 | C33: Dejon Jones | D33: 16.37 | E33: - | F33: 17.45 | G33: - | H33: - | I33: -
B34: 26 | C34: Dessert Oil | D34: 16.5 | E34: - | F34: 18 | G34: - | H34: - | I34: -
B35: 27 | C35: Dukes Petroleum | D35: 15.37 | E35: - | F35: 16.98 | G35: 15.6578 | H35: - | I35: -
B36: 28 | C36: Eden Petroleum | D36: 14.99 | E36: - | F36: 16.35 | G36: - | H36: - | I36: -
B37: 29 | C37: Energetic Petro gh | D37: 16.22 | E37: - | F37: 18.15 | G37: - | H37: - | I37: -
B38: 30 | C38: Ex Oil | D38: 15.6 | E38: - | F38: 16.95 | G38: - | H38: - | I38: -
B39: 31 | C39: EV Oil | D39: 15.4 | E39: - | F39: 17.2 | G39: - | H39: - | I39: -
B40: 32 | C40: E-Windstar | D40: 15.57 | F40: 17.3 | G40: - | H40: - | I40: -
B41: 33 | C41: Eza Petroleum | D41: 15.97 | E41: - | F41: 18.97 | G41: - | H41: - | I41: -
B42: 34 | C42: First Gas | D42: - | E42: - | F42: - | G42: 16.3789 | H42: - | I42: -
B43: 35 | C43: Finest Oil | D43: 15.5 | E43: - | F43: 17.26 | G43: - | H43: - | I43: -
B44: 36 | C44: Frimps Oil | D44: 15.25 | E44: - | F44: 16.99 | G44: 14.78 | H44: - | I44: -
B45: 37 | C45: Frontier Oil | D45: 15.43 | E45: - | F45: 17.2 | G45: - | H45: - | I45: -
B46: 38 | C46: Gab Energy | D46: 15.42 | E46: - | F46: 17.25 | G46: - | H46: - | I46: -
B47: 39 | C47: GasoPetroleum | E47: - | G47: - | H47: - | I47: -
B48: 40 | C48: Gogas | D48: - | E48: - | F48: - | G48: 17.1589 | H48: - | I48: -
B49: 41 | C49: GOIL | D49: 15.43 | E49: 17.97 | F49: 17.26 | G49: 16.7515 | H49: 19.78 | I49: -
B50: 42 | C50: Goodness Energy | D50: 14.6 | E50: - | F50: 16.69 | G50: - | H50: - | I50: -
B51: 43 | C51: Gowell Energy | D51: 15.99 | E51: - | F51: 17.29 | G51: - | H51: - | I51: -
B52: 44 | C52: Green GG7 | D52: - | E52: - | F52: - | G52: 16.36 | H52: - | I52: -
B53: 45 | C53: Henos Energy | D53: - | E53: - | F53: - | G53: 14.6578 | H53: - | I53: -
B54: 46 | C54: Hills Oil | D54: - | E54: - | F54: - | G54: 15.81 | H54: - | I54: -
B55: 47 | C55: Huss Petroleum | D55: 15.47 | E55: - | F55: 16.69 | G55: - | H55: - | I55: -
B56: 48 | C56: Icon Energy | D56: 15.17 | E56: - | F56: 16.97 | G56: - | H56: - | I56: -
B57: 49 | C57: Infin | D57: 15.99 | E57: - | F57: 17.49 | G57: 17.55 | H57: - | I57: -
B58: 50 | C58: Joekona | D58: - | E58: - | F58: - | G58: 15.9078 | H58: - | I58: -
B59: 51 | C59: JD Links | D59: 15.57 | E59: - | F59: 18.96 | G59: 16.12 | H59: - | I59: -
B60: 52 | C60: Jusbro | D60: 15.989 | E60: - | F60: 17.419 | G60: 16.53 | H60: - | I60: -
B61: 53 | C61: JP Trustee | D61: 15.37 | E61: 17.97 | F61: 17.17 | G61: - | H61: - | I61: -
B62: 54 | C62: Kab Energy | D62: 15.98 | E62: - | F62: 17.15 | G62: - | H62: - | I62: -
B63: 55 | C63: Kaysens | D63: - | E63: - | F63: - | G63: 16.1774 | H63: - | I63: -
B64: 56 | C64: Koan Petroleum | D64: 15.37 | E64: - | F64: 16.7 | G64: 17.05 | H64: - | I64: -
B65: 57 | C65: KI Energy | D65: - | E65: - | F65: - | G65: 18.2578 | H65: - | I65: -
B66: 58 | C66: Kings Energy | D66: 15.29 | E66: - | F66: 16.99 | G66: - | H66: - | I66: -
B67: 59 | C67: La Clem | D67: 15.09 | E67: - | F67: 16.85 | G67: - | H67: - | I67: - | N67: ``
B68: 60 | C68: Lamininbee | D68: - | E68: - | F68: - | G68: 16.1578 | H68: - | I68: -
B69: 61 | C69: Lambark Gas | D69: - | E69: - | F69: - | G69: - | H69: - | I69: -
B70: 62 | C70: Lucky oil | D70: 14.99 | E70: - | F70: 16.64 | G70: 16.552 | H70: - | I70: -
B71: 63 | C71: Liberty Petroleum | D71: 15.99 | E71: - | F71: 17.15 | G71: - | H71: - | I71: -
B72: 64 | C72: Life Energy | D72: 15.85 | E72: - | F72: 18.77 | G72: - | H72: - | I72: -
B73: 65 | C73: Maxx Energy | D73: 15.15 | E73: - | F73: 17.37 | G73: - | H73: - | I73: -
B74: 66 | C74: Manbah Gas | D74: - | E74: - | F74: - | G74: 16.04 | H74: - | I74: -
B75: 67 | C75: Mercy Oil | D75: 16.19 | E75: - | F75: 17.39 | G75: - | H75: - | I75: -
B76: 68 | C76: Midas Oil | D76: - | E76: - | F76: - | G76: 16.4578 | H76: - | I76: -
B77: 69 | C77: Mighty Gas | D77: - | E77: - | F77: - | G77: 15.34 | H77: - | I77: -
B78: 70 | C78: Misa Energy | D78: 16.19 | E78: - | F78: 17.17 | G78: 14.9578 | H78: 17.16 | I78: 18.57
B79: 71 | C79: More Fuel | D79: 15.05 | E79: - | F79: 16.85 | G79: - | H79: - | I79: -
B80: 72 | C80: MM Energy | D80: 15.57 | E80: - | F80: 16.95 | G80: - | H80: - | I80: -
B81: 73 | C81: Naagamni | D81: 15.3 | E81: - | F81: 16.99 | G81: - | H81: - | I81: -
B82: 74 | C82: Nasona | D82: 15.43 | E82: - | F82: 17.25 | G82: - | H82: - | I82: -
B83: 75 | C83: Nexbons | D83: - | E83: - | F83: - | G83: 17.1478 | H83: - | I83: -
B84: 76 | C84: Next Petroleum | D84: 15.3 | E84: - | F84: 16.4 | G84: - | H84: - | I84: -
B85: 77 | C85: Ocean Oil | D85: - | E85: - | F85: - | G85: 16.3878 | H85: - | I85: -
B86: 78 | C86: Power Fuels | D86: 15.77 | E86: - | F86: 17.2037 | G86: - | H86: - | I86: -
B87: 79 | C87: Pacific Oil | D87: 15.47 | E87: - | F87: 16.89 | G87: 15.8812 | H87: -
B88: 80 | C88: PK Oil & Gas | D88: 16.12 | E88: - | F88: 17.6888 | G88: - | H88: - | I88: -
B89: 81 | C89: P.K.A. Bonney | D89: - | E89: - | F89: - | G89: 16.72 | H89: - | I89: -
B90: 82 | C90: Petroland | D90: 15.59 | E90: - | F90: 16.99 | G90: - | H90: - | I90: -
B91: 83 | C91: Petrosol | D91: 15.98 | E91: - | F91: 17.58 | G91: 16.7 | H91: - | I91: -
B92: 84 | C92: Petrogy Limited | D92: 15.99 | E92: - | F92: 17.45 | G92: - | H92: - | I92: -
B93: 85 | C93: Petronax | D93: 15.99 | E93: - | F93: 17.4 | G93: - | H93: - | I93: -
B94: 86 | C94: Petro Sankofa | D94: 15.69 | E94: - | F94: 17.49 | G94: - | H94: - | I94: -
B95: 87 | C95: Quantum Petroleum | D95: 15.99 | E95: - | F95: 17.59 | G95: - | H95: - | I95: -
B96: 88 | C96: Puma Energy | D96: 16.2 | E96: - | F96: 17.26 | G96: 18.6 | H96: - | I96: -
B97: 89 | C97: Radiance | D97: 15.49 | E97: - | F97: 18.49 | G97: 17.65 | H97: - | I97: -
B98: 90 | C98: Raz Oil | D98: 15.31 | E98: - | F98: 17.2 | G98: - | H98: - | I98: -
B99: 91 | C99: Ready Oil | D99: 15.99 | E99: - | F99: 17.49 | G99: - | H99: - | I99: -
B100: 92 | C100: Rootsenaf | D100: - | E100: - | F100: - | G100: 16.2478 | H100: - | I100: -
B101: 93 | C101: Reliance Oil Limited | D101: 15.4 | E101: - | F101: 17.2 | G101: - | H101: - | I101: -
B102: 94 | C102: Restol Energy | D102: 15.1 | E102: - | F102: 18.6 | G102: - | H102: - | I102: -
B103: 95 | C103: Royal Energy | D103: - | E103: - | F103: - | G103: 16.11 | H103: - | I103: -
B104: 96 | C104: Runnel Oil | D104: 15.99 | E104: - | F104: 17.19 | G104: 17.5 | H104: - | I104: -
B105: 97 | C105: Sap Oil | D105: 15.87 | E105: - | F105: 17.57 | G105: - | H105: - | I105: -
...

Sheet Ex-Pump Prices 9th Sept 2026
B2: NATIONAL PETROLEUM AUTHORITY
B6: EX-PUMP PRICES OF OMCs/LPGMCs AS OF 9th September 2026
B8: NO. | C8: COMPANY | D8: REGULAR PETROL - RON 91 (GHS/Lt) | E8: PREMIUM PETROL - RON 95 (GHS/Lt) | F8: DIESEL (GHS/Lt) | G8: LPG (GHS/Kg) | H8: KEROSENE (GHS/Lt) | I8: MGO Local (GHS/Lt)
B9: 1 | C9: Agapet | D9: 16.32 | E9: - | F9: 17.3 | G9: - | H9: - | I9: -
B10: 2 | C10: Aegis huile | D10: 15.39 | E10: - | F10: 17.26 | G10: - | H10: - | I10: -
B11: 3 | C11: AI Energy | D11: 15.5 | E11: - | F11: 17.15 | G11: - | H11: - | I11: -
B12: 4 | C12: Allied Oil | D12: 15.4 | E12: - | F12: 17.25 | G12: - | H12: - | I12: -
B13: 5 | C13: Alive Gas | D13: - | E13: - | F13: - | G13: 16.4578 | H13: - | I13: -
B14: 6 | C14: Aminaser Oil | D14: 14.5 | E14: - | F14: 16.69 | G14: - | H14: - | I14: -
B15: 7 | C15: Anasset | D15: - | E15: - | F15: - | G15: 16.6296 | H15: - | I15: -
B16: 8 | C16: Andev | D16: - | E16: - | F16: - | G16: 16.3078 | H16: - | I16: -
B17: 9 | C17: Annandale | D17: - | E17: - | F17: - | G17: 16.51 | H17: - | I17: -
B18: 10 | C18: April Oil Ghana | D18: 14.7 | F18: 16.89
B19: 11 | C19: Amdaway | D19: 15.17 | E19: - | F19: 16.97 | G19: - | H19: - | I19: -
B20: 12 | C20: Beap Energy | D20: 15.92 | E20: - | F20: 17 | G20: - | H20: - | I20: -
B21: 13 | C21: Benab Oil | D21: 15.37 | E21: - | F21: 16.85 | G21: 14.74 | H21: - | I21: -
B22: 14 | C22: Baffour Gas | D22: - | E22: - | F22: - | G22: 17.1589 | H22: - | I22: -
B23: 15 | C23: Bloom Petroleum | D23: 15.49 | E23: - | F23: 17.59 | G23: - | H23: - | I23: -
B24: 16 | C24: Breedlove Co. Ltd. | D24: 15.99 | E24: - | F24: 17.15 | G24: - | H24: - | I24: -
B25: 17 | C25: Brent Petroleum | D25: 15.47 | E25: - | F25: 16.97 | G25: - | H25: - | I25: -
B26: 18 | C26: Crown Petroleum | D26: 16.27 | E26: - | F26: 17.25 | G26: 17.6399 | H26: - | I26: -
B27: 19 | C27: Central Brent | D27: - | E27: - | F27: - | G27: 15.9578 | H27: - | I27: -
B28: 20 | C28: Cent Eastern | D28: - | E28: - | F28: - | G28: 16.11 | H28: - | I28: -
B29: 21 | C29: Oil Space | D29: - | E29: - | F29: 16.78 | G29: 14.84 | H29: - | I29: -
B30: 22 | C30: Coegan | D30: - | E30: - | F30: - | G30: 16.7574 | H30: - | I30: -
B31: 23 | C31: Compass Oleum | D31: 15.99 | E31: - | F31: 17.25 | G31: - | H31: - | I31: -
B32: 24 | C32: Davis Petroleum | D32: 15.59 | E32: - | F32: 17.26 | G32: 18.0078 | H32: - | I32: -
B33: 25 | C33: Dejon Jones | D33: 16.37 | E33: - | F33: 17.45 | G33: - | H33: - | I33: -
B34: 26 | C34: Dessert Oil | D34: 16.5 | E34: - | F34: 18 | G34: - | H34: - | I34: -
B35: 27 | C35: Dukes Petroleum | D35: 15.37 | E35: - | F35: 16.98 | G35: 15.6578 | H35: - | I35: -
B36: 28 | C36: Eden Petroleum | D36: 14.99 | E36: - | F36: 16.35 | G36: - | H36: - | I36: -
B37: 29 | C37: Energetic Petro gh | D37: 16.22 | E37: - | F37: 18.15 | G37: - | H37: - | I37: -
B38: 30 | C38: Ex Oil | D38: 15.6 | E38: - | F38: 16.95 | G38: - | H38: - | I38: -
B39: 31 | C39: EV Oil | D39: 15.4 | E39: - | F39: 17.2 | G39: - | H39: - | I39: -
B40: 32 | C40: E-Windstar | D40: 15.57 | F40: 17.3 | G40: - | H40: - | I40: -
B41: 33 | C41: Eza Petroleum | D41: 15.97 | E41: - | F41: 18.97 | G41: - | H41: - | I41: -
B42: 34 | C42: First Gas | D42: - | E42: - | F42: - | G42: 16.3789 | H42: - | I42: -
B43: 35 | C43: Finest Oil | D43: 15.5 | E43: - | F43: 17.26 | G43: - | H43: - | I43: -
B44: 36 | C44: Frimps Oil | D44: 15.25 | E44: - | F44: 16.99 | G44: 14.78 | H44: - | I44: -
B45: 37 | C45: Frontier Oil | D45: 15.43 | E45: - | F45: 17.2 | G45: - | H45: - | I45: -
B46: 38 | C46: Gab Energy | D46: 15.42 | E46: - | F46: 17.25 | G46: - | H46: - | I46: -
B47: 39 | C47: GasoPetroleum | E47: - | G47: - | H47: - | I47: -
B48: 40 | C48: Gogas | D48: - | E48: - | F48: - | G48: 17.1589 | H48: - | I48: -
B49: 41 | C49: GOIL | D49: 15.43 | E49: 17.97 | F49: 17.26 | G49: 16.7515 | H49: 19.78 | I49: -
B50: 42 | C50: Goodness Energy | D50: 14.6 | E50: - | F50: 16.69 | G50: - | H50: - | I50: -
B51: 43 | C51: Gowell Energy | D51: 15.99 | E51: - | F51: 17.29 | G51: - | H51: - | I51: -
B52: 44 | C52: Green GG7 | D52: - | E52: - | F52: - | G52: 16.36 | H52: - | I52: -
B53: 45 | C53: Henos Energy | D53: - | E53: - | F53: - | G53: 14.6578 | H53: - | I53: -
B54: 46 | C54: Hills Oil | D54: - | E54: - | F54: - | G54: 15.81 | H54: - | I54: -
B55: 47 | C55: Huss Petroleum | D55: 15.47 | E55: - | F55: 16.69 | G55: - | H55: - | I55: -
B56: 48 | C56: Icon Energy | D56: 15.17 | E56: - | F56: 16.97 | G56: - | H56: - | I56: -
B57: 49 | C57: Infin | D57: 15.99 | E57: - | F57: 17.49 | G57: 17.55 | H57: - | I57: -
B58: 50 | C58: Joekona | D58: - | E58: - | F58: - | G58: 15.9078 | H58: - | I58: -
B59: 51 | C59: JD Links | D59: 15.57 | E59: - | F59: 18.96 | G59: 16.12 | H59: - | I59: -
B60: 52 | C60: Jusbro | D60: 15.989 | E60: - | F60: 17.419 | G60: 16.53 | H60: - | I60: -
B61: 53 | C61: JP Trustee | D61: 15.37 | E61: 17.97 | F61: 17.17 | G61: - | H61: - | I61: -
B62: 54 | C62: Kab Energy | D62: 15.98 | E62: - | F62: 17.15 | G62: - | H62: - | I62: -
B63: 55 | C63: Kaysens | D63: - | E63: - | F63: - | G63: 16.1774 | H63: - | I63: -
B64: 56 | C64: Koan Petroleum | D64: 15.37 | E64: - | F64: 16.7 | G64: 17.05 | H64: - | I64: -
B65: 57 | C65: KI Energy | D65: - | E65: - | F65: - | G65: 18.2578 | H65: - | I65: -
B66: 58 | C66: Kings Energy | D66: 15.29 | E66: - | F66: 16.99 | G66: - | H66: - | I66: -
B67: 59 | C67: La Clem | D67: 15.09 | E67: - | F67: 16.85 | G67: - | H67: - | I67: - | N67: ``
B68: 60 | C68: Lamininbee | D68: - | E68: - | F68: - | G68: 16.1578 | H68: - | I68: -
B69: 61 | C69: Lambark Gas | D69: - | E69: - | F69: - | G69: - | H69: - | I69: -
B70: 62 | C70: Lucky oil | D70: 14.99 | E70: - | F70: 16.64 | G70: 16.552 | H70: - | I70: -
B71: 63 | C71: Liberty Petroleum | D71: 15.99 | E71: - | F71: 17.15 | G71: - | H71: - | I71: -
B72: 64 | C72: Life Energy | D72: 15.85 | E72: - | F72: 18.77 | G72: - | H72: - | I72: -
B73: 65 | C73: Maxx Energy | D73: 15.15 | E73: - | F73: 17.37 | G73: - | H73: - | I73: -
B74: 66 | C74: Manbah Gas | D74: - | E74: - | F74: - | G74: 16.04 | H74: - | I74: -
B75: 67 | C75: Mercy Oil | D75: 16.19 | E75: - | F75: 17.39 | G75: - | H75: - | I75: -
B76: 68 | C76: Midas Oil | D76: - | E76: - | F76: - | G76: 16.4578 | H76: - | I76: -
B77: 69 | C77: Mighty Gas | D77: - | E77: - | F77: - | G77: 15.34 | H77: - | I77: -
B78: 70 | C78: Misa Energy | D78: 16.19 | E78: - | F78: 17.17 | G78: 14.9578 | H78: 17.16 | I78: 18.57
B79: 71 | C79: More Fuel | D79: 15.05 | E79: - | F79: 16.85 | G79: - | H79: - | I79: -
B80: 72 | C80: MM Energy | D80: 15.57 | E80: - | F80: 16.95 | G80: - | H80: - | I80: -
B81: 73 | C81: Naagamni | D81: 15.3 | E81: - | F81: 16.99 | G81: - | H81: - | I81: -
B82: 74 | C82: Nasona | D82: 15.43 | E82: - | F82: 17.25 | G82: - | H82: - | I82: -
B83: 75 | C83: Nexbons | D83: - | E83: - | F83: - | G83: 17.1478 | H83: - | I83: -
B84: 76 | C84: Next Petroleum | D84: 15.3 | E84: - | F84: 16.4 | G84: - | H84: - | I84: -
B85: 77 | C85: Ocean Oil | D85: - | E85: - | F85: - | G85: 16.3878 | H85: - | I85: -
B86: 78 | C86: Power Fuels | D86: 15.77 | E86: - | F86: 17.2037 | G86: - | H86: - | I86: -
B87: 79 | C87: Pacific Oil | D87: 15.47 | E87: - | F87: 16.89 | G87: 15.8812 | H87: -
B88: 80 | C88: PK Oil & Gas | D88: 16.12 | E88: - | F88: 17.6888 | G88: - | H88: - | I88: -
B89: 81 | C89: P.K.A. Bonney | D89: - | E89: - | F89: - | G89: 16.72 | H89: - | I89: -
B90: 82 | C90: Petroland | D90: 15.59 | E90: - | F90: 16.99 | G90: - | H90: - | I90: -
B91: 83 | C91: Petrosol | D91: 15.98 | E91: - | F91: 17.58 | G91: 16.7 | H91: - | I91: -
B92: 84 | C92: Petrogy Limited | D92: 15.99 | E92: - | F92: 17.45 | G92: - | H92: - | I92: -
B93: 85 | C93: Petronax | D93: 15.99 | E93: - | F93: 17.4 | G93: - | H93: - | I93: -
B94: 86 | C94: Petro Sankofa | D94: 15.69 | E94: - | F94: 17.49 | G94: - | H94: - | I94: -
B95: 87 | C95: Quantum Petroleum | D95: 15.99 | E95: - | F95: 17.59 | G95: - | H95: - | I95: -
B96: 88 | C96: Puma Energy | D96: 16.2 | E96: - | F96: 17.26 | G96: 18.6 | H96: - | I96: -
B97: 89 | C97: Radiance | D97: 15.49 | E97: - | F97: 18.49 | G97: 17.65 | H97: - | I97: -
B98: 90 | C98: Raz Oil | D98: 15.31 | E98: - | F98: 17.2 | G98: - | H98: - | I98: -
B99: 91 | C99: Ready Oil | D99: 15.99 | E99: - | F99: 17.49 | G99: - | H99: - | I99: -
B100: 92 | C100: Rootsenaf | D100: - | E100: - | F100: - | G100: 16.2478 | H100: - | I100: -
B101: 93 | C101: Reliance Oil Limited | D101: 15.4 | E101: - | F101: 17.2 | G101: - | H101: - | I101: -
B102: 94 | C102: Restol Energy | D102: 15.1 | E102: - | F102: 18.6 | G102: - | H102: - | I102: -
B103: 95 | C103: Royal Energy | D103: - | E103: - | F103: - | G103: 16.11 | H103: - | I103: -
B104: 96 | C104: Runnel Oil | D104: 15.99 | E104: - | F104: 17.19 | G104: 17.5 | H104: - | I104: -
B105: 97 | C105: Sap Oil | D105: 15.87 | E105: - | F105: 17.57 | G105: - | H105: - | I105: -
...

Sheet Ex-Pump Prices 8th Sept 2026
B2: NATIONAL PETROLEUM AUTHORITY
B6: EX-PUMP PRICES OF OMCs/LPGMCs AS OF 8th September 2026
B8: NO. | C8: COMPANY | D8: REGULAR PETROL - RON 91 (GHS/Lt) | E8: PREMIUM PETROL - RON 95 (GHS/Lt) | F8: DIESEL (GHS/Lt) | G8: LPG (GHS/Kg) | H8: KEROSENE (GHS/Lt) | I8: MGO Local (GHS/Lt)
B9: 1 | C9: Agapet | D9: 16.32 | E9: - | F9: 17.3 | G9: - | H9: - | I9: -
B10: 2 | C10: Aegis huile | D10: 15.39 | E10: - | F10: 17.26 | G10: - | H10: - | I10: -
B11: 3 | C11: AI Energy | D11: 15.5 | E11: - | F11: 17.15 | G11: - | H11: - | I11: -
B12: 4 | C12: Allied Oil | D12: 15.4 | E12: - | F12: 17.25 | G12: - | H12: - | I12: -
B13: 5 | C13: Alive Gas | D13: - | E13: - | F13: - | G13: 16.4578 | H13: - | I13: -
B14: 6 | C14: Aminaser Oil | D14: 14.5 | E14: - | F14: 16.69 | G14: - | H14: - | I14: -
B15: 7 | C15: Anasset | D15: - | E15: - | F15: - | G15: 16.6296 | H15: - | I15: -
B16: 8 | C16: Andev | D16: - | E16: - | F16: - | G16: 16.3078 | H16: - | I16: -
B17: 9 | C17: Annandale | D17: - | E17: - | F17: - | G17: 16.51 | H17: - | I17: -
B18: 10 | C18: April Oil Ghana | D18: 14.7 | F18: 16.89
B19: 11 | C19: Amdaway | D19: 15.3 | E19: - | F19: 17.95 | G19: - | H19: - | I19: -
B20: 12 | C20: Beap Energy | D20: 15.92 | E20: - | F20: 17 | G20: - | H20: - | I20: -
B21: 13 | C21: Benab Oil | D21: 15.37 | E21: - | F21: 17.17 | G21: 14.74 | H21: - | I21: -
B22: 14 | C22: Baffour Gas | D22: - | E22: - | F22: - | G22: 17.1589 | H22: - | I22: -
B23: 15 | C23: Bloom Petroleum | D23: 15.49 | E23: - | F23: 17.59 | G23: - | H23: - | I23: -
B24: 16 | C24: Breedlove Co. Ltd. | D24: 15.99 | E24: - | F24: 17.15 | G24: - | H24: - | I24: -
B25: 17 | C25: Brent Petroleum | D25: 15.47 | E25: - | F25: 16.97 | G25: - | H25: - | I25: -
B26: 18 | C26: Crown Petroleum | D26: 16.27 | E26: - | F26: 17.25 | G26: 17.6399 | H26: - | I26: -
B27: 19 | C27: Central Brent | D27: - | E27: - | F27: - | G27: 15.9578 | H27: - | I27: -
B28: 20 | C28: Cent Eastern | D28: - | E28: - | F28: - | G28: 16.11 | H28: - | I28: -
B29: 21 | C29: Oil Space | D29: - | E29: - | F29: 16.78 | G29: 14.84 | H29: - | I29: -
B30: 22 | C30: Coegan | D30: - | E30: - | F30: - | G30: 16.7574 | H30: - | I30: -
B31: 23 | C31: Compass Oleum | D31: 15.99 | E31: - | F31: 17.25 | G31: - | H31: - | I31: -
B32: 24 | C32: Davis Petroleum | D32: 15.59 | E32: - | F32: 17.26 | G32: 18.0078 | H32: - | I32: -
B33: 25 | C33: Dejon Jones | D33: 16.37 | E33: - | F33: 17.45 | G33: - | H33: - | I33: -
B34: 26 | C34: Dessert Oil | D34: 15.6 | E34: - | F34: 18.02 | G34: - | H34: - | I34: -
B35: 27 | C35: Dukes Petroleum | D35: 15.37 | E35: - | F35: 16.98 | G35: 15.6578 | H35: - | I35: -
B36: 28 | C36: Eden Petroleum | D36: 14.99 | E36: - | F36: 16.35 | G36: - | H36: - | I36: -
B37: 29 | C37: Energetic Petro gh | D37: 15.69 | E37: - | F37: 18.55 | G37: 13.117436 | H37: - | I37: -
B38: 30 | C38: Ex Oil | D38: 15.6 | E38: - | F38: 16.95 | G38: - | H38: - | I38: -
B39: 31 | C39: EV Oil | D39: 15.4 | E39: - | F39: 17.2 | G39: - | H39: - | I39: -
B40: 32 | C40: E-Windstar | D40: 15.57 | F40: 17.3 | G40: - | H40: - | I40: -
B41: 33 | C41: Eza Petroleum | D41: 15.97 | E41: - | F41: 18.97 | G41: - | H41: - | I41: -
B42: 34 | C42: First Gas | D42: - | E42: - | F42: - | G42: 16.3789 | H42: - | I42: -
B43: 35 | C43: Finest Oil | D43: 15.5 | E43: - | F43: 17.26 | G43: - | H43: - | I43: -
B44: 36 | C44: Frimps Oil | D44: 15.25 | E44: - | F44: 16.99 | G44: 14.78 | H44: - | I44: -
B45: 37 | C45: Frontier Oil | D45: 15.43 | E45: - | F45: 17.2 | G45: - | H45: - | I45: -
B46: 38 | C46: Gab Energy | D46: 14.97 | E46: - | F46: 16.96 | G46: - | H46: - | I46: -
B47: 39 | C47: GasoPetroleum | E47: - | G47: - | H47: - | I47: -
B48: 40 | C48: Gogas | D48: - | E48: - | F48: - | G48: 17.1589 | H48: - | I48: -
B49: 41 | C49: GOIL | D49: 15.43 | E49: 17.97 | F49: 17.26 | G49: 16.7515 | H49: 19.78 | I49: -
B50: 42 | C50: Goodness Energy | D50: 14.6 | E50: - | F50: 16.69 | G50: - | H50: - | I50: -
B51: 43 | C51: Gowell Energy | D51: 15.99 | E51: - | F51: 17.29 | G51: - | H51: - | I51: -
B52: 44 | C52: Green GG7 | D52: - | E52: - | F52: - | G52: 16.36 | H52: - | I52: -
B53: 45 | C53: Henos Energy | D53: - | E53: - | F53: - | G53: 14.6578 | H53: - | I53: -
B54: 46 | C54: Hills Oil | D54: - | E54: - | F54: - | G54: 15.81 | H54: - | I54: -
B55: 47 | C55: Huss Petroleum | D55: 15.47 | E55: - | F55: 16.69 | G55: - | H55: - | I55: -
B56: 48 | C56: Icon Energy | D56: 15.17 | E56: - | F56: 16.97 | G56: - | H56: - | I56: -
B57: 49 | C57: Infin | D57: 15.99 | E57: - | F57: 17.49 | G57: 17.55 | H57: - | I57: -
B58: 50 | C58: Joekona | D58: - | E58: - | F58: - | G58: 15.9078 | H58: - | I58: -
B59: 51 | C59: JD Links | D59: 15.57 | E59: - | F59: 18.96 | G59: 16.12 | H59: - | I59: -
B60: 52 | C60: Jusbro | D60: 15.989 | E60: - | F60: 17.419 | G60: 16.53 | H60: - | I60: -
B61: 53 | C61: JP Trustee | D61: 15.37 | E61: 17.97 | F61: 17.17 | G61: - | H61: - | I61: -
B62: 54 | C62: Kab Energy | D62: 15.98 | E62: - | F62: 17.15 | G62: - | H62: - | I62: -
B63: 55 | C63: Kaysens | D63: - | E63: - | F63: - | G63: 16.1774 | H63: - | I63: -
B64: 56 | C64: Koan Petroleum | D64: 15.37 | E64: - | F64: 16.7 | G64: 17.05 | H64: - | I64: -
B65: 57 | C65: KI Energy | D65: - | E65: - | F65: - | G65: 18.2578 | H65: - | I65: -
B66: 58 | C66: Kings Energy | D66: 15.29 | E66: - | F66: 16.99 | G66: - | H66: - | I66: -
B67: 59 | C67: La Clem | D67: 15.09 | E67: - | F67: 16.85 | G67: - | H67: - | I67: - | N67: ``
B68: 60 | C68: Lamininbee | D68: - | E68: - | F68: - | G68: 16.1578 | H68: - | I68: -
B69: 61 | C69: Lambark Gas | D69: - | E69: - | F69: - | G69: - | H69: - | I69: -
B70: 62 | C70: Lucky oil | D70: 14.99 | E70: - | F70: 16.64 | G70: 16.552 | H70: - | I70: -
B71: 63 | C71: Liberty Petroleum | D71: 15.99 | E71: - | F71: 17.15 | G71: - | H71: - | I71: -
B72: 64 | C72: Life Energy | D72: 15.85 | E72: - | F72: 18.77 | G72: - | H72: - | I72: -
B73: 65 | C73: Maxx Energy | D73: 15.15 | E73: - | F73: 17.37 | G73: - | H73: - | I73: -
B74: 66 | C74: Manbah Gas | D74: - | E74: - | F74: - | G74: 16.04 | H74: - | I74: -
B75: 67 | C75: Mercy Oil | D75: 16.19 | E75: - | F75: 17.39 | G75: - | H75: - | I75: -
B76: 68 | C76: Midas Oil | D76: - | E76: - | F76: - | G76: 16.4578 | H76: - | I76: -
B77: 69 | C77: Mighty Gas | D77: - | E77: - | F77: - | G77: 15.34 | H77: - | I77: -
B78: 70 | C78: Misa Energy | D78: 16.19 | E78: - | F78: 17.17 | G78: 14.9578 | H78: 17.16 | I78: 18.57
B79: 71 | C79: More Fuel | D79: 15.05 | E79: - | F79: 16.85 | G79: - | H79: - | I79: -
B80: 72 | C80: MM Energy | D80: 15.57 | E80: - | F80: 16.95 | G80: - | H80: - | I80: -
B81: 73 | C81: Naagamni | D81: 15.3 | E81: - | F81: 16.99 | G81: - | H81: - | I81: -
B82: 74 | C82: Nasona | D82: 15.43 | E82: - | F82: 17.25 | G82: - | H82: - | I82: -
B83: 75 | C83: Nexbons | D83: - | E83: - | F83: - | G83: 17.1478 | H83: - | I83: -
B84: 76 | C84: Next Petroleum | D84: 15.3 | E84: - | F84: 16.4 | G84: - | H84: - | I84: -
B85: 77 | C85: Ocean Oil | D85: - | E85: - | F85: - | G85: 16.3878 | H85: - | I85: -
B86: 78 | C86: Power Fuels | D86: 15.77 | E86: - | F86: 17.2037 | G86: - | H86: - | I86: -
B87: 79 | C87: Pacific Oil | D87: 15.47 | E87: - | F87: 16.89 | G87: 15.8812 | H87: -
B88: 80 | C88: PK Oil & Gas | D88: 16.12 | E88: - | F88: 17.6888 | G88: - | H88: - | I88: -
B89: 81 | C89: P.K.A. Bonney | D89: - | E89: - | F89: - | G89: 16.72 | H89: - | I89: -
B90: 82 | C90: Petroland | D90: 15.59 | E90: - | F90: 16.99 | G90: - | H90: - | I90: -
B91: 83 | C91: Petrosol | D91: 15.98 | E91: - | F91: 17.58 | G91: 16.7 | H91: - | I91: -
B92: 84 | C92: Petrogy Limited | D92: 15.99 | E92: - | F92: 17.45 | G92: - | H92: - | I92: -
B93: 85 | C93: Petronax | D93: 15.99 | E93: - | F93: 17.4 | G93: - | H93: - | I93: -
B94: 86 | C94: Petro Sankofa | D94: 15.69 | E94: - | F94: 17.49 | G94: - | H94: - | I94: -
B95: 87 | C95: Quantum Petroleum | D95: 15.99 | E95: - | F95: 17.59 | G95: - | H95: - | I95: -
B96: 88 | C96: Puma Energy | D96: 16.2 | E96: - | F96: 17.26 | G96: 18.6 | H96: - | I96: -
B97: 89 | C97: Radiance | D97: 15.49 | E97: - | F97: 18.49 | G97: 17.65 | H97: - | I97: -
B98: 90 | C98: Raz Oil | D98: 15.31 | E98: - | F98: 17.2 | G98: - | H98: - | I98: -
B99: 91 | C99: Ready Oil | D99: 15.99 | E99: - | F99: 17.49 | G99: - | H99: - | I99: -
B100: 92 | C100: Rootsenaf | D100: - | E100: - | F100: - | G100: 16.2478 | H100: - | I100: -
B101: 93 | C101: Reliance Oil Limited | D101: 15.4 | E101: - | F101: 17.2 | G101: - | H101: - | I101: -
B102: 94 | C102: Restol Energy | D102: 15.1 | E102: - | F102: 18.6 | G102: - | H102: - | I102: -
B103: 95 | C103: Royal Energy | D103: - | E103: - | F103: - | G103: 16.11 | H103: - | I103: -
B104: 96 | C104: Runnel Oil | D104: 15.99 | E104: - | F104: 17.19 | G104: 17.5 | H104: - | I104: -
B105: 97 | C105: Sap Oil | D105: 15.87 | E105: - | F105: 17.57 | G105: - | H105: - | I105: -
...

Sheet Ex-Pump Prices 7th Sept 2026
B2: NATIONAL PETROLEUM AUTHORITY
B6: EX-PUMP PRICES OF OMCs/LPGMCs AS OF 7th September 2026
B8: NO. | C8: COMPANY | D8: REGULAR PETROL - RON 91 (GHS/Lt) | E8: PREMIUM PETROL - RON 95 (GHS/Lt) | F8: DIESEL (GHS/Lt) | G8: LPG (GHS/Kg) | H8: KEROSENE (GHS/Lt) | I8: MGO Local (GHS/Lt)
B9: 1 | C9: Agapet | D9: 16.32 | E9: - | F9: 17.3 | G9: - | H9: - | I9: -
B10: 2 | C10: Aegis huile | D10: 15.39 | E10: - | F10: 17.26 | G10: - | H10: - | I10: -
B11: 3 | C11: AI Energy | D11: 15.5 | E11: - | F11: 17.15 | G11: - | H11: - | I11: -
B12: 4 | C12: Allied Oil | D12: 15.4 | E12: - | F12: 17.25 | G12: - | H12: - | I12: -
B13: 5 | C13: Alive Gas | D13: - | E13: - | F13: - | G13: 16.4578 | H13: - | I13: -
B14: 6 | C14: Aminaser Oil | D14: 14.5 | E14: - | F14: 16.69 | G14: - | H14: - | I14: -
B15: 7 | C15: Anasset | D15: - | E15: - | F15: - | G15: 16.6296 | H15: - | I15: -
B16: 8 | C16: Andev | D16: - | E16: - | F16: - | G16: 16.3078 | H16: - | I16: -
B17: 9 | C17: Annandale | D17: - | E17: - | F17: - | G17: 16.51 | H17: - | I17: -
B18: 10 | C18: April Oil Ghana | D18: 14.7 | F18: 16.89
B19: 11 | C19: Amdaway | D19: 15.3 | E19: - | F19: 17.95 | G19: - | H19: - | I19: -
B20: 12 | C20: Beap Energy | D20: 15.92 | E20: - | F20: 17 | G20: - | H20: - | I20: -
B21: 13 | C21: Benab Oil | D21: 15.37 | E21: - | F21: 17.17 | G21: 14.74 | H21: - | I21: -
B22: 14 | C22: Baffour Gas | D22: - | E22: - | F22: - | G22: 17.1589 | H22: - | I22: -
B23: 15 | C23: Bloom Petroleum | D23: 15.49 | E23: - | F23: 17.59 | G23: - | H23: - | I23: -
B24: 16 | C24: Breedlove Co. Ltd. | D24: 14.99 | E24: - | F24: 16.99 | G24: - | H24: - | I24: -
B25: 17 | C25: Brent Petroleum | D25: 15.47 | E25: - | F25: 16.97 | G25: - | H25: - | I25: -
B26: 18 | C26: Crown Petroleum | D26: 16.27 | E26: - | F26: 17.25 | G26: 17.6399 | H26: - | I26: -
B27: 19 | C27: Central Brent | D27: - | E27: - | F27: - | G27: 15.9578 | H27: - | I27: -
B28: 20 | C28: Cent Eastern | D28: - | E28: - | F28: - | G28: 16.11 | H28: - | I28: -
B29: 21 | C29: Oil Space | D29: - | E29: - | F29: 16.78 | G29: 14.84 | H29: - | I29: -
B30: 22 | C30: Coegan | D30: - | E30: - | F30: - | G30: 16.7574 | H30: - | I30: -
B31: 23 | C31: Compass Oleum | D31: 15.99 | E31: - | F31: 17.25 | G31: - | H31: - | I31: -
B32: 24 | C32: Davis Petroleum | D32: 15.59 | E32: - | F32: 17.26 | G32: 18.0078 | H32: - | I32: -
B33: 25 | C33: Dejon Jones | D33: 16.37 | E33: - | F33: 17.45 | G33: - | H33: - | I33: -
B34: 26 | C34: Dessert Oil | D34: 15.6 | E34: - | F34: 18.02 | G34: - | H34: - | I34: -
B35: 27 | C35: Dukes Petroleum | D35: 15.37 | E35: - | F35: 16.98 | G35: 15.6578 | H35: - | I35: -
B36: 28 | C36: Eden Petroleum | D36: 14.99 | E36: - | F36: 16.35 | G36: - | H36: - | I36: -
B37: 29 | C37: Energetic Petro gh | D37: 15.69 | E37: - | F37: 18.55 | G37: 13.117436 | H37: - | I37: -
B38: 30 | C38: Ex Oil | D38: 15.6 | E38: - | F38: 16.95 | G38: - | H38: - | I38: -
B39: 31 | C39: EV Oil | D39: 15.4 | E39: - | F39: 17.2 | G39: - | H39: - | I39: -
B40: 32 | C40: E-Windstar | D40: 15.57 | F40: 17.3 | G40: - | H40: - | I40: -
B41: 33 | C41: Eza Petroleum | D41: 15.97 | E41: - | F41: 18.97 | G41: - | H41: - | I41: -
B42: 34 | C42: First Gas | D42: - | E42: - | F42: - | G42: 16.3789 | H42: - | I42: -
B43: 35 | C43: Finest Oil | D43: 15.5 | E43: - | F43: 17.26 | G43: - | H43: - | I43: -
B44: 36 | C44: Frimps Oil | D44: 15.4 | E44: - | F44: 16.99 | G44: - | H44: - | I44: -
B45: 37 | C45: Frontier Oil | D45: 15.43 | E45: - | F45: 17.2 | G45: - | H45: - | I45: -
B46: 38 | C46: Gab Energy | D46: 14.97 | E46: - | F46: 16.96 | G46: - | H46: - | I46: -
B47: 39 | C47: GasoPetroleum | E47: - | G47: - | H47: - | I47: -
B48: 40 | C48: Gogas | D48: - | E48: - | F48: - | G48: 17.1589 | H48: - | I48: -
B49: 41 | C49: GOIL | D49: 15.43 | E49: 17.97 | F49: 17.26 | G49: 16.7515 | H49: 19.78 | I49: -
B50: 42 | C50: Goodness Energy | D50: 14.6 | E50: - | F50: 16.69 | G50: - | H50: - | I50: -
B51: 43 | C51: Gowell Energy | D51: 15.99 | E51: - | F51: 17.29 | G51: - | H51: - | I51: -
B52: 44 | C52: Green GG7 | D52: - | E52: - | F52: - | G52: 16.36 | H52: - | I52: -
B53: 45 | C53: Henos Energy | D53: - | E53: - | F53: - | G53: 14.6578 | H53: - | I53: -
B54: 46 | C54: Hills Oil | D54: - | E54: - | F54: - | G54: 15.81 | H54: - | I54: -
