Workbook

Sheet Ex-Pump Prices 7th Oct 2026
B2: NATIONAL PETROLEUM AUTHORITY
B6: EX-PUMP PRICES OF OMCs/LPGMCs AS OF 7th October 2026
B8: NO. | C8: COMPANY | D8: REGULAR PETROL - RON 91 (GHS/Lt) | E8: PREMIUM PETROL - RON 95 (GHS/Lt) | F8: DIESEL (GHS/Lt) | G8: LPG (GHS/Kg) | H8: KEROSENE (GHS/Lt) | I8: MGO Local (GHS/Lt)
B9: 1 | C9: Agapet | D9: 17.92 | E9: - | F9: 18.95 | G9: - | H9: - | I9: -
B10: 2 | C10: Aegis huile | D10: 16.99 | E10: - | F10: 18.46 | G10: - | H10: - | I10: -
B11: 3 | C11: AI Energy | D11: 17.17 | E11: - | F11: 18.5 | G11: - | H11: - | I11: -
B12: 4 | C12: Allied Oil | D12: 16.99 | E12: - | F12: 18.45 | G12: - | H12: - | I12: -
B13: 5 | C13: Alive Gas | D13: - | E13: - | F13: - | G13: 17.5078 | H13: - | I13: -
B14: 6 | C14: Aminaser Oil | D14: 14.5 | E14: - | F14: 16.69 | G14: - | H14: - | I14: -
B15: 7 | C15: Anasset | D15: - | E15: - | F15: - | G15: 17.96 | H15: - | I15: -
B16: 8 | C16: Andev | D16: - | E16: - | F16: - | G16: 17.6078 | H16: - | I16: -
B17: 9 | C17: Annandale | D17: - | E17: - | F17: - | G17: 17.26 | H17: - | I17: -
B18: 11 | C18: Amdaway | D18: 16.64 | E18: - | F18: 18.3 | G18: - | H18: - | I18: -
B19: 12 | C19: Beap Energy | D19: 17.42 | E19: - | F19: 19.4 | G19: - | H19: - | I19: -
B20: 13 | C20: Benab Oil | D20: 16.5 | E20: - | F20: 18.36 | G20: 14.74 | H20: - | I20: -
B21: 14 | C21: Baffour Gas | D21: - | E21: - | F21: - | G21: 18.3589 | H21: - | I21: -
B22: 15 | C22: Bloom Petroleum | D22: 17.69 | E22: - | F22: 18.99 | G22: - | H22: - | I22: -
B23: 16 | C23: Breedlove Co. Ltd. | D23: 16.79 | E23: - | F23: 18.3 | G23: - | H23: - | I23: -
B24: 17 | C24: Brent Petroleum | D24: 17.17 | E24: - | F24: 18.96 | G24: - | H24: - | I24: -
B25: 18 | C25: Crown Petroleum | D25: 16.27 | E25: - | F25: 17.25 | G25: 17.6399 | H25: - | I25: -
B26: 19 | C26: Central Brent | D26: - | E26: - | F26: - | G26: 17.1578 | H26: - | I26: -
B27: 20 | C27: Cent Eastern | D27: - | E27: - | F27: - | G27: 16.6578 | H27: - | I27: -
B28: 21 | C28: Oil Space | D28: - | E28: - | F28: 16.78 | G28: 14.84 | H28: - | I28: -
B29: 22 | C29: Coegan | D29: - | E29: - | F29: - | G29: 18.1574 | H29: - | I29: -
B30: 23 | C30: Compass Oleum | D30: 17.7 | E30: - | F30: 18.65 | G30: - | H30: - | I30: -
B31: 24 | C31: Davis Petroleum | D31: 17.19 | E31: - | F31: 18.59 | G31: 18.0078 | H31: - | I31: -
B32: 25 | C32: Dejon Jones | D32: 17.97 | E32: - | F32: 19.35 | G32: - | H32: - | I32: -
B33: 26 | C33: Dessert Oil | D33: 18 | E33: - | F33: 20 | G33: - | H33: - | I33: -
B34: 27 | C34: Dukes Petroleum | D34: 16.5 | E34: - | F34: 18.4 | G34: 15.8578 | H34: - | I34: -
B35: 28 | C35: Eden Petroleum | D35: 16.77 | E35: - | F35: 17.77 | G35: - | H35: - | I35: -
B36: 29 | C36: Energetic Petro gh | D36: 17.47 | E36: - | F36: 18.75 | G36: - | H36: - | I36: -
B37: 30 | C37: Ex Oil | D37: 17.7 | E37: - | F37: 18.65 | G37: - | H37: - | I37: -
B38: 31 | C38: EV Oil | D38: 16.64 | E38: - | F38: 18.66 | G38: - | H38: - | I38: -
B39: 32 | C39: E-Windstar | D39: 16.99 | F39: 18.26 | G39: - | H39: - | I39: -
B40: 33 | C40: Eza Petroleum | D40: 17.45 | E40: - | F40: 18.83 | G40: - | H40: - | I40: -
B41: 34 | C41: First Gas | D41: - | E41: - | F41: - | G41: 16.3789 | H41: - | I41: -
B42: 35 | C42: Finest Oil | D42: 16.77 | E42: - | F42: 17.77 | G42: - | H42: - | I42: -
B43: 36 | C43: Frimps Oil | D43: 16.63 | E43: - | F43: 18.45 | G43: 14.78 | H43: - | I43: -
B44: 37 | C44: Frontier Oil | D44: 16.49 | E44: - | F44: 18.29 | G44: - | H44: - | I44: -
B45: 38 | C45: Gab Energy | D45: 16.76 | E45: - | F45: 17.76 | G45: - | H45: - | I45: -
...

Sheet Ex-Pump Prices 6th Oct 2026
B2: NATIONAL PETROLEUM AUTHORITY
B6: EX-PUMP PRICES OF OMCs/LPGMCs AS OF 6th October 2026
B8: NO. | C8: COMPANY | D8: REGULAR PETROL - RON 91 (GHS/Lt) | E8: PREMIUM PETROL - RON 95 (GHS/Lt) | F8: DIESEL (GHS/Lt) | G8: LPG (GHS/Kg) | H8: KEROSENE (GHS/Lt) | I8: MGO Local (GHS/Lt)
B9: 1 | C9: Agapet | D9: 17.92 | E9: - | F9: 18.95 | G9: - | H9: - | I9: -
B10: 2 | C10: Aegis huile | D10: 16.99 | E10: - | F10: 18.46 | G10: - | H10: - | I10: -
B11: 3 | C11: AI Energy | D11: 17.17 | E11: - | F11: 18.5 | G11: - | H11: - | I11: -
B12: 4 | C12: Allied Oil | D12: 16.99 | E12: - | F12: 18.45 | G12: - | H12: - | I12: -
B13: 5 | C13: Alive Gas | D13: - | E13: - | F13: - | G13: 17.5078 | H13: - | I13: -
B14: 6 | C14: Aminaser Oil | D14: 14.5 | E14: - | F14: 16.69 | G14: - | H14: - | I14: -
B15: 7 | C15: Anasset | D15: - | E15: - | F15: - | G15: 17.96 | H15: - | I15: -
B16: 8 | C16: Andev | D16: - | E16: - | F16: - | G16: 17.6078 | H16: - | I16: -
B17: 9 | C17: Annandale | D17: - | E17: - | F17: - | G17: 17.26 | H17: - | I17: -
B18: 11 | C18: Amdaway | D18: 16.64 | E18: - | F18: 18.3 | G18: - | H18: - | I18: -
B19: 12 | C19: Beap Energy | D19: 17.42 | E19: - | F19: 19.4 | G19: - | H19: - | I19: -
B20: 13 | C20: Benab Oil | D20: 16.5 | E20: - | F20: 18.36 | G20: 14.74 | H20: - | I20: -
B21: 14 | C21: Baffour Gas | D21: - | E21: - | F21: - | G21: 18.3589 | H21: - | I21: -
B22: 15 | C22: Bloom Petroleum | D22: 17.69 | E22: - | F22: 18.99 | G22: - | H22: - | I22: -
B23: 16 | C23: Breedlove Co. Ltd. | D23: 16.79 | E23: - | F23: 18.3 | G23: - | H23: - | I23: -
B24: 17 | C24: Brent Petroleum | D24: 17.17 | E24: - | F24: 18.96 | G24: - | H24: - | I24: -
B25: 18 | C25: Crown Petroleum | D25: 16.27 | E25: - | F25: 17.25 | G25: 17.6399 | H25: - | I25: -
B26: 19 | C26: Central Brent | D26: - | E26: - | F26: - | G26: 17.1578 | H26: - | I26: -
B27: 20 | C27: Cent Eastern | D27: - | E27: - | F27: - | G27: 16.6578 | H27: - | I27: -
B28: 21 | C28: Oil Space | D28: - | E28: - | F28: 16.78 | G28: 14.84 | H28: - | I28: -
B29: 22 | C29: Coegan | D29: - | E29: - | F29: - | G29: 18.1574 | H29: - | I29: -
B30: 23 | C30: Compass Oleum | D30: 17.7 | E30: - | F30: 18.65 | G30: - | H30: - | I30: -
B31: 24 | C31: Davis Petroleum | D31: 17.19 | E31: - | F31: 18.59 | G31: 18.0078 | H31: - | I31: -
B32: 25 | C32: Dejon Jones | D32: 17.97 | E32: - | F32: 19.35 | G32: - | H32: - | I32: -
B33: 26 | C33: Dessert Oil | D33: 17.5 | E33: - | F33: 18.5 | G33: - | H33: - | I33: -
B34: 27 | C34: Dukes Petroleum | D34: 16.5 | E34: - | F34: 18.4 | G34: 15.8578 | H34: - | I34: -
B35: 28 | C35: Eden Petroleum | D35: 16.77 | E35: - | F35: 17.77 | G35: - | H35: - | I35: -
B36: 29 | C36: Energetic Petro gh | D36: 17.47 | E36: - | F36: 18.75 | G36: - | H36: - | I36: -
B37: 30 | C37: Ex Oil | D37: 17.7 | E37: - | F37: 18.65 | G37: - | H37: - | I37: -
B38: 31 | C38: EV Oil | D38: 16.64 | E38: - | F38: 18.66 | G38: - | H38: - | I38: -
B39: 32 | C39: E-Windstar | D39: 16.99 | F39: 18.26 | G39: - | H39: - | I39: -
B40: 33 | C40: Eza Petroleum | D40: 17.45 | E40: - | F40: 18.83 | G40: - | H40: - | I40: -
B41: 34 | C41: First Gas | D41: - | E41: - | F41: - | G41: 16.3789 | H41: - | I41: -
B42: 35 | C42: Finest Oil | D42: 16.77 | E42: - | F42: 17.77 | G42: - | H42: - | I42: -
B43: 36 | C43: Frimps Oil | D43: 16.63 | E43: - | F43: 18.45 | G43: 14.78 | H43: - | I43: -
B44: 37 | C44: Frontier Oil | D44: 16.49 | E44: - | F44: 18.29 | G44: - | H44: - | I44: -
B45: 38 | C45: Gab Energy | D45: 16.76 | E45: - | F45: 17.76 | G45: - | H45: - | I45: -
...

Sheet Ex-Pump Prices 5th Oct 2026
B2: NATIONAL PETROLEUM AUTHORITY
B6: EX-PUMP PRICES OF OMCs/LPGMCs AS OF 5th October 2026
B8: NO. | C8: COMPANY | D8: REGULAR PETROL - RON 91 (GHS/Lt) | E8: PREMIUM PETROL - RON 95 (GHS/Lt) | F8: DIESEL (GHS/Lt) | G8: LPG (GHS/Kg) | H8: KEROSENE (GHS/Lt) | I8: MGO Local (GHS/Lt)
B9: 1 | C9: Agapet | D9: 17.92 | E9: - | F9: 18.95 | G9: - | H9: - | I9: -
B10: 2 | C10: Aegis huile | D10: 16.99 | E10: - | F10: 18.46 | G10: - | H10: - | I10: -
B11: 3 | C11: AI Energy | D11: 17.17 | E11: - | F11: 18.5 | G11: - | H11: - | I11: -
B12: 4 | C12: Allied Oil | D12: 16.99 | E12: - | F12: 18.45 | G12: - | H12: - | I12: -
B13: 5 | C13: Alive Gas | D13: - | E13: - | F13: - | G13: 17.5078 | H13: - | I13: -
B14: 6 | C14: Aminaser Oil | D14: 14.5 | E14: - | F14: 16.69 | G14: - | H14: - | I14: -
B15: 7 | C15: Anasset | D15: - | E15: - | F15: - | G15: 17.96 | H15: - | I15: -
B16: 8 | C16: Andev | D16: - | E16: - | F16: - | G16: 17.6078 | H16: - | I16: -
B17: 9 | C17: Annandale | D17: - | E17: - | F17: - | G17: 17.26 | H17: - | I17: -
B18: 11 | C18: Amdaway | D18: 16.64 | E18: - | F18: 18.3 | G18: - | H18: - | I18: -
B19: 12 | C19: Beap Energy | D19: 17.42 | E19: - | F19: 19.4 | G19: - | H19: - | I19: -
B20: 13 | C20: Benab Oil | D20: 16.5 | E20: - | F20: 18.36 | G20: 14.74 | H20: - | I20: -
B21: 14 | C21: Baffour Gas | D21: - | E21: - | F21: - | G21: 18.3589 | H21: - | I21: -
B22: 15 | C22: Bloom Petroleum | D22: 17.69 | E22: - | F22: 18.99 | G22: - | H22: - | I22: -
B23: 16 | C23: Breedlove Co. Ltd. | D23: 16.79 | E23: - | F23: 18.3 | G23: - | H23: - | I23: -
B24: 17 | C24: Brent Petroleum | D24: 17.17 | E24: - | F24: 18.96 | G24: - | H24: - | I24: -
B25: 18 | C25: Crown Petroleum | D25: 16.27 | E25: - | F25: 17.25 | G25: 17.6399 | H25: - | I25: -
B26: 19 | C26: Central Brent | D26: - | E26: - | F26: - | G26: 17.1578 | H26: - | I26: -
B27: 20 | C27: Cent Eastern | D27: - | E27: - | F27: - | G27: 16.6578 | H27: - | I27: -
B28: 21 | C28: Oil Space | D28: - | E28: - | F28: 16.78 | G28: 14.84 | H28: - | I28: -
B29: 22 | C29: Coegan | D29: - | E29: - | F29: - | G29: 18.1574 | H29: - | I29: -
B30: 23 | C30: Compass Oleum | D30: 17.7 | E30: - | F30: 18.65 | G30: - | H30: - | I30: -
B31: 24 | C31: Davis Petroleum | D31: 17.19 | E31: - | F31: 18.59 | G31: 18.0078 | H31: - | I31: -
B32: 25 | C32: Dejon Jones | D32: 17.97 | E32: - | F32: 19.35 | G32: - | H32: - | I32: -
B33: 26 | C33: Dessert Oil | D33: 17.5 | E33: - | F33: 18.5 | G33: - | H33: - | I33: -
B34: 27 | C34: Dukes Petroleum | D34: 16.5 | E34: - | F34: 18.4 | G34: 15.8578 | H34: - | I34: -
B35: 28 | C35: Eden Petroleum | D35: 16.77 | E35: - | F35: 17.77 | G35: - | H35: - | I35: -
B36: 29 | C36: Energetic Petro gh | D36: 17.47 | E36: - | F36: 18.75 | G36: - | H36: - | I36: -
B37: 30 | C37: Ex Oil | D37: 17.7 | E37: - | F37: 18.65 | G37: - | H37: - | I37: -
B38: 31 | C38: EV Oil | D38: 16.64 | E38: - | F38: 18.66 | G38: - | H38: - | I38: -
B39: 32 | C39: E-Windstar | D39: 16.99 | F39: 18.26 | G39: - | H39: - | I39: -
B40: 33 | C40: Eza Petroleum | D40: 17.45 | E40: - | F40: 18.83 | G40: - | H40: - | I40: -
B41: 34 | C41: First Gas | D41: - | E41: - | F41: - | G41: 16.3789 | H41: - | I41: -
B42: 35 | C42: Finest Oil | D42: 16.77 | E42: - | F42: 17.77 | G42: - | H42: - | I42: -
B43: 36 | C43: Frimps Oil | D43: 16.63 | E43: - | F43: 18.45 | G43: 14.78 | H43: - | I43: -
B44: 37 | C44: Frontier Oil | D44: 16.49 | E44: - | F44: 18.29 | G44: - | H44: - | I44: -
B45: 38 | C45: Gab Energy | D45: 16.76 | E45: - | F45: 17.76 | G45: - | H45: - | I45: -
...

Sheet Ex-Pump Prices 2nd Oct 2026
B2: NATIONAL PETROLEUM AUTHORITY
B6: EX-PUMP PRICES OF OMCs/LPGMCs AS OF 2nd October 2026
B8: NO. | C8: COMPANY | D8: REGULAR PETROL - RON 91 (GHS/Lt) | E8: PREMIUM PETROL - RON 95 (GHS/Lt) | F8: DIESEL (GHS/Lt) | G8: LPG (GHS/Kg) | H8: KEROSENE (GHS/Lt) | I8: MGO Local (GHS/Lt)
B9: 1 | C9: Agapet | D9: 17.77 | E9: - | F9: 18.6 | G9: - | H9: - | I9: -
B10: 2 | C10: Aegis huile | D10: 16.99 | E10: - | F10: 18.46 | G10: - | H10: - | I10: -
B11: 3 | C11: AI Energy | D11: 17.17 | E11: - | F11: 18.5 | G11: - | H11: - | I11: -
B12: 4 | C12: Allied Oil | D12: 16.99 | E12: - | F12: 18.45 | G12: - | H12: - | I12: -
B13: 5 | C13: Alive Gas | D13: - | E13: - | F13: - | G13: 17.5078 | H13: - | I13: -
B14: 6 | C14: Aminaser Oil | D14: 14.5 | E14: - | F14: 16.69 | G14: - | H14: - | I14: -
B15: 7 | C15: Anasset | D15: - | E15: - | F15: - | G15: 17.96 | H15: - | I15: -
B16: 8 | C16: Andev | D16: - | E16: - | F16: - | G16: 16.5578 | H16: - | I16: -
B17: 9 | C17: Annandale | D17: - | E17: - | F17: - | G17: 17.26 | H17: - | I17: -
B18: 11 | C18: Amdaway | D18: 16.64 | E18: - | F18: 18.3 | G18: - | H18: - | I18: -
B19: 12 | C19: Beap Energy | D19: 17.42 | E19: - | F19: 19.4 | G19: - | H19: - | I19: -
B20: 13 | C20: Benab Oil | D20: 16.5 | E20: - | F20: 18.36 | G20: 14.74 | H20: - | I20: -
B21: 14 | C21: Baffour Gas | D21: - | E21: - | F21: - | G21: 18.3589 | H21: - | I21: -
B22: 15 | C22: Bloom Petroleum | D22: 17.69 | E22: - | F22: 18.99 | G22: - | H22: - | I22: -
B23: 16 | C23: Breedlove Co. Ltd. | D23: 16.79 | E23: - | F23: 18.3 | G23: - | H23: - | I23: -
B24: 17 | C24: Brent Petroleum | D24: 17.17 | E24: - | F24: 18.96 | G24: - | H24: - | I24: -
B25: 18 | C25: Crown Petroleum | D25: 16.27 | E25: - | F25: 17.25 | G25: 17.6399 | H25: - | I25: -
B26: 19 | C26: Central Brent | D26: - | E26: - | F26: - | G26: 17.1578 | H26: - | I26: -
B27: 20 | C27: Cent Eastern | D27: - | E27: - | F27: - | G27: 16.6578 | H27: - | I27: -
B28: 21 | C28: Oil Space | D28: - | E28: - | F28: 16.78 | G28: 14.84 | H28: - | I28: -
B29: 22 | C29: Coegan | D29: - | E29: - | F29: - | G29: 18.1574 | H29: - | I29: -
B30: 23 | C30: Compass Oleum | D30: 17.7 | E30: - | F30: 18.25 | G30: - | H30: - | I30: -
B31: 24 | C31: Davis Petroleum | D31: 15.59 | E31: - | F31: 17.26 | G31: 18.0078 | H31: - | I31: -
B32: 25 | C32: Dejon Jones | D32: 17.77 | E32: - | F32: 19.55 | G32: - | H32: - | I32: -
B33: 26 | C33: Dessert Oil | D33: 17.5 | E33: - | F33: 18.5 | G33: - | H33: - | I33: -
B34: 27 | C34: Dukes Petroleum | D34: 16.5 | E34: - | F34: 18.4 | G34: 15.8578 | H34: - | I34: -
B35: 28 | C35: Eden Petroleum | D35: 16.77 | E35: - | F35: 17.77 | G35: - | H35: - | I35: -
B36: 29 | C36: Energetic Petro gh | D36: 17.32 | E36: - | F36: 17.82 | G36: - | H36: - | I36: -
B37: 30 | C37: Ex Oil | D37: 17.7 | E37: - | F37: 18.25 | G37: - | H37: - | I37: -
B38: 31 | C38: EV Oil | D38: 16.64 | E38: - | F38: 18.66 | G38: - | H38: - | I38: -
B39: 32 | C39: E-Windstar | D39: 16.99 | F39: 18.26 | G39: - | H39: - | I39: -
B40: 33 | C40: Eza Petroleum | D40: 16.77 | E40: - | F40: 17.97 | G40: - | H40: - | I40: -
B41: 34 | C41: First Gas | D41: - | E41: - | F41: - | G41: 16.3789 | H41: - | I41: -
B42: 35 | C42: Finest Oil | D42: 16.77 | E42: - | F42: 17.77 | G42: - | H42: - | I42: -
B43: 36 | C43: Frimps Oil | D43: 16.63 | E43: - | F43: 18.45 | G43: 14.78 | H43: - | I43: -
B44: 37 | C44: Frontier Oil | D44: 16.49 | E44: - | F44: 18.25 | G44: - | H44: - | I44: -
B45: 38 | C45: Gab Energy | D45: 16.76 | E45: - | F45: 17.76 | G45: - | H45: - | I45: -
...

Sheet Ex-Pump Prices 1st Oct 2026
B2: NATIONAL PETROLEUM AUTHORITY
B6: EX-PUMP PRICES OF OMCs/LPGMCs AS OF 1st October 2026
B8: NO. | C8: COMPANY | D8: REGULAR PETROL - RON 91 (GHS/Lt) | E8: PREMIUM PETROL - RON 95 (GHS/Lt) | F8: DIESEL (GHS/Lt) | G8: LPG (GHS/Kg) | H8: KEROSENE (GHS/Lt) | I8: MGO Local (GHS/Lt)
B9: 1 | C9: Agapet | D9: 17.77 | E9: - | F9: 18.6 | G9: - | H9: - | I9: -
B10: 2 | C10: Aegis huile | D10: 16.99 | E10: - | F10: 18.46 | G10: - | H10: - | I10: -
B11: 3 | C11: AI Energy | D11: 17.17 | E11: - | F11: 18.5 | G11: - | H11: - | I11: -
B12: 4 | C12: Allied Oil | D12: 17.2 | E12: - | F12: 18.65 | G12: - | H12: - | I12: -
B13: 5 | C13: Alive Gas | D13: - | E13: - | F13: - | G13: 16.5578 | H13: - | I13: -
B14: 6 | C14: Aminaser Oil | D14: 14.5 | E14: - | F14: 16.69 | G14: - | H14: - | I14: -
B15: 7 | C15: Anasset | D15: - | E15: - | F15: - | G15: 17.96 | H15: - | I15: -
B16: 8 | C16: Andev | D16: - | E16: - | F16: - | G16: 16.5578 | H16: - | I16: -
B17: 9 | C17: Annandale | D17: - | E17: - | F17: - | G17: 17.26 | H17: - | I17: -
B18: 11 | C18: Amdaway | D18: 16.64 | E18: - | F18: 18.3 | G18: - | H18: - | I18: -
B19: 12 | C19: Beap Energy | D19: 17.42 | E19: - | F19: 19.4 | G19: - | H19: - | I19: -
B20: 13 | C20: Benab Oil | D20: 16.5 | E20: - | F20: 18.36 | G20: 14.74 | H20: - | I20: -
B21: 14 | C21: Baffour Gas | D21: - | E21: - | F21: - | G21: 17.1589 | H21: - | I21: -
B22: 15 | C22: Bloom Petroleum | D22: 17.49 | E22: - | F22: 18.89 | G22: - | H22: - | I22: -
B23: 16 | C23: Breedlove Co. Ltd. | D23: 16.79 | E23: - | F23: 18.3 | G23: - | H23: - | I23: -
B24: 17 | C24: Brent Petroleum | D24: 16.97 | E24: - | F24: 17.97 | G24: - | H24: - | I24: -
B25: 18 | C25: Crown Petroleum | D25: 16.27 | E25: - | F25: 17.25 | G25: 17.6399 | H25: - | I25: -
B26: 19 | C26: Central Brent | D26: - | E26: - | F26: - | G26: 15.9578 | H26: - | I26: -
B27: 20 | C27: Cent Eastern | D27: - | E27: - | F27: - | G27: 16.6578 | H27: - | I27: -
B28: 21 | C28: Oil Space | D28: - | E28: - | F28: 16.78 | G28: 14.84 | H28: - | I28: -
B29: 22 | C29: Coegan | D29: - | E29: - | F29: - | G29: 18.1574 | H29: - | I29: -
B30: 23 | C30: Compass Oleum | D30: 17.7 | E30: - | F30: 18.25 | G30: - | H30: - | I30: -
B31: 24 | C31: Davis Petroleum | D31: 15.59 | E31: - | F31: 17.26 | G31: 18.0078 | H31: - | I31: -
B32: 25 | C32: Dejon Jones | D32: 17.77 | E32: - | F32: 19.55 | G32: - | H32: - | I32: -
B33: 26 | C33: Dessert Oil | D33: 17.5 | E33: - | F33: 18.5 | G33: - | H33: - | I33: -
B34: 27 | C34: Dukes Petroleum | D34: 16.5 | E34: - | F34: 18.4 | G34: 15.8578 | H34: - | I34: -
B35: 28 | C35: Eden Petroleum | D35: 16.77 | E35: - | F35: 17.77 | G35: - | H35: - | I35: -
B36: 29 | C36: Energetic Petro gh | D36: 17.32 | E36: - | F36: 17.82 | G36: - | H36: - | I36: -
B37: 30 | C37: Ex Oil | D37: 17.7 | E37: - | F37: 18.25 | G37: - | H37: - | I37: -
B38: 31 | C38: EV Oil | D38: 16.64 | E38: - | F38: 18.66 | G38: - | H38: - | I38: -
B39: 32 | C39: E-Windstar | D39: 16.99 | F39: 18.26 | G39: - | H39: - | I39: -
B40: 33 | C40: Eza Petroleum | D40: 16.77 | E40: - | F40: 17.97 | G40: - | H40: - | I40: -
B41: 34 | C41: First Gas | D41: - | E41: - | F41: - | G41: 16.3789 | H41: - | I41: -
B42: 35 | C42: Finest Oil | D42: 16.77 | E42: - | F42: 17.77 | G42: - | H42: - | I42: -
B43: 36 | C43: Frimps Oil | D43: 16.63 | E43: - | F43: 18.45 | G43: 14.78 | H43: - | I43: -
B44: 37 | C44: Frontier Oil | D44: 16.45 | E44: - | F44: 17.95 | G44: - | H44: - | I44: -
B45: 38 | C45: Gab Energy | D45: 16.76 | E45: - | F45: 17.76 | G45: - | H45: - | I45: -
...

Sheet Ex-Pump Prices 30th Sept 2026
B2: NATIONAL PETROLEUM AUTHORITY
B6: EX-PUMP PRICES OF OMCs/LPGMCs AS OF 30th September 2026
B8: NO. | C8: COMPANY | D8: REGULAR PETROL - RON 91 (GHS/Lt) | E8: PREMIUM PETROL - RON 95 (GHS/Lt) | F8: DIESEL (GHS/Lt) | G8: LPG (GHS/Kg) | H8: KEROSENE (GHS/Lt) | I8: MGO Local (GHS/Lt)
B9: 1 | C9: Agapet | D9: 17.77 | E9: - | F9: 18.6 | G9: - | H9: - | I9: -
B10: 2 | C10: Aegis huile | D10: 16.99 | E10: - | F10: 18.46 | G10: - | H10: - | I10: -
B11: 3 | C11: AI Energy | D11: 17.17 | E11: - | F11: 18.5 | G11: - | H11: - | I11: -
B12: 4 | C12: Allied Oil | D12: 16.99 | E12: - | F12: 17.99 | G12: - | H12: - | I12: -
B13: 5 | C13: Alive Gas | D13: - | E13: - | F13: - | G13: 16.5578 | H13: - | I13: -
B14: 6 | C14: Aminaser Oil | D14: 14.5 | E14: - | F14: 16.69 | G14: - | H14: - | I14: -
B15: 7 | C15: Anasset | D15: - | E15: - | F15: - | G15: 16.7996 | H15: - | I15: -
B16: 8 | C16: Andev | D16: - | E16: - | F16: - | G16: 16.5578 | H16: - | I16: -
B17: 9 | C17: Annandale | D17: - | E17: - | F17: - | G17: 16.51 | H17: - | I17: -
B18: 11 | C18: Amdaway | D18: 16 | E18: - | F18: 16.97 | G18: - | H18: - | I18: -
B19: 12 | C19: Beap Energy | D19: 17.42 | E19: - | F19: 19.4 | G19: - | H19: - | I19: -
B20: 13 | C20: Benab Oil | D20: 16.5 | E20: - | F20: 18.36 | G20: 14.74 | H20: - | I20: -
B21: 14 | C21: Baffour Gas | D21: - | E21: - | F21: - | G21: 17.1589 | H21: - | I21: -
B22: 15 | C22: Bloom Petroleum | D22: 17.49 | E22: - | F22: 18.89 | G22: - | H22: - | I22: -
B23: 16 | C23: Breedlove Co. Ltd. | D23: 16.7 | E23: - | F23: 17.7 | G23: - | H23: - | I23: -
B24: 17 | C24: Brent Petroleum | D24: 16.97 | E24: - | F24: 17.97 | G24: - | H24: - | I24: -
B25: 18 | C25: Crown Petroleum | D25: 16.27 | E25: - | F25: 17.25 | G25: 17.6399 | H25: - | I25: -
B26: 19 | C26: Central Brent | D26: - | E26: - | F26: - | G26: 15.9578 | H26: - | I26: -
B27: 20 | C27: Cent Eastern | D27: - | E27: - | F27: - | G27: 16.6578 | H27: - | I27: -
B28: 21 | C28: Oil Space | D28: - | E28: - | F28: 16.78 | G28: 14.84 | H28: - | I28: -
B29: 22 | C29: Coegan | D29: - | E29: - | F29: - | G29: 16.7574 | H29: - | I29: -
B30: 23 | C30: Compass Oleum | D30: 17.7 | E30: - | F30: 18.25 | G30: - | H30: - | I30: -
B31: 24 | C31: Davis Petroleum | D31: 15.59 | E31: - | F31: 17.26 | G31: 18.0078 | H31: - | I31: -
B32: 25 | C32: Dejon Jones | D32: 17.77 | E32: - | F32: 19.55 | G32: - | H32: - | I32: -
B33: 26 | C33: Dessert Oil | D33: 17.5 | E33: - | F33: 18.5 | G33: - | H33: - | I33: -
B34: 27 | C34: Dukes Petroleum | D34: 16.5 | E34: - | F34: 18.4 | G34: 15.8578 | H34: - | I34: -
B35: 28 | C35: Eden Petroleum | D35: 16.77 | E35: - | F35: 17.77 | G35: - | H35: - | I35: -
B36: 29 | C36: Energetic Petro gh | D36: 17.32 | E36: - | F36: 17.82 | G36: - | H36: - | I36: -
B37: 30 | C37: Ex Oil | D37: 17.7 | E37: - | F37: 18.25 | G37: - | H37: - | I37: -
B38: 31 | C38: EV Oil | D38: 16.5 | E38: - | F38: 17.77 | G38: - | H38: - | I38: -
B39: 32 | C39: E-Windstar | D39: 16.99 | F39: 18.26 | G39: - | H39: - | I39: -
B40: 33 | C40: Eza Petroleum | D40: 16.77 | E40: - | F40: 17.97 | G40: - | H40: - | I40: -
B41: 34 | C41: First Gas | D41: - | E41: - | F41: - | G41: 16.3789 | H41: - | I41: -
B42: 35 | C42: Finest Oil | D42: 16.77 | E42: - | F42: 17.77 | G42: - | H42: - | I42: -
B43: 36 | C43: Frimps Oil | D43: 16 | E43: - | F43: 17.77 | G43: 14.78 | H43: - | I43: -
B44: 37 | C44: Frontier Oil | D44: 16.45 | E44: - | F44: 17.95 | G44: - | H44: - | I44: -
B45: 38 | C45: Gab Energy | D45: 16.76 | E45: - | F45: 17.76 | G45: - | H45: - | I45: -
...

Sheet Ex-Pump Prices 29th Sept 2026
B2: NATIONAL PETROLEUM AUTHORITY
B6: EX-PUMP PRICES OF OMCs/LPGMCs AS OF 29th September 2026
B8: NO. | C8: COMPANY | D8: REGULAR PETROL - RON 91 (GHS/Lt) | E8: PREMIUM PETROL - RON 95 (GHS/Lt) | F8: DIESEL (GHS/Lt) | G8: LPG (GHS/Kg) | H8: KEROSENE (GHS/Lt) | I8: MGO Local (GHS/Lt)
B9: 1 | C9: Agapet | D9: 17.77 | E9: - | F9: 18.6 | G9: - | H9: - | I9: -
B10: 2 | C10: Aegis huile | D10: 16.49 | E10: - | F10: 17.99 | G10: - | H10: - | I10: -
B11: 3 | C11: AI Energy | D11: 17.17 | E11: - | F11: 18.5 | G11: - | H11: - | I11: -
B12: 4 | C12: Allied Oil | D12: 16.99 | E12: - | F12: 17.99 | G12: - | H12: - | I12: -
B13: 5 | C13: Alive Gas | D13: - | E13: - | F13: - | G13: 16.5578 | H13: - | I13: -
B14: 6 | C14: Aminaser Oil | D14: 14.5 | E14: - | F14: 16.69 | G14: - | H14: - | I14: -
B15: 7 | C15: Anasset | D15: - | E15: - | F15: - | G15: 16.7996 | H15: - | I15: -
B16: 8 | C16: Andev | D16: - | E16: - | F16: - | G16: 16.5578 | H16: - | I16: -
B17: 9 | C17: Annandale | D17: - | E17: - | F17: - | G17: 16.51 | H17: - | I17: -
B18: 11 | C18: Amdaway | D18: 16 | E18: - | F18: 16.97 | G18: - | H18: - | I18: -
B19: 12 | C19: Beap Energy | D19: 17.42 | E19: - | F19: 19.4 | G19: - | H19: - | I19: -
B20: 13 | C20: Benab Oil | D20: 16.5 | E20: - | F20: 18.36 | G20: 14.74 | H20: - | I20: -
B21: 14 | C21: Baffour Gas | D21: - | E21: - | F21: - | G21: 17.1589 | H21: - | I21: -
B22: 15 | C22: Bloom Petroleum | D22: 17.49 | E22: - | F22: 18.89 | G22: - | H22: - | I22: -
B23: 16 | C23: Breedlove Co. Ltd. | D23: 16.7 | E23: - | F23: 17.7 | G23: - | H23: - | I23: -
B24: 17 | C24: Brent Petroleum | D24: 16.97 | E24: - | F24: 17.97 | G24: - | H24: - | I24: -
B25: 18 | C25: Crown Petroleum | D25: 16.27 | E25: - | F25: 17.25 | G25: 17.6399 | H25: - | I25: -
B26: 19 | C26: Central Brent | D26: - | E26: - | F26: - | G26: 15.9578 | H26: - | I26: -
B27: 20 | C27: Cent Eastern | D27: - | E27: - | F27: - | G27: 16.6578 | H27: - | I27: -
B28: 21 | C28: Oil Space | D28: - | E28: - | F28: 16.78 | G28: 14.84 | H28: - | I28: -
B29: 22 | C29: Coegan | D29: - | E29: - | F29: - | G29: 16.7574 | H29: - | I29: -
B30: 23 | C30: Compass Oleum | D30: 17.7 | E30: - | F30: 18.25 | G30: - | H30: - | I30: -
B31: 24 | C31: Davis Petroleum | D31: 15.59 | E31: - | F31: 17.26 | G31: 18.0078 | H31: - | I31: -
B32: 25 | C32: Dejon Jones | D32: 17.77 | E32: - | F32: 19.55 | G32: - | H32: - | I32: -
B33: 26 | C33: Dessert Oil | D33: 17.5 | E33: - | F33: 18.5 | G33: - | H33: - | I33: -
B34: 27 | C34: Dukes Petroleum | D34: 16.2 | E34: - | F34: 17.4 | G34: 15.8578 | H34: - | I34: -
B35: 28 | C35: Eden Petroleum | D35: 16.77 | E35: - | F35: 17.77 | G35: - | H35: - | I35: -
B36: 29 | C36: Energetic Petro gh | D36: 17.32 | E36: - | F36: 17.82 | G36: - | H36: - | I36: -
B37: 30 | C37: Ex Oil | D37: 17.7 | E37: - | F37: 18.25 | G37: - | H37: - | I37: -
B38: 31 | C38: EV Oil | D38: 16.5 | E38: - | F38: 17.77 | G38: - | H38: - | I38: -
B39: 32 | C39: E-Windstar | D39: 16.99 | F39: 18.26 | G39: - | H39: - | I39: -
B40: 33 | C40: Eza Petroleum | D40: 16.77 | E40: - | F40: 17.97 | G40: - | H40: - | I40: -
B41: 34 | C41: First Gas | D41: - | E41: - | F41: - | G41: 16.3789 | H41: - | I41: -
B42: 35 | C42: Finest Oil | D42: 16.77 | E42: - | F42: 17.77 | G42: - | H42: - | I42: -
B43: 36 | C43: Frimps Oil | D43: 16 | E43: - | F43: 17.77 | G43: 14.78 | H43: - | I43: -
B44: 37 | C44: Frontier Oil | D44: 16.45 | E44: - | F44: 17.95 | G44: - | H44: - | I44: -
B45: 38 | C45: Gab Energy | D45: 16.76 | E45: - | F45: 17.76 | G45: - | H45: - | I45: -
...

Sheet Ex-Pump Prices 28th Sept 2026
B2: NATIONAL PETROLEUM AUTHORITY
B6: EX-PUMP PRICES OF OMCs/LPGMCs AS OF 28th September 2026
B8: NO. | C8: COMPANY | D8: REGULAR PETROL - RON 91 (GHS/Lt) | E8: PREMIUM PETROL - RON 95 (GHS/Lt) | F8: DIESEL (GHS/Lt) | G8: LPG (GHS/Kg) | H8: KEROSENE (GHS/Lt) | I8: MGO Local (GHS/Lt)
B9: 1 | C9: Agapet | D9: 17.77 | E9: - | F9: 18.6 | G9: - | H9: - | I9: -
B10: 2 | C10: Aegis huile | D10: 16.49 | E10: - | F10: 17.99 | G10: - | H10: - | I10: -
B11: 3 | C11: AI Energy | D11: 17.17 | E11: - | F11: 17.99 | G11: - | H11: - | I11: -
B12: 4 | C12: Allied Oil | D12: 16.99 | E12: - | F12: 17.99 | G12: - | H12: - | I12: -
B13: 5 | C13: Alive Gas | D13: - | E13: - | F13: - | G13: 16.5578 | H13: - | I13: -
B14: 6 | C14: Aminaser Oil | D14: 14.5 | E14: - | F14: 16.69 | G14: - | H14: - | I14: -
B15: 7 | C15: Anasset | D15: - | E15: - | F15: - | G15: 16.7996 | H15: - | I15: -
B16: 8 | C16: Andev | D16: - | E16: - | F16: - | G16: 16.5578 | H16: - | I16: -
B17: 9 | C17: Annandale | D17: - | E17: - | F17: - | G17: 16.51 | H17: - | I17: -
B18: 11 | C18: Amdaway | D18: 16 | E18: - | F18: 16.97 | G18: - | H18: - | I18: -
B19: 12 | C19: Beap Energy | D19: 15.92 | E19: - | F19: 17 | G19: - | H19: - | I19: -
B20: 13 | C20: Benab Oil | D20: 16 | E20: - | F20: 17.75 | G20: 14.74 | H20: - | I20: -
B21: 14 | C21: Baffour Gas | D21: - | E21: - | F21: - | G21: 17.1589 | H21: - | I21: -
B22: 15 | C22: Bloom Petroleum | D22: 17.49 | E22: - | F22: 18.89 | G22: - | H22: - | I22: -
B23: 16 | C23: Breedlove Co. Ltd. | D23: 16.7 | E23: - | F23: 17.7 | G23: - | H23: - | I23: -
B24: 17 | C24: Brent Petroleum | D24: 16.97 | E24: - | F24: 17.97 | G24: - | H24: - | I24: -
B25: 18 | C25: Crown Petroleum | D25: 16.27 | E25: - | F25: 17.25 | G25: 17.6399 | H25: - | I25: -
B26: 19 | C26: Central Brent | D26: - | E26: - | F26: - | G26: 15.9578 | H26: - | I26: -
B27: 20 | C27: Cent Eastern | D27: - | E27: - | F27: - | G27: 16.6578 | H27: - | I27: -
B28: 21 | C28: Oil Space | D28: - | E28: - | F28: 16.78 | G28: 14.84 | H28: - | I28: -
B29: 22 | C29: Coegan | D29: - | E29: - | F29: - | G29: 16.7574 | H29: - | I29: -
B30: 23 | C30: Compass Oleum | D30: 17.7 | E30: - | F30: 18.25 | G30: - | H30: - | I30: -
B31: 24 | C31: Davis Petroleum | D31: 15.59 | E31: - | F31: 17.26 | G31: 18.0078 | H31: - | I31: -
B32: 25 | C32: Dejon Jones | D32: 17.77 | E32: - | F32: 19.55 | G32: - | H32: - | I32: -
B33: 26 | C33: Dessert Oil | D33: 17.5 | E33: - | F33: 18.5 | G33: - | H33: - | I33: -
B34: 27 | C34: Dukes Petroleum | D34: 16.2 | E34: - | F34: 17.4 | G34: 15.8578 | H34: - | I34: -
B35: 28 | C35: Eden Petroleum | D35: 16.77 | E35: - | F35: 17.77 | G35: - | H35: - | I35: -
B36: 29 | C36: Energetic Petro gh | D36: 17.32 | E36: - | F36: 17.82 | G36: - | H36: - | I36: -
B37: 30 | C37: Ex Oil | D37: 17.7 | E37: - | F37: 18.25 | G37: - | H37: - | I37: -
B38: 31 | C38: EV Oil | D38: 16.5 | E38: - | F38: 17.77 | G38: - | H38: - | I38: -
B39: 32 | C39: E-Windstar | D39: 16.99 | F39: 18.26 | G39: - | H39: - | I39: -
B40: 33 | C40: Eza Petroleum | D40: 16.77 | E40: - | F40: 17.97 | G40: - | H40: - | I40: -
B41: 34 | C41: First Gas | D41: - | E41: - | F41: - | G41: 16.3789 | H41: - | I41: -
B42: 35 | C42: Finest Oil | D42: 16.77 | E42: - | F42: 17.77 | G42: - | H42: - | I42: -
B43: 36 | C43: Frimps Oil | D43: 16 | E43: - | F43: 17.77 | G43: 14.78 | H43: - | I43: -
B44: 37 | C44: Frontier Oil | D44: 16.45 | E44: - | F44: 17.95 | G44: - | H44: - | I44: -
B45: 38 | C45: Gab Energy | D45: 16.76 | E45: - | F45: 17.76 | G45: - | H45: - | I45: -
...

Sheet Ex-Pump Prices 25th Sept 2026
B2: NATIONAL PETROLEUM AUTHORITY
B6: EX-PUMP PRICES OF OMCs/LPGMCs AS OF 25th September 2026
B8: NO. | C8: COMPANY | D8: REGULAR PETROL - RON 91 (GHS/Lt) | E8: PREMIUM PETROL - RON 95 (GHS/Lt) | F8: DIESEL (GHS/Lt) | G8: LPG (GHS/Kg) | H8: KEROSENE (GHS/Lt) | I8: MGO Local (GHS/Lt)
B9: 1 | C9: Agapet | D9: 17.77 | E9: - | F9: 18.6 | G9: - | H9: - | I9: -
B10: 2 | C10: Aegis huile | D10: 16.49 | E10: - | F10: 17.99 | G10: - | H10: - | I10: -
B11: 3 | C11: AI Energy | D11: 16.99 | E11: - | F11: 17.99 | G11: - | H11: - | I11: -
B12: 4 | C12: Allied Oil | D12: 16.99 | E12: - | F12: 17.99 | G12: - | H12: - | I12: -
B13: 5 | C13: Alive Gas | D13: - | E13: - | F13: - | G13: 16.5578 | H13: - | I13: -
B14: 6 | C14: Aminaser Oil | D14: 14.5 | E14: - | F14: 16.69 | G14: - | H14: - | I14: -
B15: 7 | C15: Anasset | D15: - | E15: - | F15: - | G15: 16.7996 | H15: - | I15: -
B16: 8 | C16: Andev | D16: - | E16: - | F16: - | G16: 16.5578 | H16: - | I16: -
B17: 9 | C17: Annandale | D17: - | E17: - | F17: - | G17: 16.51 | H17: - | I17: -
B18: 11 | C18: Amdaway | D18: 16 | E18: - | F18: 16.97 | G18: - | H18: - | I18: -
B19: 12 | C19: Beap Energy | D19: 15.92 | E19: - | F19: 17 | G19: - | H19: - | I19: -
B20: 13 | C20: Benab Oil | D20: 16 | E20: - | F20: 17.75 | G20: 14.74 | H20: - | I20: -
B21: 14 | C21: Baffour Gas | D21: - | E21: - | F21: - | G21: 17.1589 | H21: - | I21: -
B22: 15 | C22: Bloom Petroleum | D22: 17.49 | E22: - | F22: 18.89 | G22: - | H22: - | I22: -
B23: 16 | C23: Breedlove Co. Ltd. | D23: 16.7 | E23: - | F23: 17.7 | G23: - | H23: - | I23: -
B24: 17 | C24: Brent Petroleum | D24: 16.97 | E24: - | F24: 17.97 | G24: - | H24: - | I24: -
B25: 18 | C25: Crown Petroleum | D25: 16.27 | E25: - | F25: 17.25 | G25: 17.6399 | H25: - | I25: -
B26: 19 | C26: Central Brent | D26: - | E26: - | F26: - | G26: 15.9578 | H26: - | I26: -
B27: 20 | C27: Cent Eastern | D27: - | E27: - | F27: - | G27: 16.6578 | H27: - | I27: -
B28: 21 | C28: Oil Space | D28: - | E28: - | F28: 16.78 | G28: 14.84 | H28: - | I28: -
B29: 22 | C29: Coegan | D29: - | E29: - | F29: - | G29: 16.7574 | H29: - | I29: -
B30: 23 | C30: Compass Oleum | D30: 17.7 | E30: - | F30: 18.25 | G30: - | H30: - | I30: -
B31: 24 | C31: Davis Petroleum | D31: 15.59 | E31: - | F31: 17.26 | G31: 18.0078 | H31: - | I31: -
B32: 25 | C32: Dejon Jones | D32: 17.77 | E32: - | F32: 19.55 | G32: - | H32: - | I32: -
B33: 26 | C33: Dessert Oil | D33: 17.5 | E33: - | F33: 18.5 | G33: - | H33: - | I33: -
B34: 27 | C34: Dukes Petroleum | D34: 16.2 | E34: - | F34: 17.4 | G34: 15.8578 | H34: - | I34: -
B35: 28 | C35: Eden Petroleum | D35: 16.77 | E35: - | F35: 17.77 | G35: - | H35: - | I35: -
B36: 29 | C36: Energetic Petro gh | D36: 17.32 | E36: - | F36: 17.82 | G36: - | H36: - | I36: -
B37: 30 | C37: Ex Oil | D37: 17.7 | E37: - | F37: 18.25 | G37: - | H37: - | I37: -
B38: 31 | C38: EV Oil | D38: 16.5 | E38: - | F38: 17.77 | G38: - | H38: - | I38: -
B39: 32 | C39: E-Windstar | D39: 16.99 | F39: 18.26 | G39: - | H39: - | I39: -
B40: 33 | C40: Eza Petroleum | D40: 16.77 | E40: - | F40: 17.97 | G40: - | H40: - | I40: -
B41: 34 | C41: First Gas | D41: - | E41: - | F41: - | G41: 16.3789 | H41: - | I41: -
B42: 35 | C42: Finest Oil | D42: 16.77 | E42: - | F42: 17.77 | G42: - | H42: - | I42: -
B43: 36 | C43: Frimps Oil | D43: 16 | E43: - | F43: 17.77 | G43: 14.78 | H43: - | I43: -
B44: 37 | C44: Frontier Oil | D44: 16.45 | E44: - | F44: 17.69 | G44: - | H44: - | I44: -
B45: 38 | C45: Gab Energy | D45: 16.76 | E45: - | F45: 17.76 | G45: - | H45: - | I45: -
...

Sheet Ex-Pump Prices 24th Sept 2026
B2: NATIONAL PETROLEUM AUTHORITY
B6: EX-PUMP PRICES OF OMCs/LPGMCs AS OF 24th September 2026
B8: NO. | C8: COMPANY | D8: REGULAR PETROL - RON 91 (GHS/Lt) | E8: PREMIUM PETROL - RON 95 (GHS/Lt) | F8: DIESEL (GHS/Lt) | G8: LPG (GHS/Kg) | H8: KEROSENE (GHS/Lt) | I8: MGO Local (GHS/Lt)
B9: 1 | C9: Agapet | D9: 17.77 | E9: - | F9: 18.6 | G9: - | H9: - | I9: -
B10: 2 | C10: Aegis huile | D10: 16.49 | E10: - | F10: 17.99 | G10: - | H10: - | I10: -
B11: 3 | C11: AI Energy | D11: 16.99 | E11: - | F11: 17.99 | G11: - | H11: - | I11: -
B12: 4 | C12: Allied Oil | D12: 16.99 | E12: - | F12: 17.99 | G12: - | H12: - | I12: -
B13: 5 | C13: Alive Gas | D13: - | E13: - | F13: - | G13: 16.5578 | H13: - | I13: -
B14: 6 | C14: Aminaser Oil | D14: 14.5 | E14: - | F14: 16.69 | G14: - | H14: - | I14: -
B15: 7 | C15: Anasset | D15: - | E15: - | F15: - | G15: 16.7996 | H15: - | I15: -
B16: 8 | C16: Andev | D16: - | E16: - | F16: - | G16: 16.5578 | H16: - | I16: -
B17: 9 | C17: Annandale | D17: - | E17: - | F17: - | G17: 16.51 | H17: - | I17: -
B18: 11 | C18: Amdaway | D18: 16 | E18: - | F18: 16.97 | G18: - | H18: - | I18: -
B19: 12 | C19: Beap Energy | D19: 15.92 | E19: - | F19: 17 | G19: - | H19: - | I19: -
B20: 13 | C20: Benab Oil | D20: 16 | E20: - | F20: 17.75 | G20: 14.74 | H20: - | I20: -
B21: 14 | C21: Baffour Gas | D21: - | E21: - | F21: - | G21: 17.1589 | H21: - | I21: -
B22: 15 | C22: Bloom Petroleum | D22: 17.49 | E22: - | F22: 18.89 | G22: - | H22: - | I22: -
B23: 16 | C23: Breedlove Co. Ltd. | D23: 16.7 | E23: - | F23: 17.7 | G23: - | H23: - | I23: -
B24: 17 | C24: Brent Petroleum | D24: 16.97 | E24: - | F24: 17.97 | G24: - | H24: - | I24: -
B25: 18 | C25: Crown Petroleum | D25: 16.27 | E25: - | F25: 17.25 | G25: 17.6399 | H25: - | I25: -
B26: 19 | C26: Central Brent | D26: - | E26: - | F26: - | G26: 15.9578 | H26: - | I26: -
B27: 20 | C27: Cent Eastern | D27: - | E27: - | F27: - | G27: 16.6578 | H27: - | I27: -
B28: 21 | C28: Oil Space | D28: - | E28: - | F28: 16.78 | G28: 14.84 | H28: - | I28: -
B29: 22 | C29: Coegan | D29: - | E29: - | F29: - | G29: 16.7574 | H29: - | I29: -
B30: 23 | C30: Compass Oleum | D30: 17.7 | E30: - | F30: 18.25 | G30: - | H30: - | I30: -
B31: 24 | C31: Davis Petroleum | D31: 15.59 | E31: - | F31: 17.26 | G31: 18.0078 | H31: - | I31: -
B32: 25 | C32: Dejon Jones | D32: 17.77 | E32: - | F32: 19.55 | G32: - | H32: - | I32: -
B33: 26 | C33: Dessert Oil | D33: 16.5 | E33: - | F33: 18 | G33: - | H33: - | I33: -
B34: 27 | C34: Dukes Petroleum | D34: 16.2 | E34: - | F34: 17.4 | G34: 15.8578 | H34: - | I34: -
B35: 28 | C35: Eden Petroleum | D35: 16.77 | E35: - | F35: 17.77 | G35: - | H35: - | I35: -
B36: 29 | C36: Energetic Petro gh | D36: 17.32 | E36: - | F36: 17.82 | G36: - | H36: - | I36: -
B37: 30 | C37: Ex Oil | D37: 17.7 | E37: - | F37: 18.25 | G37: - | H37: - | I37: -
B38: 31 | C38: EV Oil | D38: 16.5 | E38: - | F38: 17.77 | G38: - | H38: - | I38: -
B39: 32 | C39: E-Windstar | D39: 16.99 | F39: 18.26 | G39: - | H39: - | I39: -
B40: 33 | C40: Eza Petroleum | D40: 16.77 | E40: - | F40: 17.97 | G40: - | H40: - | I40: -
B41: 34 | C41: First Gas | D41: - | E41: - | F41: - | G41: 16.3789 | H41: - | I41: -
B42: 35 | C42: Finest Oil | D42: 16.77 | E42: - | F42: 17.77 | G42: - | H42: - | I42: -
B43: 36 | C43: Frimps Oil | D43: 16.77 | E43: - | F43: 17.77 | G43: 14.78 | H43: - | I43: -
B44: 37 | C44: Frontier Oil | D44: 16.45 | E44: - | F44: 17.69 | G44: - | H44: - | I44: -
B45: 38 | C45: Gab Energy | D45: 16.76 | E45: - | F45: 17.76 | G45: - | H45: - | I45: -
...

Sheet Ex-Pump Prices 23rd Sept 2026
B2: NATIONAL PETROLEUM AUTHORITY
B6: EX-PUMP PRICES OF OMCs/LPGMCs AS OF 23rd September 2026
B8: NO. | C8: COMPANY | D8: REGULAR PETROL - RON 91 (GHS/Lt) | E8: PREMIUM PETROL - RON 95 (GHS/Lt) | F8: DIESEL (GHS/Lt) | G8: LPG (GHS/Kg) | H8: KEROSENE (GHS/Lt) | I8: MGO Local (GHS/Lt)
B9: 1 | C9: Agapet | D9: 17.77 | E9: - | F9: 18.6 | G9: - | H9: - | I9: -
B10: 2 | C10: Aegis huile | D10: 16.49 | E10: - | F10: 17.99 | G10: - | H10: - | I10: -
B11: 3 | C11: AI Energy | D11: 16.99 | E11: - | F11: 17.99 | G11: - | H11: - | I11: -
B12: 4 | C12: Allied Oil | D12: 16.99 | E12: - | F12: 17.99 | G12: - | H12: - | I12: -
B13: 5 | C13: Alive Gas | D13: - | E13: - | F13: - | G13: 16.5578 | H13: - | I13: -
B14: 6 | C14: Aminaser Oil | D14: 14.5 | E14: - | F14: 16.69 | G14: - | H14: - | I14: -
B15: 7 | C15: Anasset | D15: - | E15: - | F15: - | G15: 16.7996 | H15: - | I15: -
B16: 8 | C16: Andev | D16: - | E16: - | F16: - | G16: 16.5578 | H16: - | I16: -
B17: 9 | C17: Annandale | D17: - | E17: - | F17: - | G17: 16.51 | H17: - | I17: -
B18: 11 | C18: Amdaway | D18: 16 | E18: - | F18: 16.97 | G18: - | H18: - | I18: -
B19: 12 | C19: Beap Energy | D19: 15.92 | E19: - | F19: 17 | G19: - | H19: - | I19: -
B20: 13 | C20: Benab Oil | D20: 16 | E20: - | F20: 17.75 | G20: 14.74 | H20: - | I20: -
B21: 14 | C21: Baffour Gas | D21: - | E21: - | F21: - | G21: 17.1589 | H21: - | I21: -
B22: 15 | C22: Bloom Petroleum | D22: 17.49 | E22: - | F22: 18.89 | G22: - | H22: - | I22: -
B23: 16 | C23: Breedlove Co. Ltd. | D23: 16.7 | E23: - | F23: 17.7 | G23: - | H23: - | I23: -
B24: 17 | C24: Brent Petroleum | D24: 16.97 | E24: - | F24: 17.97 | G24: - | H24: - | I24: -
B25: 18 | C25: Crown Petroleum | D25: 16.27 | E25: - | F25: 17.25 | G25: 17.6399 | H25: - | I25: -
B26: 19 | C26: Central Brent | D26: - | E26: - | F26: - | G26: 15.9578 | H26: - | I26: -
B27: 20 | C27: Cent Eastern | D27: - | E27: - | F27: - | G27: 16.6578 | H27: - | I27: -
B28: 21 | C28: Oil Space | D28: - | E28: - | F28: 16.78 | G28: 14.84 | H28: - | I28: -
B29: 22 | C29: Coegan | D29: - | E29: - | F29: - | G29: 16.7574 | H29: - | I29: -
B30: 23 | C30: Compass Oleum | D30: 17.7 | E30: - | F30: 18.25 | G30: - | H30: - | I30: -
B31: 24 | C31: Davis Petroleum | D31: 15.59 | E31: - | F31: 17.26 | G31: 18.0078 | H31: - | I31: -
B32: 25 | C32: Dejon Jones | D32: 17.77 | E32: - | F32: 19.55 | G32: - | H32: - | I32: -
B33: 26 | C33: Dessert Oil | D33: 16.5 | E33: - | F33: 18 | G33: - | H33: - | I33: -
B34: 27 | C34: Dukes Petroleum | D34: 16.2 | E34: - | F34: 17.4 | G34: 15.8578 | H34: - | I34: -
B35: 28 | C35: Eden Petroleum | D35: 16.77 | E35: - | F35: 17.77 | G35: - | H35: - | I35: -
B36: 29 | C36: Energetic Petro gh | D36: 17.32 | E36: - | F36: 17.82 | G36: - | H36: - | I36: -
B37: 30 | C37: Ex Oil | D37: 17.7 | E37: - | F37: 18.25 | G37: - | H37: - | I37: -
B38: 31 | C38: EV Oil | D38: 16.5 | E38: - | F38: 17.77 | G38: - | H38: - | I38: -
B39: 32 | C39: E-Windstar | D39: 16.99 | F39: 18.26 | G39: - | H39: - | I39: -
B40: 33 | C40: Eza Petroleum | D40: 16.77 | E40: - | F40: 17.97 | G40: - | H40: - | I40: -
B41: 34 | C41: First Gas | D41: - | E41: - | F41: - | G41: 16.3789 | H41: - | I41: -
B42: 35 | C42: Finest Oil | D42: 16.77 | E42: - | F42: 17.77 | G42: - | H42: - | I42: -
B43: 36 | C43: Frimps Oil | D43: 16.77 | E43: - | F43: 17.77 | G43: 14.78 | H43: - | I43: -
B44: 37 | C44: Frontier Oil | D44: 16.45 | E44: - | F44: 17.69 | G44: - | H44: - | I44: -
B45: 38 | C45: Gab Energy | D45: 16.76 | E45: - | F45: 17.76 | G45: - | H45: - | I45: -
...

Sheet Ex-Pump Prices 22nd Sept 2026
B2: NATIONAL PETROLEUM AUTHORITY
B6: EX-PUMP PRICES OF OMCs/LPGMCs AS OF 22nd September 2026
B8: NO. | C8: COMPANY | D8: REGULAR PETROL - RON 91 (GHS/Lt) | E8: PREMIUM PETROL - RON 95 (GHS/Lt) | F8: DIESEL (GHS/Lt) | G8: LPG (GHS/Kg) | H8: KEROSENE (GHS/Lt) | I8: MGO Local (GHS/Lt)
B9: 1 | C9: Agapet | D9: 17.77 | E9: - | F9: 18.1 | G9: - | H9: - | I9: -
B10: 2 | C10: Aegis huile | D10: 16.49 | E10: - | F10: 17.99 | G10: - | H10: - | I10: -
B11: 3 | C11: AI Energy | D11: 16.99 | E11: - | F11: 17.99 | G11: - | H11: - | I11: -
B12: 4 | C12: Allied Oil | D12: 16.99 | E12: - | F12: 17.99 | G12: - | H12: - | I12: -
B13: 5 | C13: Alive Gas | D13: - | E13: - | F13: - | G13: 16.5578 | H13: - | I13: -
B14: 6 | C14: Aminaser Oil | D14: 14.5 | E14: - | F14: 16.69 | G14: - | H14: - | I14: -
B15: 7 | C15: Anasset | D15: - | E15: - | F15: - | G15: 16.7996 | H15: - | I15: -
B16: 8 | C16: Andev | D16: - | E16: - | F16: - | G16: 16.5578 | H16: - | I16: -
B17: 9 | C17: Annandale | D17: - | E17: - | F17: - | G17: 16.51 | H17: - | I17: -
B18: 11 | C18: Amdaway | D18: 16 | E18: - | F18: 16.97 | G18: - | H18: - | I18: -
B19: 12 | C19: Beap Energy | D19: 15.92 | E19: - | F19: 17 | G19: - | H19: - | I19: -
B20: 13 | C20: Benab Oil | D20: 16 | E20: - | F20: 17.75 | G20: 14.74 | H20: - | I20: -
B21: 14 | C21: Baffour Gas | D21: - | E21: - | F21: - | G21: 17.1589 | H21: - | I21: -
B22: 15 | C22: Bloom Petroleum | D22: 16.18 | E22: - | F22: 17.49 | G22: - | H22: - | I22: -
B23: 16 | C23: Breedlove Co. Ltd. | D23: 16.7 | E23: - | F23: 17.7 | G23: - | H23: - | I23: -
B24: 17 | C24: Brent Petroleum | D24: 16.97 | E24: - | F24: 17.97 | G24: - | H24: - | I24: -
B25: 18 | C25: Crown Petroleum | D25: 16.27 | E25: - | F25: 17.25 | G25: 17.6399 | H25: - | I25: -
B26: 19 | C26: Central Brent | D26: - | E26: - | F26: - | G26: 15.9578 | H26: - | I26: -
B27: 20 | C27: Cent Eastern | D27: - | E27: - | F27: - | G27: 16.6578 | H27: - | I27: -
B28: 21 | C28: Oil Space | D28: - | E28: - | F28: 16.78 | G28: 14.84 | H28: - | I28: -
B29: 22 | C29: Coegan | D29: - | E29: - | F29: - | G29: 16.7574 | H29: - | I29: -
B30: 23 | C30: Compass Oleum | D30: 17.7 | E30: - | F30: 18.25 | G30: - | H30: - | I30: -
B31: 24 | C31: Davis Petroleum | D31: 15.59 | E31: - | F31: 17.26 | G31: 18.0078 | H31: - | I31: -
B32: 25 | C32: Dejon Jones | D32: 17.77 | E32: - | F32: 19.55 | G32: - | H32: - | I32: -
B33: 26 | C33: Dessert Oil | D33: 16.5 | E33: - | F33: 18 | G33: - | H33: - | I33: -
B34: 27 | C34: Dukes Petroleum | D34: 16.2 | E34: - | F34: 17.4 | G34: 15.8578 | H34: - | I34: -
B35: 28 | C35: Eden Petroleum | D35: 16.77 | E35: - | F35: 17.77 | G35: - | H35: - | I35: -
B36: 29 | C36: Energetic Petro gh | D36: 17.32 | E36: - | F36: 17.82 | G36: - | H36: - | I36: -
B37: 30 | C37: Ex Oil | D37: 17.7 | E37: - | F37: 18.25 | G37: - | H37: - | I37: -
B38: 31 | C38: EV Oil | D38: 16.5 | E38: - | F38: 17.77 | G38: - | H38: - | I38: -
B39: 32 | C39: E-Windstar | D39: 16.99 | F39: 18.26 | G39: - | H39: - | I39: -
B40: 33 | C40: Eza Petroleum | D40: 16.77 | E40: - | F40: 17.97 | G40: - | H40: - | I40: -
B41: 34 | C41: First Gas | D41: - | E41: - | F41: - | G41: 16.3789 | H41: - | I41: -
B42: 35 | C42: Finest Oil | D42: 16.77 | E42: - | F42: 17.77 | G42: - | H42: - | I42: -
B43: 36 | C43: Frimps Oil | D43: 16.77 | E43: - | F43: 17.77 | G43: 14.78 | H43: - | I43: -
B44: 37 | C44: Frontier Oil | D44: 16.45 | E44: - | F44: 17.69 | G44: - | H44: - | I44: -
B45: 38 | C45: Gab Energy | D45: 16.76 | E45: - | F45: 17.76 | G45: - | H45: - | I45: -
...

Sheet Ex-Pump Prices 21st Sept 2026
B2: NATIONAL PETROLEUM AUTHORITY
B6: EX-PUMP PRICES OF OMCs/LPGMCs AS OF 21st September 2026
B8: NO. | C8: COMPANY | D8: REGULAR PETROL - RON 91 (GHS/Lt) | E8: PREMIUM PETROL - RON 95 (GHS/Lt) | F8: DIESEL (GHS/Lt) | G8: LPG (GHS/Kg) | H8: KEROSENE (GHS/Lt) | I8: MGO Local (GHS/Lt)
B9: 1 | C9: Agapet | D9: 17.77 | E9: - | F9: 18.1 | G9: - | H9: - | I9: -
B10: 2 | C10: Aegis huile | D10: 16.49 | E10: - | F10: 17.99 | G10: - | H10: - | I10: -
B11: 3 | C11: AI Energy | D11: 16.99 | E11: - | F11: 17.99 | G11: - | H11: - | I11: -
B12: 4 | C12: Allied Oil | D12: 16.77 | E12: - | F12: 17.77 | G12: - | H12: - | I12: -
B13: 5 | C13: Alive Gas | D13: - | E13: - | F13: - | G13: 16.5578 | H13: - | I13: -
B14: 6 | C14: Aminaser Oil | D14: 14.5 | E14: - | F14: 16.69 | G14: - | H14: - | I14: -
B15: 7 | C15: Anasset | D15: - | E15: - | F15: - | G15: 16.7996 | H15: - | I15: -
B16: 8 | C16: Andev | D16: - | E16: - | F16: - | G16: 16.5578 | H16: - | I16: -
B17: 9 | C17: Annandale | D17: - | E17: - | F17: - | G17: 16.51 | H17: - | I17: -
B18: 11 | C18: Amdaway | D18: 16 | E18: - | F18: 16.97 | G18: - | H18: - | I18: -
B19: 12 | C19: Beap Energy | D19: 15.92 | E19: - | F19: 17 | G19: - | H19: - | I19: -
B20: 13 | C20: Benab Oil | D20: 16 | E20: - | F20: 16.97 | G20: 14.74 | H20: - | I20: -
B21: 14 | C21: Baffour Gas | D21: - | E21: - | F21: - | G21: 17.1589 | H21: - | I21: -
B22: 15 | C22: Bloom Petroleum | D22: 16.18 | E22: - | F22: 17.49 | G22: - | H22: - | I22: -
B23: 16 | C23: Breedlove Co. Ltd. | D23: 16.7 | E23: - | F23: 17.7 | G23: - | H23: - | I23: -
B24: 17 | C24: Brent Petroleum | D24: 16.97 | E24: - | F24: 17.97 | G24: - | H24: - | I24: -
B25: 18 | C25: Crown Petroleum | D25: 16.27 | E25: - | F25: 17.25 | G25: 17.6399 | H25: - | I25: -
B26: 19 | C26: Central Brent | D26: - | E26: - | F26: - | G26: 15.9578 | H26: - | I26: -
B27: 20 | C27: Cent Eastern | D27: - | E27: - | F27: - | G27: 16.6578 | H27: - | I27: -
B28: 21 | C28: Oil Space | D28: - | E28: - | F28: 16.78 | G28: 14.84 | H28: - | I28: -
B29: 22 | C29: Coegan | D29: - | E29: - | F29: - | G29: 16.7574 | H29: - | I29: -
B30: 23 | C30: Compass Oleum | D30: 17.7 | E30: - | F30: 18.25 | G30: - | H30: - | I30: -
B31: 24 | C31: Davis Petroleum | D31: 15.59 | E31: - | F31: 17.26 | G31: 18.0078 | H31: - | I31: -
B32: 25 | C32: Dejon Jones | D32: 17.77 | E32: - | F32: 19.55 | G32: - | H32: - | I32: -
B33: 26 | C33: Dessert Oil | D33: 16.5 | E33: - | F33: 18 | G33: - | H33: - | I33: -
B34: 27 | C34: Dukes Petroleum | D34: 16.2 | E34: - | F34: 17.4 | G34: 15.8578 | H34: - | I34: -
B35: 28 | C35: Eden Petroleum | D35: 16.77 | E35: - | F35: 17.77 | G35: - | H35: - | I35: -
B36: 29 | C36: Energetic Petro gh | D36: 17.32 | E36: - | F36: 17.82 | G36: - | H36: - | I36: -
B37: 30 | C37: Ex Oil | D37: 17.7 | E37: - | F37: 18.25 | G37: - | H37: - | I37: -
B38: 31 | C38: EV Oil | D38: 16.5 | E38: - | F38: 17.77 | G38: - | H38: - | I38: -
B39: 32 | C39: E-Windstar | D39: 16.99 | F39: 18.26 | G39: - | H39: - | I39: -
B40: 33 | C40: Eza Petroleum | D40: 15.97 | E40: - | F40: 18.97 | G40: - | H40: - | I40: -
B41: 34 | C41: First Gas | D41: - | E41: - | F41: - | G41: 16.3789 | H41: - | I41: -
B42: 35 | C42: Finest Oil | D42: 16.77 | E42: - | F42: 17.77 | G42: - | H42: - | I42: -
B43: 36 | C43: Frimps Oil | D43: 16.77 | E43: - | F43: 17.77 | G43: 14.78 | H43: - | I43: -
B44: 37 | C44: Frontier Oil | D44: 16.45 | E44: - | F44: 17.69 | G44: - | H44: - | I44: -
B45: 38 | C45: Gab Energy | D45: 16.76 | E45: - | F45: 17.76 | G45: - | H45: - | I45: -
...

Sheet Ex-Pump Prices 18th Sept 2026
B2: NATIONAL PETROLEUM AUTHORITY
B6: EX-PUMP PRICES OF OMCs/LPGMCs AS OF 18th September 2026
B8: NO. | C8: COMPANY | D8: REGULAR PETROL - RON 91 (GHS/Lt) | E8: PREMIUM PETROL - RON 95 (GHS/Lt) | F8: DIESEL (GHS/Lt) | G8: LPG (GHS/Kg) | H8: KEROSENE (GHS/Lt) | I8: MGO Local (GHS/Lt)
B9: 1 | C9: Agapet | D9: 17.77 | E9: - | F9: 18.1 | G9: - | H9: - | I9: -
B10: 2 | C10: Aegis huile | D10: 16.49 | E10: - | F10: 17.99 | G10: - | H10: - | I10: -
B11: 3 | C11: AI Energy | D11: 16.99 | E11: - | F11: 17.99 | G11: - | H11: - | I11: -
B12: 4 | C12: Allied Oil | D12: 16.77 | E12: - | F12: 17.77 | G12: - | H12: - | I12: -
B13: 5 | C13: Alive Gas | D13: - | E13: - | F13: - | G13: 16.5578 | H13: - | I13: -
B14: 6 | C14: Aminaser Oil | D14: 14.5 | E14: - | F14: 16.69 | G14: - | H14: - | I14: -
B15: 7 | C15: Anasset | D15: - | E15: - | F15: - | G15: 16.6296 | H15: - | I15: -
B16: 8 | C16: Andev | D16: - | E16: - | F16: - | G16: 16.5578 | H16: - | I16: -
B17: 9 | C17: Annandale | D17: - | E17: - | F17: - | G17: 16.51 | H17: - | I17: -
B18: 11 | C18: Amdaway | D18: 16 | E18: - | F18: 16.97 | G18: - | H18: - | I18: -
B19: 12 | C19: Beap Energy | D19: 15.92 | E19: - | F19: 17 | G19: - | H19: - | I19: -
B20: 13 | C20: Benab Oil | D20: 16 | E20: - | F20: 16.97 | G20: 14.74 | H20: - | I20: -
B21: 14 | C21: Baffour Gas | D21: - | E21: - | F21: - | G21: 17.1589 | H21: - | I21: -
B22: 15 | C22: Bloom Petroleum | D22: 16.18 | E22: - | F22: 17.49 | G22: - | H22: - | I22: -
B23: 16 | C23: Breedlove Co. Ltd. | D23: 16.7 | E23: - | F23: 17.7 | G23: - | H23: - | I23: -
B24: 17 | C24: Brent Petroleum | D24: 16.97 | E24: - | F24: 17.97 | G24: - | H24: - | I24: -
B25: 18 | C25: Crown Petroleum | D25: 16.27 | E25: - | F25: 17.25 | G25: 17.6399 | H25: - | I25: -
B26: 19 | C26: Central Brent | D26: - | E26: - | F26: - | G26: 15.9578 | H26: - | I26: -
B27: 20 | C27: Cent Eastern | D27: - | E27: - | F27: - | G27: 16.6578 | H27: - | I27: -
B28: 21 | C28: Oil Space | D28: - | E28: - | F28: 16.78 | G28: 14.84 | H28: - | I28: -
B29: 22 | C29: Coegan | D29: - | E29: - | F29: - | G29: 16.7574 | H29: - | I29: -
B30: 23 | C30: Compass Oleum | D30: 17.7 | E30: - | F30: 18.25 | G30: - | H30: - | I30: -
B31: 24 | C31: Davis Petroleum | D31: 15.59 | E31: - | F31: 17.26 | G31: 18.0078 | H31: - | I31: -
B32: 25 | C32: Dejon Jones | D32: 17.77 | E32: - | F32: 19.55 | G32: - | H32: - | I32: -
B33: 26 | C33: Dessert Oil | D33: 16.5 | E33: - | F33: 18 | G33: - | H33: - | I33: -
B34: 27 | C34: Dukes Petroleum | D34: 16.2 | E34: - | F34: 17.4 | G34: 15.8578 | H34: - | I34: -
B35: 28 | C35: Eden Petroleum | D35: 16.77 | E35: - | F35: 17.77 | G35: - | H35: - | I35: -
B36: 29 | C36: Energetic Petro gh | D36: 17.32 | E36: - | F36: 17.82 | G36: - | H36: - | I36: -
B37: 30 | C37: Ex Oil | D37: 17.7 | E37: - | F37: 18.25 | G37: - | H37: - | I37: -
B38: 31 | C38: EV Oil | D38: 16.18 | E38: - | F38: 17.59 | G38: - | H38: - | I38: -
B39: 32 | C39: E-Windstar | D39: 16.99 | F39: 18.26 | G39: - | H39: - | I39: -
B40: 33 | C40: Eza Petroleum | D40: 15.97 | E40: - | F40: 18.97 | G40: - | H40: - | I40: -
B41: 34 | C41: First Gas | D41: - | E41: - | F41: - | G41: 16.3789 | H41: - | I41: -
B42: 35 | C42: Finest Oil | D42: 16.77 | E42: - | F42: 17.77 | G42: - | H42: - | I42: -
B43: 36 | C43: Frimps Oil | D43: 16.77 | E43: - | F43: 17.77 | G43: 14.78 | H43: - | I43: -
B44: 37 | C44: Frontier Oil | D44: 16.45 | E44: - | F44: 17.69 | G44: - | H44: - | I44: -
B45: 38 | C45: Gab Energy | D45: 15.42 | E45: - | F45: 17.25 | G45: - | H45: - | I45: -
...

Sheet Ex-Pump Prices 17th Sept 2026
B2: NATIONAL PETROLEUM AUTHORITY
B6: EX-PUMP PRICES OF OMCs/LPGMCs AS OF 17th September 2026
B8: NO. | C8: COMPANY | D8: REGULAR PETROL - RON 91 (GHS/Lt) | E8: PREMIUM PETROL - RON 95 (GHS/Lt) | F8: DIESEL (GHS/Lt) | G8: LPG (GHS/Kg) | H8: KEROSENE (GHS/Lt) | I8: MGO Local (GHS/Lt)
B9: 1 | C9: Agapet | D9: 17.77 | E9: - | F9: 18.1 | G9: - | H9: - | I9: -
B10: 2 | C10: Aegis huile | D10: 16.49 | E10: - | F10: 17.99 | G10: - | H10: - | I10: -
B11: 3 | C11: AI Energy | D11: 16.99 | E11: - | F11: 17.99 | G11: - | H11: - | I11: -
B12: 4 | C12: Allied Oil | D12: 16.77 | E12: - | F12: 17.77 | G12: - | H12: - | I12: -
B13: 5 | C13: Alive Gas | D13: - | E13: - | F13: - | G13: 16.4578 | H13: - | I13: -
B14: 6 | C14: Aminaser Oil | D14: 14.5 | E14: - | F14: 16.69 | G14: - | H14: - | I14: -
B15: 7 | C15: Anasset | D15: - | E15: - | F15: - | G15: 16.6296 | H15: - | I15: -
B16: 8 | C16: Andev | D16: - | E16: - | F16: - | G16: 16.5578 | H16: - | I16: -
B17: 9 | C17: Annandale | D17: - | E17: - | F17: - | G17: 16.51 | H17: - | I17: -
B18: 10 | C18: April Oil Ghana | D18: 14.7 | F18: 16.89
B19: 11 | C19: Amdaway | D19: 16 | E19: - | F19: 16.97 | G19: - | H19: - | I19: -
B20: 12 | C20: Beap Energy | D20: 15.92 | E20: - | F20: 17 | G20: - | H20: - | I20: -
B21: 13 | C21: Benab Oil | D21: 16 | E21: - | F21: 16.97 | G21: 14.74 | H21: - | I21: -
B22: 14 | C22: Baffour Gas | D22: - | E22: - | F22: - | G22: 17.1589 | H22: - | I22: -
B23: 15 | C23: Bloom Petroleum | D23: 16.18 | E23: - | F23: 17.49 | G23: - | H23: - | I23: -
B24: 16 | C24: Breedlove Co. Ltd. | D24: 16.7 | E24: - | F24: 17.7 | G24: - | H24: - | I24: -
B25: 17 | C25: Brent Petroleum | D25: 16.97 | E25: - | F25: 17.97 | G25: - | H25: - | I25: -
B26: 18 | C26: Crown Petroleum | D26: 16.27 | E26: - | F26: 17.25 | G26: 17.6399 | H26: - | I26: -
B27: 19 | C27: Central Brent | D27: - | E27: - | F27: - | G27: 15.9578 | H27: - | I27: -
B28: 20 | C28: Cent Eastern | D28: - | E28: - | F28: - | G28: 16.6578 | H28: - | I28: -
B29: 21 | C29: Oil Space | D29: - | E29: - | F29: 16.78 | G29: 14.84 | H29: - | I29: -
B30: 22 | C30: Coegan | D30: - | E30: - | F30: - | G30: 16.7574 | H30: - | I30: -
B31: 23 | C31: Compass Oleum | D31: 15.99 | E31: - | F31: 17.25 | G31: - | H31: - | I31: -
B32: 24 | C32: Davis Petroleum | D32: 15.59 | E32: - | F32: 17.26 | G32: 18.0078 | H32: - | I32: -
B33: 25 | C33: Dejon Jones | D33: 17.77 | E33: - | F33: 19.55 | G33: - | H33: - | I33: -
B34: 26 | C34: Dessert Oil | D34: 16.5 | E34: - | F34: 18 | G34: - | H34: - | I34: -
B35: 27 | C35: Dukes Petroleum | D35: 16.2 | E35: - | F35: 17.4 | G35: 15.8578 | H35: - | I35: -
B36: 28 | C36: Eden Petroleum | D36: 16.77 | E36: - | F36: 17.77 | G36: - | H36: - | I36: -
B37: 29 | C37: Energetic Petro gh | D37: 16.22 | E37: - | F37: 18.15 | G37: - | H37: - | I37: -
B38: 30 | C38: Ex Oil | D38: 15.6 | E38: - | F38: 16.95 | G38: - | H38: - | I38: -
B39: 31 | C39: EV Oil | D39: 16.18 | E39: - | F39: 17.59 | G39: - | H39: - | I39: -
B40: 32 | C40: E-Windstar | D40: 16.99 | F40: 18.26 | G40: - | H40: - | I40: -
B41: 33 | C41: Eza Petroleum | D41: 15.97 | E41: - | F41: 18.97 | G41: - | H41: - | I41: -
B42: 34 | C42: First Gas | D42: - | E42: - | F42: - | G42: 16.3789 | H42: - | I42: -
B43: 35 | C43: Finest Oil | D43: 16.77 | E43: - | F43: 17.77 | G43: - | H43: - | I43: -
B44: 36 | C44: Frimps Oil | D44: 16.77 | E44: - | F44: 17.77 | G44: 14.78 | H44: - | I44: -
B45: 37 | C45: Frontier Oil | D45: 16.45 | E45: - | F45: 17.69 | G45: - | H45: - | I45: -
...

Sheet Ex-Pump Prices 16th Sept 2026
B2: NATIONAL PETROLEUM AUTHORITY
B6: EX-PUMP PRICES OF OMCs/LPGMCs AS OF 16th September 2026
B8: NO. | C8: COMPANY | D8: REGULAR PETROL - RON 91 (GHS/Lt) | E8: PREMIUM PETROL - RON 95 (GHS/Lt) | F8: DIESEL (GHS/Lt) | G8: LPG (GHS/Kg) | H8: KEROSENE (GHS/Lt) | I8: MGO Local (GHS/Lt)
B9: 1 | C9: Agapet | D9: 16.87 | E9: - | F9: 17.3 | G9: - | H9: - | I9: -
B10: 2 | C10: Aegis huile | D10: 16.49 | E10: - | F10: 17.99 | G10: - | H10: - | I10: -
B11: 3 | C11: AI Energy | D11: 15.5 | E11: - | F11: 17.15 | G11: - | H11: - | I11: -
B12: 4 | C12: Allied Oil | D12: 16.9 | E12: - | F12: 17.9 | G12: - | H12: - | I12: -
B13: 5 | C13: Alive Gas | D13: - | E13: - | F13: - | G13: 16.4578 | H13: - | I13: -
B14: 6 | C14: Aminaser Oil | D14: 14.5 | E14: - | F14: 16.69 | G14: - | H14: - | I14: -
B15: 7 | C15: Anasset | D15: - | E15: - | F15: - | G15: 16.6296 | H15: - | I15: -
B16: 8 | C16: Andev | D16: - | E16: - | F16: - | G16: 16.3078 | H16: - | I16: -
B17: 9 | C17: Annandale | D17: - | E17: - | F17: - | G17: 16.51 | H17: - | I17: -
B18: 10 | C18: April Oil Ghana | D18: 14.7 | F18: 16.89
B19: 11 | C19: Amdaway | D19: 15.17 | E19: - | F19: 16.97 | G19: - | H19: - | I19: -
B20: 12 | C20: Beap Energy | D20: 15.92 | E20: - | F20: 17 | G20: - | H20: - | I20: -
B21: 13 | C21: Benab Oil | D21: 16 | E21: - | F21: 16.97 | G21: 14.74 | H21: - | I21: -
B22: 14 | C22: Baffour Gas | D22: - | E22: - | F22: - | G22: 17.1589 | H22: - | I22: -
B23: 15 | C23: Bloom Petroleum | D23: 16.18 | E23: - | F23: 17.49 | G23: - | H23: - | I23: -
B24: 16 | C24: Breedlove Co. Ltd. | D24: 15.99 | E24: - | F24: 17.15 | G24: - | H24: - | I24: -
B25: 17 | C25: Brent Petroleum | D25: 15.47 | E25: - | F25: 16.97 | G25: - | H25: - | I25: -
B26: 18 | C26: Crown Petroleum | D26: 16.27 | E26: - | F26: 17.25 | G26: 17.6399 | H26: - | I26: -
B27: 19 | C27: Central Brent | D27: - | E27: - | F27: - | G27: 15.9578 | H27: - | I27: -
B28: 20 | C28: Cent Eastern | D28: - | E28: - | F28: - | G28: 16.6578 | H28: - | I28: -
B29: 21 | C29: Oil Space | D29: - | E29: - | F29: 16.78 | G29: 14.84 | H29: - | I29: -
B30: 22 | C30: Coegan | D30: - | E30: - | F30: - | G30: 16.7574 | H30: - | I30: -
B31: 23 | C31: Compass Oleum | D31: 15.99 | E31: - | F31: 17.25 | G31: - | H31: - | I31: -
B32: 24 | C32: Davis Petroleum | D32: 15.59 | E32: - | F32: 17.26 | G32: 18.0078 | H32: - | I32: -
B33: 25 | C33: Dejon Jones | D33: 17.77 | E33: - | F33: 19.55 | G33: - | H33: - | I33: -
B34: 26 | C34: Dessert Oil | D34: 16.5 | E34: - | F34: 18 | G34: - | H34: - | I34: -
B35: 27 | C35: Dukes Petroleum | D35: 16.67 | E35: - | F35: 16.98 | G35: 15.6578 | H35: - | I35: -
B36: 28 | C36: Eden Petroleum | D36: 14.99 | E36: - | F36: 16.35 | G36: - | H36: - | I36: -
B37: 29 | C37: Energetic Petro gh | D37: 16.22 | E37: - | F37: 18.15 | G37: - | H37: - | I37: -
B38: 30 | C38: Ex Oil | D38: 15.6 | E38: - | F38: 16.95 | G38: - | H38: - | I38: -
B39: 31 | C39: EV Oil | D39: 16.18 | E39: - | F39: 17.59 | G39: - | H39: - | I39: -
B40: 32 | C40: E-Windstar | D40: 15.57 | F40: 17.3 | G40: - | H40: - | I40: -
B41: 33 | C41: Eza Petroleum | D41: 15.97 | E41: - | F41: 18.97 | G41: - | H41: - | I41: -
B42: 34 | C42: First Gas | D42: - | E42: - | F42: - | G42: 16.3789 | H42: - | I42: -
B43: 35 | C43: Finest Oil | D43: 16.77 | E43: - | F43: 17.77 | G43: - | H43: - | I43: -
B44: 36 | C44: Frimps Oil | D44: 16 | E44: - | F44: 17.1 | G44: 14.78 | H44: - | I44: -
B45: 37 | C45: Frontier Oil | D45: 15.43 | E45: - | F45: 17.2 | G45: - | H45: - | I45: -
...

Sheet Ex-Pump Prices 15th Sept 2026
B2: NATIONAL PETROLEUM AUTHORITY
B6: EX-PUMP PRICES OF OMCs/LPGMCs AS OF 15th September 2026
B8: NO. | C8: COMPANY | D8: REGULAR PETROL - RON 91 (GHS/Lt) | E8: PREMIUM PETROL - RON 95 (GHS/Lt) | F8: DIESEL (GHS/Lt) | G8: LPG (GHS/Kg) | H8: KEROSENE (GHS/Lt) | I8: MGO Local (GHS/Lt)
B9: 1 | C9: Agapet | D9: 16.87 | E9: - | F9: 17.3 | G9: - | H9: - | I9: -
B10: 2 | C10: Aegis huile | D10: 15.99 | E10: - | F10: 17.99 | G10: - | H10: - | I10: -
B11: 3 | C11: AI Energy | D11: 15.5 | E11: - | F11: 17.15 | G11: - | H11: - | I11: -
B12: 4 | C12: Allied Oil | D12: 15.4 | E12: - | F12: 17.25 | G12: - | H12: - | I12: -
B13: 5 | C13: Alive Gas | D13: - | E13: - | F13: - | G13: 16.4578 | H13: - | I13: -
B14: 6 | C14: Aminaser Oil | D14: 14.5 | E14: - | F14: 16.69 | G14: - | H14: - | I14: -
B15: 7 | C15: Anasset | D15: - | E15: - | F15: - | G15: 16.6296 | H15: - | I15: -
B16: 8 | C16: Andev | D16: - | E16: - | F16: - | G16: 16.3078 | H16: - | I16: -
B17: 9 | C17: Annandale | D17: - | E17: - | F17: - | G17: 16.51 | H17: - | I17: -
B18: 10 | C18: April Oil Ghana | D18: 14.7 | F18: 16.89
B19: 11 | C19: Amdaway | D19: 15.17 | E19: - | F19: 16.97 | G19: - | H19: - | I19: -
B20: 12 | C20: Beap Energy | D20: 15.92 | E20: - | F20: 17 | G20: - | H20: - | I20: -
B21: 13 | C21: Benab Oil | D21: 15.37 | E21: - | F21: 16.85 | G21: 14.74 | H21: - | I21: -
B22: 14 | C22: Baffour Gas | D22: - | E22: - | F22: - | G22: 17.1589 | H22: - | I22: -
B23: 15 | C23: Bloom Petroleum | D23: 16.18 | E23: - | F23: 17.49 | G23: - | H23: - | I23: -
B24: 16 | C24: Breedlove Co. Ltd. | D24: 15.99 | E24: - | F24: 17.15 | G24: - | H24: - | I24: -
B25: 17 | C25: Brent Petroleum | D25: 15.47 | E25: - | F25: 16.97 | G25: - | H25: - | I25: -
B26: 18 | C26: Crown Petroleum | D26: 16.27 | E26: - | F26: 17.25 | G26: 17.6399 | H26: - | I26: -
B27: 19 | C27: Central Brent | D27: - | E27: - | F27: - | G27: 15.9578 | H27: - | I27: -
B28: 20 | C28: Cent Eastern | D28: - | E28: - | F28: - | G28: 16.11 | H28: - | I28: -
B29: 21 | C29: Oil Space | D29: - | E29: - | F29: 16.78 | G29: 14.84 | H29: - | I29: -
B30: 22 | C30: Coegan | D30: - | E30: - | F30: - | G30: 16.7574 | H30: - | I30: -
B31: 23 | C31: Compass Oleum | D31: 15.99 | E31: - | F31: 17.25 | G31: - | H31: - | I31: -
B32: 24 | C32: Davis Petroleum | D32: 15.59 | E32: - | F32: 17.26 | G32: 18.0078 | H32: - | I32: -
B33: 25 | C33: Dejon Jones | D33: 16.37 | E33: - | F33: 17.45 | G33: - | H33: - | I33: -
B34: 26 | C34: Dessert Oil | D34: 16.5 | E34: - | F34: 18 | G34: - | H34: - | I34: -
B35: 27 | C35: Dukes Petroleum | D35: 15.37 | E35: - | F35: 16.98 | G35: 15.6578 | H35: - | I35: -
B36: 28 | C36: Eden Petroleum | D36: 14.99 | E36: - | F36: 16.35 | G36: - | H36: - | I36: -
B37: 29 | C37: Energetic Petro gh | D37: 16.22 | E37: - | F37: 18.15 | G37: - | H37: - | I37: -
